BEGIN:VCALENDAR
VERSION:2.0
PRODID:-//Kommunale Koordinierung - ECPv6.15.20//NONSGML v1.0//EN
CALSCALE:GREGORIAN
METHOD:PUBLISH
X-ORIGINAL-URL:https://www.kommunale-koordinierung.com
X-WR-CALDESC:Veranstaltungen für Kommunale Koordinierung
REFRESH-INTERVAL;VALUE=DURATION:PT1H
X-Robots-Tag:noindex
X-PUBLISHED-TTL:PT1H
BEGIN:VTIMEZONE
TZID:Europe/Berlin
BEGIN:DAYLIGHT
TZOFFSETFROM:+0100
TZOFFSETTO:+0200
TZNAME:CEST
DTSTART:20240331T010000
END:DAYLIGHT
BEGIN:STANDARD
TZOFFSETFROM:+0200
TZOFFSETTO:+0100
TZNAME:CET
DTSTART:20241027T010000
END:STANDARD
BEGIN:DAYLIGHT
TZOFFSETFROM:+0100
TZOFFSETTO:+0200
TZNAME:CEST
DTSTART:20250330T010000
END:DAYLIGHT
BEGIN:STANDARD
TZOFFSETFROM:+0200
TZOFFSETTO:+0100
TZNAME:CET
DTSTART:20251026T010000
END:STANDARD
BEGIN:DAYLIGHT
TZOFFSETFROM:+0100
TZOFFSETTO:+0200
TZNAME:CEST
DTSTART:20260329T010000
END:DAYLIGHT
BEGIN:STANDARD
TZOFFSETFROM:+0200
TZOFFSETTO:+0100
TZNAME:CET
DTSTART:20261025T010000
END:STANDARD
END:VTIMEZONE
BEGIN:VEVENT
DTSTART;TZID=Europe/Berlin:20250505T170000
DTEND;TZID=Europe/Berlin:20250505T180000
DTSTAMP:20260421T103643
CREATED:20250127T094422Z
LAST-MODIFIED:20250127T095111Z
UID:50289-1746464400-1746468000@www.kommunale-koordinierung.com
SUMMARY:Infoveranstaltung zum Freiwilligendienst
DESCRIPTION:Wir bieten jungen Menschen im gesamten Erzbistum Köln die Möglichkeit ein Freiwilliges Soziales Jahr (FSJ) oder Bundesfreiwilligendienst (BFD) zu leisten. Der Freiwilligendienst ist eine gute Möglichkeit\, die Zeit nach der Schule wertvoll und sinnstiftend zu gestalten. \nWir möchten Sie und Ihre Schüler*innen herzlich zu unseren regelmäßig online stattfindenden Infoveranstaltungen einladen. Hier informieren wir Sie umfassend und persönlich über die Rahmenbedingungen des Freiwilligendienstes und seine Vorteile. Die Veranstaltungen finden jeden ersten Montag im Monat um 17 Uhr statt und dauern ca. eine Stunde. Alternativ können wir gerne auch einen individuellen Termin vereinbaren. Für die Anmeldung oder für Rückfragen nehmen Sie gerne Kontakt zu unserer Bildungsreferentin Frau Mels auf: mels@fsd-koeln.de oder 0221/ 47 44 13-28. \nhttps://eveeno.com/infoveranstaltung_zum_freiwilligendienst
URL:https://www.kommunale-koordinierung.com/event/infoveranstaltung-zum-freiwilligendienst-4/
LOCATION:Online
CATEGORIES:Berufliche Orientierung,Eltern & Teens
END:VEVENT
BEGIN:VEVENT
DTSTART;TZID=Europe/Berlin:20250506T140000
DTEND;TZID=Europe/Berlin:20250506T160000
DTSTAMP:20260421T103643
CREATED:20230117T081011Z
LAST-MODIFIED:20250206T111937Z
UID:41916-1746540000-1746547200@www.kommunale-koordinierung.com
SUMMARY:Lehrkräfte-Workshop zum Erlebnisparcours "komm auf Tour"
DESCRIPTION:Die Veranstaltung richtet sich an alle Lehrkräfte der 7. Klassen (Klasse 7/8 an Förderschulen)\, die ihre Klasse zum Erlebnisparcours „komm auf Tour – meine Stärken\, meine Zukunft“ angemeldet haben. \nInhalte der Veranstaltung u. a.:\n– Ziele und Inhalte des Parcours\n– Vorstellung des Materialpakets\n– Vor- und Nachbereitung von „komm auf Tour“ in der Schule \nOrt:\nDer Workshop findet im BiZ der Agentur für Arbeit\, Grafenberger Allee 300 statt (Erdgeschoss\, hinten rechts\, Raum 1). \nBitte melden Sie sich hier für die Veranstaltung an: \n\n \n\n\n\nVorname *\n\n\nNachname *\n\n\n\n\nSchule/Institution *\n\n\n\n\nKlassenleitung/Begleitung von Klasse *\n\n\n\n\nE-Mail Adresse *\n\n\n\n\nGDPR *Ja\, ich bin mit den Datenschutzbestimmungen einverstanden.\n\n\n \n\n\nNachricht senden
URL:https://www.kommunale-koordinierung.com/event/lehrkraefte-workshop-komm-auf-tour/
LOCATION:Agentur für Arbeit Düsseldorf\, Grafenberger Allee 300\, Düsseldorf\, 40237
CATEGORIES:Berufliche Orientierung,Schulen
END:VEVENT
BEGIN:VEVENT
DTSTART;TZID=Europe/Berlin:20250506T140000
DTEND;TZID=Europe/Berlin:20250506T160000
DTSTAMP:20260421T103644
CREATED:20250205T103218Z
LAST-MODIFIED:20250205T103301Z
UID:50353-1746540000-1746547200@www.kommunale-koordinierung.com
SUMMARY:Lehrkräfte-Workshop zum Erlebnisparcours "komm auf Tour" 2025
DESCRIPTION:Die Veranstaltung richtet sich an alle Lehrkräfte/ Schulsozialarbeiter*innen der 7. Klassen (Klasse 7/8 an Förderschulen)\, die ihre Klasse zum Erlebnisparcours „komm auf Tour – meine Stärken\, meine Zukunft“ angemeldet haben. \nInhalte der Veranstaltung u. a.:\n– Ziele und Inhalte des Parcours\n– Vorstellung des Materialpakets\n– Vor- und Nachbereitung von „komm auf Tour“ in der Schule \nOrt:\nDer Workshop findet im BiZ der Agentur für Arbeit\, Grafenberger Allee 300 statt (Erdgeschoss\, hinten rechts\, Raum 1). \nBitte melden Sie sich hier für die Veranstaltung an: \n\n \n\n\n\nVorname *\n\n\nNachname *\n\n\n\n\nSchule/Institution *\n\n\n\n\nKlassenleitung/Begleitung von Klasse *\n\n\n\n\nE-Mail Adresse *\n\n\n\n\nGDPR *Ja\, ich bin mit den Datenschutzbestimmungen einverstanden.\n\n\n \n\n\nNachricht senden
URL:https://www.kommunale-koordinierung.com/event/lehrkraefte-workshop-zum-erlebnisparcours-komm-auf-tour-2025/
LOCATION:B.i.Z.\, Agentur für Arbeit Düsseldorf\, Grafenberger Allee 300\, Düsseldorf\, 40237\, Deutschland
CATEGORIES:Lehrkräfte,Schulen
END:VEVENT
BEGIN:VEVENT
DTSTART;TZID=Europe/Berlin:20250507T100000
DTEND;TZID=Europe/Berlin:20250507T113000
DTSTAMP:20260421T103645
CREATED:20250210T124408Z
LAST-MODIFIED:20250210T124408Z
UID:50374-1746612000-1746617400@www.kommunale-koordinierung.com
SUMMARY:digitaler Kooperationspartner-Workshop zu "komm auf Tour"
DESCRIPTION:Die Veranstaltung richtet sich an Kooperationspartner*innen\, die die Durchführung des Erlebnisparcours „komm auf Tour – meine Stärken\, meine Zukunft“ vom 03.-06. Juni 2025 als „Reisebegleitung“ oder im Lehrkräfte-Service unterstützen. \nInhalte der Veranstaltung werden u. a. sein:\n– Inhalte und Ziele von „komm auf Tour“\n– Organisation und Ablauf\n– Ihre Aufgaben im Parcours\n– Handreichung mit Ihren Angeboten für Schulen \nBitte melden Sie sich hier zu der Veranstaltung an. Mit der Anmeldung erhalten Sie den Einwahllink zum Workshop. \n\n \n\n\n\nVorname *\n\n\nNachname *\n\n\n\n\nInstitution *\n\n\n\n\nE-Mail Adresse *\n\n\n\n\nGDPR *Ja\, ich bin mit den Datenschutzbestimmungen einverstanden.\n\n\n\n\n\n \n\n \n\n\nNachricht senden
URL:https://www.kommunale-koordinierung.com/event/digitaler-kooperationspartner-workshop-zu-komm-auf-tour/
LOCATION:Online
CATEGORIES:Berufliche Orientierung,Mit Anmeldung
END:VEVENT
BEGIN:VEVENT
DTSTART;TZID=Europe/Berlin:20250510T093000
DTEND;TZID=Europe/Berlin:20250510T160000
DTSTAMP:20260421T103646
CREATED:20240823T085845Z
LAST-MODIFIED:20240823T090008Z
UID:48969-1746869400-1746892800@www.kommunale-koordinierung.com
SUMMARY:Bachelor Messe Düsseldorf 2025
DESCRIPTION:Information des Veranstalters: Die Messe BACHELOR AND MORE Düsseldorf ist eine Studienwahlmesse und Informationsveranstaltung zum Thema Bachelor-Studium und richtet sich an Schüler*innen\, Abiturient*innen und Studieninteressente. \nZahlreiche nationale und internationale Hochschulen präsentieren sich auf der BACHELOR AND MORE Messe Düsseldorf mit aktuellen Angeboten und Informationen über ihre Bachelor-Studiengänge aus unterschiedlichen Fachbereichen. \nEine Vielzahl an Vorträgen von Experten und Hochschulen zu Themen wie Auswahlstrategien für den richtigen Bachelor\, Bachelor-Studium im Ausland\, die richtige Finanzierung oder auch Informationen zu Einstiegsgehältern runden das Angebot für Besucher auf der BACHELOR AND MORE Messe in Düsseldorf ab. \nWeitere Infos unter:\nwww.bachelormessen.de/duesseldorf
URL:https://www.kommunale-koordinierung.com/event/bachelor-messe-duesseldorf-2025/
LOCATION:The Frame\, Reisholzer Werftstraße 43\, Düsseldorf\, 40589
CATEGORIES:Eltern & Teens,Studienorientierung
END:VEVENT
BEGIN:VEVENT
DTSTART;TZID=Europe/Berlin:20250513T120000
DTEND;TZID=Europe/Berlin:20250513T160000
DTSTAMP:20260421T103646
CREATED:20240823T080904Z
LAST-MODIFIED:20240823T080904Z
UID:48957-1747137600-1747152000@www.kommunale-koordinierung.com
SUMMARY:Azubi-Speed-Dating der IHK in Ratingen
DESCRIPTION:Bei den Azubi-Speed-Datings stellen sich Jugendliche in zehn Minuten bei einem Unternehmen ihrer Wahl vor und präsentieren ihre Stärken. Der persönliche Eindruck zählt mehr als Noten und Abschlüsse. So überzeugen sie den Ausbilder oder Personaler beim Azubi-Speed-Dating von ihrer Eignung. \nWenn es gut läuft\, kommt es zum „Recall“ und der Jugendliche wird zu einem Bewerbungsgespräch oder Test ins Unternehmen eingeladen und unterschreibt im besten Fall nur wenige Tage oder Wochen nach dem Azubi-Speed-Dating einen Ausbildungsvertrag. \nWeitere Informationen:\nwww.ihk.de/duesseldorf/ausbildung/ausbildungsplatzsuche/azubi-speed-dating-2596294
URL:https://www.kommunale-koordinierung.com/event/azubi-speed-dating-der-ihk-in-ratingen/
LOCATION:Stadthalle Ratingen\, Schützenstraße 1\, Ratingen\, 40878
CATEGORIES:Ausbildung,Berufliche Orientierung,BO mit Förderbedarf,Eltern & Teens,Lehrkräfte,StuBo-Arbeitskreis,StuBos,Studienorientierung
END:VEVENT
BEGIN:VEVENT
DTSTART;TZID=Europe/Berlin:20250514T093000
DTEND;TZID=Europe/Berlin:20250514T123000
DTSTAMP:20260421T103646
CREATED:20240815T080212Z
LAST-MODIFIED:20241028T085319Z
UID:48857-1747215000-1747225800@www.kommunale-koordinierung.com
SUMMARY:Offene Sprechstunde der Reha-Beratung am 14.05.
DESCRIPTION:Die Agentur für Arbeit Düsseldorf bietet für Jugendliche mit besonderem Förderbedarf\, zusätzlich zur bekannten allgemeinen Berufsberatung\, die Beratung durch speziell geschulte Reha-Berufsberater*innen an. \nDie offene Sprechstunde der Reha-Beratung findet jeden zweiten Mittwoch im Monat von 09:30-12:30 Uhr im Zentrum für Berufsorientierung und Übergänge\, 4. Etage\, rechter Flur\, statt. \nEltern\, Lehrkräfte und Schüler*innen können ohne Anmeldung vorbeikommen und sich vom Reha-Beratungsteam der Agentur für Arbeit beraten lassen. \nBeim Besuch mit einer Gruppe von bis zu 5 Schüler*innen mit Begleitung bitten wir um eine Voranmeldung. \nFür Rückfragen steht Ihnen Frau Frost gern zur Verfügung! \nKontakt Reha-Beratung:\nAgentur für Arbeit Düsseldorf – Team Reha/SB\nDuesseldorf.261-Reha@arbeitsagentur.de
URL:https://www.kommunale-koordinierung.com/event/offene-sprechstunde-der-reha-beratung-am-14-05/
LOCATION:ZBÜ\, Willi-Becker-Allee 10\, Düsseldorf\, 40227\, Deutschland
CATEGORIES:Berufliche Orientierung,BO mit Förderbedarf
END:VEVENT
BEGIN:VEVENT
DTSTART;TZID=Europe/Berlin:20250514T140000
DTEND;TZID=Europe/Berlin:20250514T160000
DTSTAMP:20260421T103646
CREATED:20250410T100019Z
LAST-MODIFIED:20250410T110718Z
UID:50612-1747231200-1747238400@www.kommunale-koordinierung.com
SUMMARY:StuBo-Arbeitskreis der Hauptschulen und Förderschulen (LE u. ESE) am 14.05.
DESCRIPTION:Alle Düsseldorfer Hauptschulen und Förderschulen mit dem Schwerpunkt LE und ESE sind herzlich zum nächsten StuBo-Arbeitskreis eingeladen! \nOrt:\nStiftung PRO Ausbildung\nAchenbachstr. 28\n40237 Düsseldorf \nOffizielle Einladung \nBitte melden Sie sich unten für die Veranstaltung an. \nBei Fragen oder Anmerkungen wenden Sie sich bitte an:\nTeresa Zabori\nTelefon: 0211 8998977\nE-Mail: teresa.zabori@duesseldorf.de \nDer Arbeitskreis ist eine gemeinsame Veranstaltung der Kommunalen Koordinierung Düsseldorf und der Schulaufsicht der Landeshauptstadt Düsseldorf. \n\n \n\n\n\nVorname *\n\n\nNachname *\n\n\n\n\nSchule/Institution *\n\n\n\n\nE-Mail Adresse *\n\n\n\n\nGDPR *Ja\, ich bin mit den Datenschutzbestimmungen einverstanden.\n\n\n\n\n\n \n\n \n\n\nNachricht senden
URL:https://www.kommunale-koordinierung.com/event/stubo-arbeitskreis-der-hauptschulen-und-foerderschulen-le-u-ese-am-14-05/
LOCATION:Stiftung PRO AUSBILDUNG\, Achenbachstr. 28\, Düsseldorf\, 40237
CATEGORIES:StuBo-Arbeitskreis,StuBos
END:VEVENT
BEGIN:VEVENT
DTSTART;TZID=Europe/Berlin:20250514T190000
DTEND;TZID=Europe/Berlin:20250514T200000
DTSTAMP:20260421T103646
CREATED:20250512T114423Z
LAST-MODIFIED:20250512T114540Z
UID:50730-1747249200-1747252800@www.kommunale-koordinierung.com
SUMMARY:Ringvorlesungen am Fachbereich Design HSD
DESCRIPTION:Die Ringvorlesungen On/Off Design ermöglichen einen breiten Einblick in verschiedene Design-Themen. Sie sind nicht nur für Studierende geöffnet\, sondern für alle\, die sich für Design interessieren. Die Vorträge finden mittwochabends ab 19 Uhr im Atrium von Gebäude 6 statt und können ohne Voranmeldung besucht werden.​ Ein Besuch lohnt sich! \nWeitere Infos: Ringvorlesungen am Fachbereich Design
URL:https://www.kommunale-koordinierung.com/event/ringvorlesungen-am-fachbereich-design/
LOCATION:Hochschule Düsseldorf\, Münsterstraße 156\, 40476 Düsseldorf\, Deutschland
CATEGORIES:Eltern & Teens,Studienorientierung
ORGANIZER;CN="Hochschule D%C3%BCsseldorf":MAILTO:https://www.hs-duesseldorf.de/studium/beratung_und_kontakt/studienberatung/beratungsgmoeglichkeiten-studienberatung
END:VEVENT
BEGIN:VEVENT
DTSTART;TZID=Europe/Berlin:20250515T160000
DTEND;TZID=Europe/Berlin:20250515T170000
DTSTAMP:20260421T103646
CREATED:20250424T081304Z
LAST-MODIFIED:20250424T081304Z
UID:50648-1747324800-1747328400@www.kommunale-koordinierung.com
SUMMARY:Möge die ZSB mit dir sein
DESCRIPTION:Am 15. Mai veranstaltet die Hochschule Düsseldrof zwischen 16 und 17 Uhr eine Onlineveranstaltung. Hier finden Sie ein vielfältiges Programm\, das Ihnen die Hochschule Düsseldorf\, einzelne Studiengänge\, Bewerbungsprozesse und andere relevante Themen in verschiedenen Vorträgen näherbringt. Auch Gruppenberatungen  und Studibotschafterinterviews und Führungen finden hier ihren Platz.​ \nFür weitere Informationen klicken Sie hier.
URL:https://www.kommunale-koordinierung.com/event/moege-die-zsb-mit-dir-sein/
LOCATION:Online
CATEGORIES:Ausbildung,Berufliche Orientierung,Eltern & Teens
ORGANIZER;CN="Hochschule D%C3%BCsseldorf":MAILTO:https://www.hs-duesseldorf.de/studium/beratung_und_kontakt/studienberatung/beratungsgmoeglichkeiten-studienberatung
END:VEVENT
BEGIN:VEVENT
DTSTART;TZID=Europe/Berlin:20250520T083000
DTEND;TZID=Europe/Berlin:20250520T144000
DTSTAMP:20260421T103646
CREATED:20240823T090730Z
LAST-MODIFIED:20240823T090730Z
UID:48972-1747729800-1747752000@www.kommunale-koordinierung.com
SUMMARY:Vocatium Düsseldorf 2025
DESCRIPTION:Informiere dich über Ausbildung\, Studium\, Praktikum und vieles mehr bei der Vocatium 2025! \nDas vocatium-Profil im Überblick: \n\nPräsenzmesse mit angemeldeten Schüler*innen / terminierte Messegespräche\nVorträge von Ausstellern\n\nWeitere Informationen unter:\nwww.vocatium.de/fachmessen/vocatium-duesseldorf-2025
URL:https://www.kommunale-koordinierung.com/event/vocatium-duesseldorf-2025/
LOCATION:Mitsubishi Electric Halle\, Siegburger Str. 15\, Düsseldorf\, 40591\, Deutschland
CATEGORIES:Ausbildung,Berufliche Orientierung,Eltern & Teens,Messe,Studienorientierung,Unternehmen
END:VEVENT
BEGIN:VEVENT
DTSTART;TZID=Europe/Berlin:20250521T083000
DTEND;TZID=Europe/Berlin:20250521T144000
DTSTAMP:20260421T103646
CREATED:20240823T090831Z
LAST-MODIFIED:20240823T090831Z
UID:48974-1747816200-1747838400@www.kommunale-koordinierung.com
SUMMARY:Vocatium Düsseldorf 2025
DESCRIPTION:Informiere dich über Ausbildung\, Studium\, Praktikum und vieles mehr bei der Vocatium 2025! \nDas vocatium-Profil im Überblick: \n\nPräsenzmesse mit angemeldeten Schüler*innen / terminierte Messegespräche\nVorträge von Ausstellern\n\nWeitere Informationen unter:\nwww.vocatium.de/fachmessen/vocatium-duesseldorf-2025
URL:https://www.kommunale-koordinierung.com/event/vocatium-duesseldorf-2025-2/
LOCATION:Mitsubishi Electric Halle\, Siegburger Str. 15\, Düsseldorf\, 40591\, Deutschland
CATEGORIES:Ausbildung,Berufliche Orientierung,Eltern & Teens,Studienorientierung,Unternehmen
END:VEVENT
BEGIN:VEVENT
DTSTART;TZID=Europe/Berlin:20250521T140000
DTEND;TZID=Europe/Berlin:20250521T160000
DTSTAMP:20260421T103646
CREATED:20250416T093703Z
LAST-MODIFIED:20250428T075916Z
UID:50631-1747836000-1747843200@www.kommunale-koordinierung.com
SUMMARY:StuBo-Arbeitskreis der Gesamtschulen am 21.05.25
DESCRIPTION:Alle Düsseldorfer Gesamtschulen sind herzlich zur nächsten Arbeitskreissitzung eingeladen. \nOrt:\nStiftung PRO Ausbildung\nAchenbachstr. 28\n40237 Düsseldorf \nBitte melden Sie sich unten für die Veranstaltung an. \nOffizielle Einladung \nBei Fragen oder Anmerkungen wenden Sie sich bitte an:\nYasemin Kurre\nTelefon: 0211-66908-34\nE-Mail: kurre@unternehmerschaft.de \nDer Arbeitskreis ist eine gemeinsame Veranstaltung der Kommunalen Koordinierung Düsseldorf und der Schulaufsicht der Landeshauptstadt Düsseldorf. \n\n \n\n\n\nVorname *\n\n\nNachname *\n\n\n\n\nSchule/Institution *\n\n\n\n\nE-Mail Adresse *\n\n\n\n\nGDPR *Ja\, ich bin mit den Datenschutzbestimmungen einverstanden.\n\n\n\n\n\n \n\n \n\n\nNachricht senden
URL:https://www.kommunale-koordinierung.com/event/stubo-arbeitskreis-der-gesamtschulen-am-21-05-25/
LOCATION:Achenbachstr. 28\, 40237 Düsseldorf\, Achenbachstr. 28\, Düsseldorf\, 40237\, Deutschland
CATEGORIES:StuBo-Arbeitskreis
END:VEVENT
BEGIN:VEVENT
DTSTART;TZID=Europe/Berlin:20250523T143000
DTEND;TZID=Europe/Berlin:20250523T180000
DTSTAMP:20260421T103647
CREATED:20250225T090233Z
LAST-MODIFIED:20250225T124044Z
UID:50405-1748010600-1748023200@www.kommunale-koordinierung.com
SUMMARY:Perspektiventag 2025 - Jobmesse der Diakonie Düsseldorf
DESCRIPTION:Bei unserer Jobmesse möchten wir Euch Einblicke in unsere vielfältige Arbeit bieten. An diesem Tag habt ihr die Möglichkeit auf Job-Speed-Datings\, Möglichkeiten zum persönlichen Gespräch und vieles mehr. Danach gibt es einen Ausklang beim gemeinsamen Barbecue. \nDer Eintritt ist frei\, eine Anmeldung ist nicht erforderlich. \nWir freuen uns auf Euch! \nWeitere Infos gibt es hier.
URL:https://www.kommunale-koordinierung.com/event/perspektiventag-2025-jobmesse-der-diakonie-duesseldorf/
LOCATION:Platz der Diakonie\, Platz der Diakonie\, Düsseldorf\, 40233
CATEGORIES:Ausbildung,Berufliche Orientierung,Eltern & Teens
END:VEVENT
BEGIN:VEVENT
DTSTART;TZID=Europe/Berlin:20250527T140000
DTEND;TZID=Europe/Berlin:20250527T160000
DTSTAMP:20260421T103647
CREATED:20240823T100454Z
LAST-MODIFIED:20240823T100454Z
UID:48997-1748354400-1748361600@www.kommunale-koordinierung.com
SUMMARY:HSD-Studienwahlworkshop
DESCRIPTION:Weitere Informationen gibt es unter:\nwww.hs-duesseldorf.de/studium/beratung_und_kontakt/studienberatung/studieninteressierte/veranstaltungen-workshops
URL:https://www.kommunale-koordinierung.com/event/hsd-studienwahlworkshop-2/
LOCATION:Hochschule Düsseldorf\, Münsterstraße 156\, 40476 Düsseldorf\, Deutschland
CATEGORIES:Eltern & Teens,Studienorientierung
END:VEVENT
BEGIN:VEVENT
DTSTART;TZID=Europe/Berlin:20250528T170000
DTEND;TZID=Europe/Berlin:20250528T190000
DTSTAMP:20260421T103647
CREATED:20250424T101824Z
LAST-MODIFIED:20250424T101824Z
UID:50671-1748451600-1748458800@www.kommunale-koordinierung.com
SUMMARY:Elternabend gemeinsam mit der Elternschaft Düsseldorfer Schulen
DESCRIPTION:Wie unterstütze ich mein Kind bei der Studien- und Berufswahl? – Veranstaltung in Kooperation mit der Elternschaft Düsseldorfer Schulen. Ihr Kind steht kurz vor dem Schulabschluss und Sie möchten es gerne bei der Wahl des Berufes oder des Studiums unterstützen? Als Eltern sind Sie die ersten Ansprechpartner für Ihre Kinder\, wenn es um die Planung von deren Zukunft geht. \nWeitere Informationen erhalten Sie hier.
URL:https://www.kommunale-koordinierung.com/event/elternabend-gemeinsam-mit-der-elternschaft-duesseldorfer-schulen/
LOCATION:Beratungscenter der Agentur für Arbeit (BIZ)\, Grafenberger Allee 300\, Düsseldorf\, NRW\, 40237\, Germany
CATEGORIES:Ausbildung,Berufliche Orientierung,Eltern & Teens,Studienorientierung
END:VEVENT
END:VCALENDAR