BEGIN:VCALENDAR
VERSION:2.0
PRODID:-//Kommunale Koordinierung - ECPv6.15.20//NONSGML v1.0//EN
CALSCALE:GREGORIAN
METHOD:PUBLISH
X-WR-CALNAME:Kommunale Koordinierung
X-ORIGINAL-URL:https://www.kommunale-koordinierung.com
X-WR-CALDESC:Veranstaltungen für Kommunale Koordinierung
REFRESH-INTERVAL;VALUE=DURATION:PT1H
X-Robots-Tag:noindex
X-PUBLISHED-TTL:PT1H
BEGIN:VTIMEZONE
TZID:Europe/Berlin
BEGIN:DAYLIGHT
TZOFFSETFROM:+0100
TZOFFSETTO:+0200
TZNAME:CEST
DTSTART:20240331T010000
END:DAYLIGHT
BEGIN:STANDARD
TZOFFSETFROM:+0200
TZOFFSETTO:+0100
TZNAME:CET
DTSTART:20241027T010000
END:STANDARD
BEGIN:DAYLIGHT
TZOFFSETFROM:+0100
TZOFFSETTO:+0200
TZNAME:CEST
DTSTART:20250330T010000
END:DAYLIGHT
BEGIN:STANDARD
TZOFFSETFROM:+0200
TZOFFSETTO:+0100
TZNAME:CET
DTSTART:20251026T010000
END:STANDARD
BEGIN:DAYLIGHT
TZOFFSETFROM:+0100
TZOFFSETTO:+0200
TZNAME:CEST
DTSTART:20260329T010000
END:DAYLIGHT
BEGIN:STANDARD
TZOFFSETFROM:+0200
TZOFFSETTO:+0100
TZNAME:CET
DTSTART:20261025T010000
END:STANDARD
END:VTIMEZONE
BEGIN:VEVENT
DTSTART;TZID=Europe/Berlin:20250303T170000
DTEND;TZID=Europe/Berlin:20250303T180000
DTSTAMP:20260421T140804
CREATED:20250127T094221Z
LAST-MODIFIED:20250127T094941Z
UID:50285-1741021200-1741024800@www.kommunale-koordinierung.com
SUMMARY:Infoveranstaltung zum Freiwilligendienst
DESCRIPTION:Wir bieten jungen Menschen im gesamten Erzbistum Köln die Möglichkeit ein Freiwilliges Soziales Jahr (FSJ) oder Bundesfreiwilligendienst (BFD) zu leisten. Der Freiwilligendienst ist eine gute Möglichkeit\, die Zeit nach der Schule wertvoll und sinnstiftend zu gestalten. \nWir möchten Sie und Ihre Schüler*innen herzlich zu unseren regelmäßig online stattfindenden Infoveranstaltungen einladen. Hier informieren wir Sie umfassend und persönlich über die Rahmenbedingungen des Freiwilligendienstes und seine Vorteile. Die Veranstaltungen finden jeden ersten Montag im Monat um 17 Uhr statt und dauern ca. eine Stunde. Alternativ können wir gerne auch einen individuellen Termin vereinbaren. Für die Anmeldung oder für Rückfragen nehmen Sie gerne Kontakt zu unserer Bildungsreferentin Frau Mels auf: mels@fsd-koeln.de oder 0221/ 47 44 13-28. \nhttps://eveeno.com/infoveranstaltung_zum_freiwilligendienst
URL:https://www.kommunale-koordinierung.com/event/infoveranstaltung-zum-freiwilligendienst-2/
LOCATION:Online
CATEGORIES:Berufliche Orientierung,Eltern & Teens
END:VEVENT
BEGIN:VEVENT
DTSTART;TZID=Europe/Berlin:20250306T180000
DTEND;TZID=Europe/Berlin:20250306T190000
DTSTAMP:20260421T140804
CREATED:20241210T143111Z
LAST-MODIFIED:20250213T074821Z
UID:49999-1741284000-1741287600@www.kommunale-koordinierung.com
SUMMARY:Online-Elterninformationsabend: Düsseldorfer Tage der Beruflichen Orientierung 2025
DESCRIPTION:Für die kommende Durchführung der beliebten Berufsfelderkundungen findet im Vorfeld ein Elternabend statt. Sie erhalten Informationen zur Durchführung und zu dem neuen Buchungsinstrument für die Veranstaltungen im Rahmen der DTBO. Da Sie als Eltern neben der Schule die wichtigsten Ratgeber sind\, wenn es um den weiteren Werdegang Ihres Kindes geht\, möchten wir Sie herzlich zur Informationsveranstaltung einladen. \nDie DTBO ist ein kostenfreies Angebot des Kompetenzzentrums Berufliche Orientierung Düsseldorf\, in dem sich die Landeshauptstadt Düsseldorf\, die Unternehmerschaft Düsseldorf\, Arbeitsagentur\, IHK\, Stiftung PRO AUSBILDUNG\, Handwerkskammer und Kreishandwerkerschaft zusammengeschlossen haben\, um präventive Berufsorientierung in Düsseldorf proaktiv zu gestalten. \nDie Teilnahme ist kostenfrei. Bitte melden Sie sich bis zum 03.03.25 für die Veranstaltung an.
URL:https://www.kommunale-koordinierung.com/event/elterninformationsabend-duesseldorfer-tage-der-beruflichen-orientierung-2025/
LOCATION:MS Teams
CATEGORIES:Berufliche Orientierung,Eltern & Teens
END:VEVENT
BEGIN:VEVENT
DTSTART;TZID=Europe/Berlin:20250312T093000
DTEND;TZID=Europe/Berlin:20250312T123000
DTSTAMP:20260421T140804
CREATED:20240815T075534Z
LAST-MODIFIED:20250310T140358Z
UID:48849-1741771800-1741782600@www.kommunale-koordinierung.com
SUMMARY:Abgesagt! Offene Sprechstunde der Reha-Beratung am 12.03.
DESCRIPTION:Krankheitsbedingt fällt die offene Rehasprechstunde am 12.03. leider aus! \nDie Agentur für Arbeit Düsseldorf bietet für Jugendliche mit besonderem Förderbedarf\, zusätzlich zur bekannten allgemeinen Berufsberatung\, die Beratung durch speziell geschulte Reha-Berufsberater*innen an. \nDie offene Sprechstunde der Reha-Beratung findet jeden zweiten Mittwoch im Monat von 09:30-12:30 Uhr im Zentrum für Berufsorientierung und Übergänge\, 4. Etage\, rechter Flur\, statt. \nEltern\, Lehrkräfte und Schüler*innen können ohne Anmeldung vorbeikommen und sich vom Reha-Beratungsteam der Agentur für Arbeit beraten lassen. \nBeim Besuch mit einer Gruppe von bis zu 5 Schüler*innen mit Begleitung bitten wir um eine Voranmeldung. \nFür Rückfragen steht Ihnen Frau Frost gern zur Verfügung! \nKontakt Reha-Beratung:\nAgentur für Arbeit Düsseldorf – Team Reha/SB\nDuesseldorf.261-Reha@arbeitsagentur.de
URL:https://www.kommunale-koordinierung.com/event/offene-sprechstunde-der-reha-beratung-am-12-03/
LOCATION:ZBÜ\, Willi-Becker-Allee 10\, Düsseldorf\, 40227\, Deutschland
CATEGORIES:Berufliche Orientierung,BO mit Förderbedarf
END:VEVENT
BEGIN:VEVENT
DTSTART;TZID=Europe/Berlin:20250313T100000
DTEND;TZID=Europe/Berlin:20250313T113000
DTSTAMP:20260421T140804
CREATED:20250214T100157Z
LAST-MODIFIED:20250214T100157Z
UID:50399-1741860000-1741865400@www.kommunale-koordinierung.com
SUMMARY:BIWENAV-Austauschtreffen 13.03. (intern für beteiligte KoKos)
DESCRIPTION:Bitte melden Sie sich hier zu dem nächsten internen BIWENAV-NRW-Austauschtreffen an. \nNach der Anmeldung erhalten Sie eine automatisch generierte E-Mail mit dem Einwahllink zu der Veranstaltung. \n\n \n\n\n\nVorname *\n\n\nNachname *\n\n\n\n\nKommunale Koordinierungsstelle *\n\n\n\n\nE-Mail Adresse *\n\n\n\n\nGDPR *Ja\, ich bin mit den Datenschutzbestimmungen einverstanden.\n\n\n\n\n\n \n\n \n\n\nNachricht senden
URL:https://www.kommunale-koordinierung.com/event/biwenav-austauschtreffen-13-03-intern-fuer-beteiligte-kokos/
LOCATION:Online
CATEGORIES:Kommunale Koordinierungsstellen,Mit Anmeldung
END:VEVENT
BEGIN:VEVENT
DTSTART;TZID=Europe/Berlin:20250313T140000
DTEND;TZID=Europe/Berlin:20250313T160000
DTSTAMP:20260421T140804
CREATED:20250226T084242Z
LAST-MODIFIED:20250226T085003Z
UID:50439-1741874400-1741881600@www.kommunale-koordinierung.com
SUMMARY:Anschlusswege für Schüler*innen mit Förderbedarf (LE/ES)
DESCRIPTION:*Die Veranstaltung richtet sich an geladene Gäste aus den Düsseldorfer Förderschulen und Berufskollegs* \nZiel des Treffens:\nAlle Beteiligten am Übergangsprozess dieser Schülerschaft tauschen sich über die Anschlussmöglichkeiten in Düsseldorf aus und erlangen dadurch mehr Informationen und Verständnis füreinander. \nDieses Treffen und der Blick auf die Schüler*innen mit dem Förderschwerpunkt LE/ES soll ein Auftakt sein und andere Förderschwerpunkte könnten folgen und/oder davon profitieren. \nWas werden die Themen dieses Treffens sein:\n– Die Berufswahlkoordinator*innen der Förderschulen LE/ES schildern die herausfordernde Situation ihrer Schülerschaft im Übergang.\n– Die Lehrkräfte der Berufskollegs berichten über die Möglichkeiten am und Wege an das Berufskolleg für diese Schülerschaft.\n– Das Technische Berufskolleg Färberstraße zieht ein erstes Resümee ihres Inklusionsbildungsgangs.\n– Das Team der Reha-Beratung und der berufspsychologische Service der Agentur für Arbeit geben einen Einblick in ihre Beratungstätigkeit und stehen für Fragen zur Verfügung.\n– Blick auf den Bildungswegenavigator (BIWENAV) als Instrument\, um Anschlussmöglichkeiten abzubilden. \nBitte melden Sie sich bis zum 10.03.25 für die Veranstaltung an. \nDer genaue Ort wird noch bekannt gegeben. Voraussichtlich wird der Termin in der Nähe des Hbf Düsseldorf stattfinden.
URL:https://www.kommunale-koordinierung.com/event/anschlusswege-fuer-schuelerinnen-mit-foerderbedarf-le-es/
CATEGORIES:Berufskolleg,BO mit Förderbedarf,StuBos
END:VEVENT
BEGIN:VEVENT
DTSTART;TZID=Europe/Berlin:20250324T080000
DTEND;TZID=Europe/Berlin:20250328T170000
DTSTAMP:20260421T140804
CREATED:20250225T090956Z
LAST-MODIFIED:20250225T123524Z
UID:50410-1742803200-1743181200@www.kommunale-koordinierung.com
SUMMARY:Woche der Ausbildung der Agentur für Arbeit
DESCRIPTION:Die diesjährige Woche der Ausbildung der Agentur für Arbeit Düsseldorf steht unter dem Motto:\nAusbildung im Fokus – Gemeinsam zum Erfolg! \nVom 24.03.-28.03.2025 gibt es viele Beratungsangebote rund um das Thema Ausbildung. \nEine Ausbildung hat viele Vorteile für deine berufliche Zukunft: \n\nFinanzielle Unabhängigkeit: In betrieblichen Ausbildungen sowie in einigen schulischen Ausbildungen bekommst du eine Vergütung. Mit deinem ersten eigenen Geld wirst du finanziell unabhängiger! Unter bestimmten Voraussetzungen kannst du zusätzliche Berufsausbildungsbeihilfe (BAB) beantragen.\nPraxisnah: In einer Ausbildung erhältst du von Beginn an viele praktische Einblicke und arbeitest im Betrieb mit. Die Inhalte aus der Berufsschule kannst du dann sofort anwenden.\nGute Zukunftsaussichten: In vielen Branchen werden Fachkräfte gesucht. Wenn du deine Ausbildung gut machst\, hast du große Chancen\, dass dich dein Ausbildungsbetrieb übernimmt.\nChancenreich: Im Berufsleben stehen dir als Fachkraft viele Wege offen: Du kannst zum Beispiel eine Weiterbildung absolvieren\, dich selbstständig machen oder unter bestimmten Voraussetzungen ein Studium beginnen.\n\nEine Übersicht über alle Angebote gibt es hier.
URL:https://www.kommunale-koordinierung.com/event/ausbildung-im-fokus-gemeinsam-zum-erfolg/
LOCATION:Agentur für Arbeit Düsseldorf\, Grafenberger Allee 300\, Düsseldorf\, 40237
CATEGORIES:Ausbildung,Berufliche Orientierung,Eltern & Teens
END:VEVENT
BEGIN:VEVENT
DTSTART;TZID=Europe/Berlin:20250327T140000
DTEND;TZID=Europe/Berlin:20250327T160000
DTSTAMP:20260421T140804
CREATED:20250317T082301Z
LAST-MODIFIED:20250317T082415Z
UID:50477-1743084000-1743091200@www.kommunale-koordinierung.com
SUMMARY:Ausbildungsmesse der Landeshauptstadt Düsseldorf
DESCRIPTION:Die Landeshauptstadt Düsseldorf verfügt seit kurzem über ein neues Bewerbenden-Center an der Moskauer Str. 25.\n \n\nAm 27. März\, von 14-16 Uhr\, lädt sie alle Jugendlichen der Abgangsklassen ein\, sich über das aktuell noch verfügbare Ausbildungsangebot bei der Landeshauptstadt mit einem Ausbildungsstart ab Sommer 2025 zu informieren. Bewerbungen sind direkt vor Ort möglich.\n\n \nEin Besuch der Ausbildungsmesse ist ohne Voranmeldung möglich. Lehrkräfte und Erziehungsberechtigte sind ebenfalls herzlich willkommen.\n\n \nFalls Sie mit einer größeren Schülergruppe vorbeikommen möchten\, melden Sie sich gern mit einer kurzen Mail bei Frau Hanna Gut (hanna.gut@duesseldorf.de).\n\nFilm\n\nFlyer
URL:https://www.kommunale-koordinierung.com/event/ausbildungsmesse-der-landeshauptstadt-duesseldorf/
LOCATION:Bewerbenden-Center der Landeshauptstadt Düsseldorf\, Moskauer Str. 25\, Düsseldorf\, 40227
CATEGORIES:Ausbildung,Berufliche Orientierung,Eltern & Teens,Lehrkräfte
END:VEVENT
BEGIN:VEVENT
DTSTART;TZID=Europe/Berlin:20250328T100000
DTEND;TZID=Europe/Berlin:20250328T120000
DTSTAMP:20260421T140804
CREATED:20250225T091414Z
LAST-MODIFIED:20250225T091414Z
UID:50412-1743156000-1743163200@www.kommunale-koordinierung.com
SUMMARY:Ausbildung in Teilzeit - voller Berufsabschluss
DESCRIPTION:Woche der Ausbildung\n– Wer kann eine Ausbildung in Teilzeit machen?\n– Wie lange dauert sie?\n– In welchen Berufen ist dies möglich und\n– welche Voraussetzungen sind nötig? \nDiese und weitere Fragen beantworten wir in der Veranstaltung am Freitag\, 28.03.2025 in Raum 1 des Beratungscenters. Sie können aus familiären oder persönlichen Gründen keine Ausbildung in Vollzeit absolvieren? Dann könnte eine Teilzeitausbildung die Lösung sein. Dabei verkürzt sich die tägliche oder wöchentliche Arbeitszeit im Ausbildungsbetrieb bei vollwertigem Berufsabschluss. In unserer Informationsveranstaltung erfahren Sie\, wie es genau funktioniert und können uns Ihre persönlichen Fragen zum Thema stellen. Es wird auch das regionale Unterstützungsprojekt für Teilzeit-Berufsausbildung (TEP) vor Ort sein und seine Angebote vorstellen. \nFür weitere Fragen stehen wir gerne zur Verfügung: Duesseldorf.BCA@arbeitsagentur.de\nAusbildungKlarmachen – Dies ist eine Veranstaltung der bundesweiten Woche der Ausbildung\, die in diesem Jahr vom 24. bis 28. März 2025 stattfindet. \nhttps://eveeno.com/317179957
URL:https://www.kommunale-koordinierung.com/event/ausbildung-in-teilzeit-voller-berufsabschluss-3/
LOCATION:Agentur für Arbeit Düsseldorf\, Grafenberger Allee 300\, Düsseldorf\, 40237
CATEGORIES:Ausbildung,Berufliche Orientierung,Eltern & Teens
END:VEVENT
END:VCALENDAR