BEGIN:VCALENDAR
VERSION:2.0
PRODID:-//Kommunale Koordinierung - ECPv6.15.20//NONSGML v1.0//EN
CALSCALE:GREGORIAN
METHOD:PUBLISH
X-WR-CALNAME:Kommunale Koordinierung
X-ORIGINAL-URL:https://www.kommunale-koordinierung.com
X-WR-CALDESC:Veranstaltungen für Kommunale Koordinierung
REFRESH-INTERVAL;VALUE=DURATION:PT1H
X-Robots-Tag:noindex
X-PUBLISHED-TTL:PT1H
BEGIN:VTIMEZONE
TZID:Europe/Berlin
BEGIN:DAYLIGHT
TZOFFSETFROM:+0100
TZOFFSETTO:+0200
TZNAME:CEST
DTSTART:20240331T010000
END:DAYLIGHT
BEGIN:STANDARD
TZOFFSETFROM:+0200
TZOFFSETTO:+0100
TZNAME:CET
DTSTART:20241027T010000
END:STANDARD
BEGIN:DAYLIGHT
TZOFFSETFROM:+0100
TZOFFSETTO:+0200
TZNAME:CEST
DTSTART:20250330T010000
END:DAYLIGHT
BEGIN:STANDARD
TZOFFSETFROM:+0200
TZOFFSETTO:+0100
TZNAME:CET
DTSTART:20251026T010000
END:STANDARD
BEGIN:DAYLIGHT
TZOFFSETFROM:+0100
TZOFFSETTO:+0200
TZNAME:CEST
DTSTART:20260329T010000
END:DAYLIGHT
BEGIN:STANDARD
TZOFFSETFROM:+0200
TZOFFSETTO:+0100
TZNAME:CET
DTSTART:20261025T010000
END:STANDARD
END:VTIMEZONE
BEGIN:VEVENT
DTSTART;VALUE=DATE:20250111
DTEND;VALUE=DATE:20250208
DTSTAMP:20260421T154846
CREATED:20250106T101802Z
LAST-MODIFIED:20250106T102847Z
UID:50052-1736553600-1738972799@www.kommunale-koordinierung.com
SUMMARY:Wochen der Studienorientierung HSD
DESCRIPTION:Eine gute Gelegenheit für Studieninteressierte\, sich früh­zeitig zu informieren und Klar­heit über die eigenen Ziele zu be­kommen. Informationen zu allen Veranstaltungen an der HSD finden Sie in hier: \nhttps://www.hs-duesseldorf.de/studium/beratung_und_kontakt/studienberatung/studieninteressierte/veranstaltungen-workshops/wochen-der-studienorientierung
URL:https://www.kommunale-koordinierung.com/event/wochen-der-studienorientierung-hsd/
LOCATION:Hochschule Düsseldorf\, Münsterstraße 156\, 40476 Düsseldorf\, Deutschland
CATEGORIES:Berufliche Orientierung,Eltern & Teens,Studienorientierung
END:VEVENT
BEGIN:VEVENT
DTSTART;VALUE=DATE:20250131
DTEND;VALUE=DATE:20250202
DTSTAMP:20260421T154846
CREATED:20240823T100819Z
LAST-MODIFIED:20250106T101346Z
UID:49001-1738281600-1738454399@www.kommunale-koordinierung.com
SUMMARY:Werkschau des Fachbereichs Design
DESCRIPTION:Absolvent*innen der Peter Behrens School of Arts (PBSA) präsentieren ihre Abschlussarbeiten. Sie sind herzlich eingeladen\, sich die Arbeiten selbständig anzuschauen oder eine Führung des Fachbereichs zur Werkschau Design am 31.1.2025 zu buchen. \nWeitere Informationen gibt es unter:\nwww.hs-duesseldorf.de/studium/beratung_und_kontakt/studienberatung/studieninteressierte/veranstaltungen-workshops/werkschau
URL:https://www.kommunale-koordinierung.com/event/werkschau-des-fachbereichs-design/
LOCATION:Hochschule Düsseldorf\, Münsterstraße 156\, 40476 Düsseldorf\, Deutschland
CATEGORIES:Berufliche Orientierung,Eltern & Teens,Studienorientierung
END:VEVENT
BEGIN:VEVENT
DTSTART;TZID=Europe/Berlin:20250203T170000
DTEND;TZID=Europe/Berlin:20250203T180000
DTSTAMP:20260421T154846
CREATED:20250127T094018Z
LAST-MODIFIED:20250127T094018Z
UID:50282-1738602000-1738605600@www.kommunale-koordinierung.com
SUMMARY:Infoveranstaltung zum Freiwilligendienst
DESCRIPTION:Wir bieten jungen Menschen im gesamten Erzbistum Köln die Möglichkeit ein Freiwilliges Soziales Jahr (FSJ) oder Bundesfreiwilligendienst (BFD) zu leisten. Der Freiwilligendienst ist eine gute Möglichkeit\, die Zeit nach der Schule wertvoll und sinnstiftend zu gestalten. \nWir möchten Sie und Ihre Schüler*innen herzlich zu unseren regelmäßig online stattfindenden Infoveranstaltungen einladen. Hier informieren wir Sie umfassend und persönlich über die Rahmenbedingungen des Freiwilligendienstes und seine Vorteile. Die Veranstaltungen finden jeden ersten Montag im Monat um 17 Uhr statt und dauern ca. eine Stunde. Alternativ können wir gerne auch einen individuellen Termin\nvereinbaren. Für die Anmeldung oder für Rückfragen nehmen Sie gerne Kontakt zu unserer Bildungsreferentin Frau Mels auf: mels@fsd-koeln.de oder 0221/ 47 44 13-2 \nhttps://eveeno.com/infoveranstaltung_zum_freiwilligendienst
URL:https://www.kommunale-koordinierung.com/event/infoveranstaltung-zum-freiwilligendienst/
LOCATION:Online
CATEGORIES:Berufliche Orientierung,Eltern & Teens
END:VEVENT
BEGIN:VEVENT
DTSTART;TZID=Europe/Berlin:20250204T130000
DTEND;TZID=Europe/Berlin:20250204T150000
DTSTAMP:20260421T154846
CREATED:20240823T100355Z
LAST-MODIFIED:20250106T104231Z
UID:48995-1738674000-1738681200@www.kommunale-koordinierung.com
SUMMARY:HSD-Studienwahlworkshop
DESCRIPTION:So viele Studienfächer und keine Ahnung\, welches zu Dir passt? Hol Dir hier eine erste Orientierung: \nhttps://www.hs-duesseldorf.de/studienwahlworkshop
URL:https://www.kommunale-koordinierung.com/event/hsd-studienwahlworkshop/
LOCATION:Hochschule Düsseldorf\, Münsterstraße 156\, 40476 Düsseldorf\, Deutschland
CATEGORIES:Eltern & Teens,Studienorientierung
END:VEVENT
BEGIN:VEVENT
DTSTART;TZID=Europe/Berlin:20250206T083000
DTEND;TZID=Europe/Berlin:20250206T133000
DTSTAMP:20260421T154846
CREATED:20250106T104734Z
LAST-MODIFIED:20250106T104734Z
UID:50065-1738830600-1738848600@www.kommunale-koordinierung.com
SUMMARY:Digitale Südwestfälische Studieninfobörse
DESCRIPTION:Was soll ich studieren? Was arbeiten? Welches Fach ist für mich das beste? Ist ein Studium schwer und was muss ich an Voraussetzungen mitbringen? Brauche ich Abitur\, gibt es einen NC? Was kostet ein Studium? \nHol Dir hier ein paar Antworten: https://www.fh-swf.de/de/ueber_uns/events_3/veranstaltungen___events/eventseiten/meschede_5/studieninfoboerse_1.php
URL:https://www.kommunale-koordinierung.com/event/digitale-suedwestfaelische-studieninfoboerse-2/
LOCATION:Online
CATEGORIES:Berufliche Orientierung,Eltern & Teens,Studienorientierung
END:VEVENT
BEGIN:VEVENT
DTSTART;TZID=Europe/Berlin:20250208T110000
DTEND;TZID=Europe/Berlin:20250208T140000
DTSTAMP:20260421T154846
CREATED:20250121T145810Z
LAST-MODIFIED:20250214T084908Z
UID:50254-1739012400-1739023200@www.kommunale-koordinierung.com
SUMMARY:Tag der offenen Tür im Berufskolleg Kaiserswerther Diakonie
DESCRIPTION:Möchtest du Erzieher:in oder Kinderpfleger:in werden? Oder die Fachoberschule oder das berufliche Gymnasium besuchen? Dann komm am 08.02.2025 zum Tag der offenen Tür am Berufskolleg Kaiserswerther Diakonie und informiere dich über deine Möglichkeiten. \nAn dem Berufskolleg der Kaiserswerther Diakonie kommen ganz unterschiedliche Schülergruppen zusammen: Realschüler: innen\, ehemalige Gesamtschüler:innen und Gymnasiastinnen und Gymnasiasten. Neben dem Abitur können sie hier auch andere Abschlüsse erwerben – etwa die Fachoberschulreife in Kombination mit dem Berufsabschluss zur Kinderpfleger:in. Wer mag\, kann auch direkt seine Bewerbungen abgeben.
URL:https://www.kommunale-koordinierung.com/event/tag-der-offenen-tuer-im-berufskolleg-kaiserswerther-diakonie/
LOCATION:Berufskolleg Kaiserswerther Diakonie\, Alte Landstraße 179e\, Düsseldorf\, 40489
CATEGORIES:Berufskolleg,Eltern & Teens
END:VEVENT
BEGIN:VEVENT
DTSTART;TZID=Europe/Berlin:20250210T143000
DTEND;TZID=Europe/Berlin:20250213T163000
DTSTAMP:20260421T154846
CREATED:20250129T125337Z
LAST-MODIFIED:20250129T125337Z
UID:50329-1739197800-1739464200@www.kommunale-koordinierung.com
SUMMARY:Entdeckertage: Ausbildung zur Erzieherin oder zum Erzieher
DESCRIPTION:Entdecke die vielseitigen Möglichkeiten der Ausbildung zur Erzieherin oder zum Erzieher! \nBei den Entdeckertagen wirfst du einen Blick hinter die Kulissen und erfährst\, wie wir Kinder und Jugendliche in ihrer Entwicklung begleiten und fördern. Du siehst\, wie vielseitig\, kreativ und sinnstiftend die Arbeit in diesem Bereich ist.\nEs sind Schnuppernachmittage in der Offenen Ganztagsschule (OGS)\, im Familien- oder Kinderhilfezentrum und in den Häusern Kinder\, Jugendliche und Familien möglich. \nHier kannst du das Angebot einsehen und dich anmelden: www.duesseldorf.de/jugendamt/jobs \n 
URL:https://www.kommunale-koordinierung.com/event/entdeckertage-ausbildung-zur-erzieherin-oder-zum-erzieher/
LOCATION:Düsseldorf
CATEGORIES:Ausbildung,Berufliche Orientierung,Eltern & Teens,Mit Anmeldung
END:VEVENT
BEGIN:VEVENT
DTSTART;TZID=Europe/Berlin:20250210T170000
DTEND;TZID=Europe/Berlin:20250220T210000
DTSTAMP:20260421T154846
CREATED:20250129T130458Z
LAST-MODIFIED:20250129T131651Z
UID:50332-1739206800-1740085200@www.kommunale-koordinierung.com
SUMMARY:Wochen der digitalen Elternabende der Agentur für Arbeit
DESCRIPTION:Ihr Kind steht kurz vor dem Abschluss und die Suche nach dem passenden dualen Studium oder Ausbildungsplatz steht noch an? \nDie Bundesagentur für Arbeit veranstaltet vom 10. bis 20. Februar 2025 zum vierten Mal die digitalen Elternabende. Hier wird Ihnen als Eltern und Ihren Kindern die Möglichkeit geboten\, Branchen und Unternehmen mit deren Ausbildungs- und Studienmöglichkeiten in einer kompakten Stunde hautnah kennenzulernen. \nSie erhalten Einblicke in: \n\nverschiedene Wirtschaftszweige\ndie Rahmenbedingungen der Ausbildung / des dualen Studiums\ndie Unternehmenskultur\nMöglichkeiten für Nachwuchskräfte nach einer erfolgreichen Ausbildung / einem erfolgreichen dualen Studium im Unternehmen / in der Branche\nBerichte von Azubis und dual Studierenden\, wie sie es geschafft haben\, das Bewerbungsverfahren zu bestehen und wie es ihnen während der Ausbildung / des dualen Studiums ergeht\n\nKommen Sie mit spannenden Branchen und Unternehmen ins Gespräch! \nMehr Infos und die Links zu den Veranstaltungen finden Sie hier.
URL:https://www.kommunale-koordinierung.com/event/wochen-der-digitalen-elternabende-der-agentur-fuer-arbeit/
LOCATION:Online
CATEGORIES:Ausbildung,Berufliche Orientierung,Eltern & Teens,Studienorientierung
END:VEVENT
BEGIN:VEVENT
DTSTART;TZID=Europe/Berlin:20250212T093000
DTEND;TZID=Europe/Berlin:20250212T123000
DTSTAMP:20260421T154846
CREATED:20240815T075239Z
LAST-MODIFIED:20241028T084345Z
UID:48845-1739352600-1739363400@www.kommunale-koordinierung.com
SUMMARY:Offene Sprechstunde der Reha-Beratung am 12.02.
DESCRIPTION:Die Agentur für Arbeit Düsseldorf bietet für Jugendliche mit besonderem Förderbedarf\, zusätzlich zur bekannten allgemeinen Berufsberatung\, die Beratung durch speziell geschulte Reha-Berufsberater*innen an. \nDie offene Sprechstunde der Reha-Beratung findet jeden zweiten Mittwoch im Monat von 09:30-12:30 Uhr im Zentrum für Berufsorientierung und Übergänge\, 4. Etage\, rechter Flur\, statt. \nEltern\, Lehrkräfte und Schüler*innen können ohne Anmeldung vorbeikommen und sich vom Reha-Beratungsteam der Agentur für Arbeit beraten lassen. \nBeim Besuch mit einer Gruppe von bis zu 5 Schüler*innen mit Begleitung bitten wir um eine Voranmeldung. \nFür Rückfragen steht Ihnen Frau Frost gern zur Verfügung! \nKontakt Reha-Beratung:\nAgentur für Arbeit Düsseldorf – Team Reha/SB\nDuesseldorf.261-Reha@arbeitsagentur.de
URL:https://www.kommunale-koordinierung.com/event/offene-sprechstunde-der-reha-beratung-am-12-02/
LOCATION:ZBÜ\, Willi-Becker-Allee 10\, Düsseldorf\, 40227\, Deutschland
CATEGORIES:Berufliche Orientierung,BO mit Förderbedarf
END:VEVENT
BEGIN:VEVENT
DTSTART;TZID=Europe/Berlin:20250212T093000
DTEND;TZID=Europe/Berlin:20250212T163000
DTSTAMP:20260421T154846
CREATED:20240826T122256Z
LAST-MODIFIED:20250526T063527Z
UID:49058-1739352600-1739377800@www.kommunale-koordinierung.com
SUMMARY:Studienwahl-Workshop der HHU
DESCRIPTION:Wie geht es nach der Schule weiter? \nAlle um Dich herum haben schon einen Plan für die Zeit nach dem Abitur\, aber Du weißt noch nicht\, wo es hingehen soll? Überflutet Dich die scheinbar unermessliche Anzahl von Optionen oder bist Du vielseitig interessiert und kannst Dich nicht entscheiden? Vielleicht zweifelst Du auch an Deinen Fähigkeiten und glaubst\, man bräuchte besondere Talente\, um bestimmte Studiengänge schaffen zu können. \nIn unserem Studienwahlworkshop bieten wir Dir die Gelegenheit\, Dich intensiv mit dem Studienwahlprozess auseinander zu setzen und Deine individuellen Fragen zur Studienwahl zu klären. \nDie Plätze sind begrenzt und eine Anmeldung ist erforderlich. \nHier findet der Workshop statt:\nHeinrich-Heine-Universität Düsseldorf\nStudierenden Service Center (SSC); Gebäude 21.02 \nWeitere Infos findest du hier.
URL:https://www.kommunale-koordinierung.com/event/studienwahl-workshop-der-hhu-2/
LOCATION:Heinrich-Heine-Universität\, Studierenden Service Center (SSC)\, Gebäude 21.02\, Universitätsstraße 1\, Düsseldorf\, Nordrhein-Westfalen\, 40225\, Deutschland
CATEGORIES:Mit Anmeldung,Studienorientierung
END:VEVENT
BEGIN:VEVENT
DTSTART;TZID=Europe/Berlin:20250212T140000
DTEND;TZID=Europe/Berlin:20250212T160000
DTSTAMP:20260421T154846
CREATED:20250115T125239Z
LAST-MODIFIED:20250115T133133Z
UID:50179-1739368800-1739376000@www.kommunale-koordinierung.com
SUMMARY:StuBo-Arbeitskreis der Hauptschulen und Förderschulen (LE u. ESE) am 12.02.
DESCRIPTION:Alle Düsseldorfer Hauptschulen und Förderschulen mit dem Schwerpunkt LE und ESE sind herzlich zum nächsten StuBo-Arbeitskreis eingeladen! \nOrt:\nStiftung PRO Ausbildung\nAchenbachstr. 28\n40237 Düsseldorf \nOffizielle Einladung \nBitte melden Sie sich unten für die Veranstaltung an. \nBei Fragen oder Anmerkungen wenden Sie sich bitte an:\nTeresa Zabori\nTelefon: 0211 8998977\nE-Mail: teresa.zabori@duesseldorf.de \nDer Arbeitskreis ist eine gemeinsame Veranstaltung der Kommunalen Koordinierung Düsseldorf und der Schulaufsicht der Landeshauptstadt Düsseldorf. \n\n \n\n\n\nVorname *\n\n\nNachname *\n\n\n\n\nSchule/Institution *\n\n\n\n\nE-Mail Adresse *\n\n\n\n\nGDPR *Ja\, ich bin mit den Datenschutzbestimmungen einverstanden.\n\n\n \n\n\nNachricht senden
URL:https://www.kommunale-koordinierung.com/event/stubo-arbeitskreis-der-hauptschulen-und-foerderschulen-le-u-ese/
LOCATION:Stiftung PRO AUSBILDUNG\, Achenbachstr. 28\, Düsseldorf\, 40237
CATEGORIES:Berufliche Orientierung,StuBo-Arbeitskreis,StuBos
END:VEVENT
BEGIN:VEVENT
DTSTART;TZID=Europe/Berlin:20250213T100000
DTEND;TZID=Europe/Berlin:20250213T150000
DTSTAMP:20260421T154848
CREATED:20240516T101021Z
LAST-MODIFIED:20240516T101845Z
UID:48283-1739440800-1739458800@www.kommunale-koordinierung.com
SUMMARY:Career Day 2025 im Rahmen der E-world energy & water
DESCRIPTION:Du möchtest die Zukunft der Energiewirtschaft aktiv mitgestalten? Entdecke deine Karrieremöglichkeiten in der dynamischen Energiebranche auf der E-world 2025! \nDabei sein lohnt sich:\n• Lerne alle entscheidenden Arbeitgeber der Branche an einem Ort kennen\n• Sammele wertvolle Erfahrungsberichte aus der Praxis von Young Professionals\n• Erlebe spannende Fachvorträge und Podiumsdiskussionen zu aktuellen Themen der Energiebranche\n• Teste deine Stärken in von Ausstellern organisierten Challenges und erhalte wertvolle Einblicke in verschiedene Jobs der Branche \nDer Career Day im Überblick: \nDatum: 13. Februar 2025\nUhrzeit: 10:00 – 15:00 Uhr\nOrt: Messe Essen\nWebsite: career.e-world-essen.com/de \nAlle Informationen sowie die kostenfreie Anmeldung für Schulklassen und Lehrkräfte hier.
URL:https://www.kommunale-koordinierung.com/event/career-day-2025-im-rahmen-der-e-world-energy-water/
LOCATION:Messe Essen\, Messeplatz 1\, Essen\, 45131\, Deutschland
CATEGORIES:Ausbildung,Berufliche Orientierung,Lehrkräfte,Messe
END:VEVENT
BEGIN:VEVENT
DTSTART;TZID=Europe/Berlin:20250213T120000
DTEND;TZID=Europe/Berlin:20250213T160000
DTSTAMP:20260421T154848
CREATED:20240823T080119Z
LAST-MODIFIED:20240823T080119Z
UID:48950-1739448000-1739462400@www.kommunale-koordinierung.com
SUMMARY:Azubi-Speeddating der IHK & HWK
DESCRIPTION:Bei den Azubi-Speed-Datings stellen sich Jugendliche in zehn Minuten bei einem Unternehmen ihrer Wahl vor und präsentieren ihre Stärken. Der persönliche Eindruck zählt mehr als Noten und Abschlüsse. So überzeugen sie den Ausbilder oder Personaler beim Azubi-Speed-Dating von ihrer Eignung. \nWenn es gut läuft\, kommt es zum „Recall“ und der Jugendliche wird zu einem Bewerbungsgespräch oder Test ins Unternehmen eingeladen und unterschreibt im besten Fall nur wenige Tage oder Wochen nach dem Azubi-Speed-Dating einen Ausbildungsvertrag. \nWeitere Informationen:\nwww.ihk.de/duesseldorf/ausbildung/ausbildungsplatzsuche/azubi-speed-dating-2596294
URL:https://www.kommunale-koordinierung.com/event/azubi-speeddating-der-ihk-hwk/
LOCATION:Merkur Spiel-Arena (Stadion Fortuna Düsseldorf)\, Arena-Straße 1\, Düsseldorf\, 40474\, Deutschland
CATEGORIES:Ausbildung,Berufliche Orientierung,BO mit Förderbedarf,Eltern & Teens,Lehrkräfte,Messe,Schulen,StuBos,Studienorientierung
END:VEVENT
BEGIN:VEVENT
DTSTART;TZID=Europe/Berlin:20250214T140000
DTEND;TZID=Europe/Berlin:20250214T150000
DTSTAMP:20260421T154848
CREATED:20250106T134931Z
LAST-MODIFIED:20250106T134931Z
UID:50074-1739541600-1739545200@www.kommunale-koordinierung.com
SUMMARY:Praxisbörse: Träger der Kinder- und Jugendhilfe stellen sich vor
DESCRIPTION:Die Träger der Kinder- und Jugendhilfe von Düsseldorf und Umgebung stellen am 14.02.2025 von 14 bis 15 Uhr am St.-Ursula-Berufskolleg ihre Arbeitsfelder vor. Dort erhältst du einen Einblick in die Vielfalt der sozialpädagogischen Arbeitsbereiche wie z.B. Kindertagesstätten\, Offene Ganztagsgrundschulen und Hilfen zur Erziehung. Komm vorbei und knüpf vor Ort erste Kontakte zu den Trägern und bahne dir damit Wege zu möglichen Praktikums- bzw. Ausbildungsstellen sowie Stellenangeboten! \nWeitere Infos gibt es hier.
URL:https://www.kommunale-koordinierung.com/event/praxisboerse-traeger-der-kinder-und-jugendhilfe-stellen-sich-vor/
LOCATION:St.-Ursula-Berufskolleg\, Eiskellerstr. 11\, Düsseldorf\, 40213
CATEGORIES:Ausbildung,Berufliche Orientierung,Eltern & Teens
END:VEVENT
BEGIN:VEVENT
DTSTART;TZID=Europe/Berlin:20250214T140000
DTEND;TZID=Europe/Berlin:20250214T160000
DTSTAMP:20260421T154848
CREATED:20250106T135542Z
LAST-MODIFIED:20250106T135542Z
UID:50076-1739541600-1739548800@www.kommunale-koordinierung.com
SUMMARY:Info- und Anmeldetag am St.-Ursula-Berufskolleg
DESCRIPTION:Am Freitag\, 14. Februar\, öffnet das St.-Ursula-Berufskolleg zwischen 14 und 16 Uhr die Türen! \nBildungsgangleiterInnen\, SchülerInnen und LehrerInnen der einzelnen Bildungsgänge sind dann für Dich da\, um Deine Fragen zu unserem Bildungsangebot zu beantworten. Und wenn Du magst\, kannst Du dich an dem Tag dann auch direkt bei uns anmelden. Du musst dazu noch nicht alle erforderlichen Unterlagen dabei haben. Die können später nachgereicht werden. \nWeitere Infos zu den einzelnen Bildungsgängen findest Du auf unserer Homepage im Bereich Bildungsangebot. \nAuch eine Praxisbörse findet zwischen 14 und 15 Uhr parallel in der Sporthalle statt. Die Träger der Kinder- und Jugendhilfe aus Düsseldorf und der Umgebung werden ihre Arbeitsfelder vorstellen und Sie könnst Einblicke in die Vielfalt der sozialpädagogischen Arbeitsfelder gewinnen\, wie z.B. Kindertagesstätten\, Offene Ganztagsgrundschulen und Jugendhilfeeinrichtungen. \nWeitere Infos rund um das St.-Ursula-Berufskolleg gibt es hier.
URL:https://www.kommunale-koordinierung.com/event/info-und-anmeldetag-am-st-ursula-berufskolleg/
LOCATION:St.-Ursula-Berufskolleg\, Eiskellerstr. 11\, Düsseldorf\, 40213
CATEGORIES:Berufliche Orientierung,Berufskolleg,Eltern & Teens
END:VEVENT
BEGIN:VEVENT
DTSTART;TZID=Europe/Berlin:20250218T140000
DTEND;TZID=Europe/Berlin:20250218T160000
DTSTAMP:20260421T154848
CREATED:20241024T085322Z
LAST-MODIFIED:20241024T085322Z
UID:49416-1739887200-1739894400@www.kommunale-koordinierung.com
SUMMARY:LVR-Berufskolleg Tag der offenen Tür
DESCRIPTION:Das LVR-Berufskolleg Düsseldorf öffnet seine Türen zur Berufsinformation und Ausbildungsanmeldung am: \n18.02.2025 14-16 Uhr \nAn alle Interessent*innen an unserer Ausbildung: \nWir informieren gern zu unseren Ausbildungsgängen. Bitte wenden Sie sich direkt an die Fachrichtungsleitungen – die Kontaktdaten finden Sie unter der jeweiligen Fachrichtung. \n  \nWeitere Informationen: \nLVR-Berufskolleg Düsseldorf
URL:https://www.kommunale-koordinierung.com/event/lvr-berufskolleg-tag-der-offenen-tuer-2/
LOCATION:LVR-Berufskolleg Düsseldorf\, Am Großen Dern 10\, Düsseldorf\, 40625\, Deutschland
CATEGORIES:Berufskolleg,Eltern & Teens
END:VEVENT
BEGIN:VEVENT
DTSTART;TZID=Europe/Berlin:20250219T140000
DTEND;TZID=Europe/Berlin:20250219T160000
DTSTAMP:20260421T154848
CREATED:20250116T075532Z
LAST-MODIFIED:20250121T105249Z
UID:50191-1739973600-1739980800@www.kommunale-koordinierung.com
SUMMARY:StuBo-Arbeitskreis der Gymnasien am 19.02.2025
DESCRIPTION:Wir laden alle Düsseldorfer Gymnasien herzlich zur nächsten StuBo-Arbeitskreissitzung ein. \nOrt:\nStiftung PRO AUSBILDUNG\nAchenbachstr. 28\n40237 Düsseldorf \nBitte melden Sie sich unten zu der Veranstaltung an. \nOffizielle Einladung  \nBei Fragen wenden Sie sich bitte an:\nEzgi Yildiz\nTelefon: 0211 6690822\nE-Mail: yildiz@unternehmerschaft.de \nDer Arbeitskreis ist eine gemeinsame Veranstaltung der Kommunalen Koordinierung Düsseldorf und des Kompetenzzentrums Berufliche Orientierung mit der Schulaufsicht der Landeshauptstadt Düsseldorf \n\n \n\n\n\nVorname *\n\n\nNachname *\n\n\n\n\nSchule/Institution *\n\n\n\n\nE-Mail Adresse *\n\n\n\n\nGDPR *Ja\, ich bin mit den Datenschutzbestimmungen einverstanden.\n\n\n \n\n\nNachricht senden
URL:https://www.kommunale-koordinierung.com/event/stubo-arbeitskreis-der-gymnasien-am-19-02-2025/
LOCATION:Achenbachstr. 28\, 40237 Düsseldorf\, Achenbachstr. 28\, Düsseldorf\, 40237\, Deutschland
CATEGORIES:StuBo-Arbeitskreis
END:VEVENT
BEGIN:VEVENT
DTSTART;TZID=Europe/Berlin:20250220T110000
DTEND;TZID=Europe/Berlin:20250220T120000
DTSTAMP:20260421T154849
CREATED:20250107T141111Z
LAST-MODIFIED:20250110T095905Z
UID:50080-1740049200-1740052800@www.kommunale-koordinierung.com
SUMMARY:DTBO 2025: Informationsveranstaltung für neue Anbieter
DESCRIPTION:Die Informationsveranstaltung richtet sich an alle interessierten Anbieter\, die erstmalig an den Düsseldorfer Tagen der Beruflichen Orientierung teilnehmen möchten.\nWir werden Ihnen alle notwendigen Informationen über Inhalt\, Zweck und Umsetzung des Projekts vorstellen.\nGerne können Sie auch Ihre Fragen an die zuständigen Personen stellen. \nBitte melden Sie sich spätestens bis zum 18.02.25 an. Mit Ihrer Anmeldung erhalten Sie eine E-Mail mit einem MS-Teamslink\, über den Sie direkt zur Veranstaltung gelangen. \n\n \n\n\n\nVorname *\n\n\nNachname *\n\n\n\n\nUnternehmen/Institution *\n\n\n\n\nE-Mail Adresse *\n\n\n\n\nGDPR *Ja\, ich bin mit den Datenschutzbestimmungen einverstanden.\n\n\n \n\n\nNachricht senden
URL:https://www.kommunale-koordinierung.com/event/dtbo-2025-informationsveranstaltung-fuer-neue-anbieter/
LOCATION:Online
CATEGORIES:Berufliche Orientierung,Unternehmen
END:VEVENT
BEGIN:VEVENT
DTSTART;TZID=Europe/Berlin:20250220T140000
DTEND;TZID=Europe/Berlin:20250220T160000
DTSTAMP:20260421T154849
CREATED:20250123T091008Z
LAST-MODIFIED:20250123T093402Z
UID:50265-1740060000-1740067200@www.kommunale-koordinierung.com
SUMMARY:StuBo-Arbeitskreis der Förderschulen (KAoA-STAR) am 20.02.
DESCRIPTION:Die nächste Sitzung des StuBo-Arbeitskreises der Förderschulen (KAoA-STAR) findet am 20.02.2025 statt. \nOrt:\nStiftung Pro Ausbildung\nAchenbachstraße 28\n40237 Düsseldorf \nBitte melden Sie sich unten zu der Veranstaltung an. \nBei Fragen oder Anmerkungen wenden Sie sich bitte an:\nSusanne Frost\nTelefon: 0211 8923743\nE-Mail: susanne.frost@duesseldorf.de \nDer Arbeitskreis ist eine gemeinsame Veranstaltung der Kommunalen Koordinierung Düsseldorf und der Schulaufsicht der Landeshauptstadt Düsseldorf. \nDie offizielle Einladung für den Arbeitskreis der Förderschulen finden Sie hier: Einladung AK FS
URL:https://www.kommunale-koordinierung.com/event/stubo-arbeitskreis-der-foerderschulen-kaoa-star-am-20-02/
LOCATION:Stiftung PRO AUSBILDUNG\, Achenbachstr. 28\, Düsseldorf\, 40237
CATEGORIES:Mit Anmeldung,StuBo-Arbeitskreis,StuBos
END:VEVENT
BEGIN:VEVENT
DTSTART;TZID=Europe/Berlin:20250224T140000
DTEND;TZID=Europe/Berlin:20250224T160000
DTSTAMP:20260421T154849
CREATED:20250121T105647Z
LAST-MODIFIED:20250127T115622Z
UID:50247-1740405600-1740412800@www.kommunale-koordinierung.com
SUMMARY:StuBo-Arbeitskreis der Realschulen am 24.02.25
DESCRIPTION:Wir laden alle Düsseldorfer Realschulen herzlich zur nächsten StuBo-Arbeitskreissitzung ein. \nThemen werden u. a. sein: Karriere im Handwerk\, Vorstellung der neuen Düsseldorfer Schulamtskoordinatorinnen und der neuen KoKo-Leitung\, Verabschiedung Herr Nachtwey\, Verantwortungskette\, Termine im 2. Schulhalbjahr \nOrt:\nStiftung PRO AUSBILDUNG\nAchenbachstr. 28\n40237 Düsseldorf \nOffizielle Einladung \nBei Fragen wenden Sie sich bitte an:\nEzgi Yildiz\nTelefon: 0211 6690822\nE-Mail: yildiz@unternehmerschaft.de \nDer Arbeitskreis ist eine gemeinsame Veranstaltung der Kommunalen Koordinierung Düsseldorf und des Kompetenzzentrums Berufliche Orientierung mit der Schulaufsicht der Landeshauptstadt Düsseldorf \n\n \n\n\n\nVorname *\n\n\nNachname *\n\n\n\n\nSchule/Institution *\n\n\n\n\nE-Mail Adresse *\n\n\n\n\nGDPR *Ja\, ich bin mit den Datenschutzbestimmungen einverstanden.\n\n\n \n\n\nNachricht senden
URL:https://www.kommunale-koordinierung.com/event/stubo-arbeitskreis-der-realschulen-am-24-02-25/
LOCATION:Achenbachstr. 28\, 40237 Düsseldorf\, Achenbachstr. 28\, Düsseldorf\, 40237\, Deutschland
CATEGORIES:StuBo-Arbeitskreis
END:VEVENT
BEGIN:VEVENT
DTSTART;TZID=Europe/Berlin:20250226T140000
DTEND;TZID=Europe/Berlin:20250226T160000
DTSTAMP:20260421T154849
CREATED:20250127T102608Z
LAST-MODIFIED:20250127T104252Z
UID:50313-1740578400-1740585600@www.kommunale-koordinierung.com
SUMMARY:StuBo-Arbeitskreis der Gesamtschulen am 26.02.
DESCRIPTION:Wir laden alle Düsseldorfer Gesamtschulen herzlich zur nächsten StuBo-Arbeitskreissitzung ein. Bitte melden Sie sich unten zu der Veranstaltung an. \nThemen werden u. a. sein: Karriere im Handwerk\, Vorstellung der neuen Düsseldorfer Schulamtskoordinatorinnen und der neuen KoKo-Leitung\, Verabschiedung Herr Nachtwey\, Verantwortungskette\, Termine im 2. Schulhalbjahr \nOrt:\nStiftung PRO AUSBILDUNG\nAchenbachstr. 28\n40237 Düsseldorf \nOffizielle Einladung \nBei Fragen wenden Sie sich bitte an:\nChristiane Stedeler-Gabriel\nTelefon: 0211 896513\nE-Mail: christiane.stedelergabriel@duesseldorf.de \nDer Arbeitskreis ist eine gemeinsame Veranstaltung der Kommunalen Koordinierung Düsseldorf und des Kompetenzzentrums Berufliche Orientierung mit der Schulaufsicht der Landeshauptstadt Düsseldorf. \n\n \n\n\n\nVorname *\n\n\nNachname *\n\n\n\n\nSchule/Institution *\n\n\n\n\nE-Mail Adresse *\n\n\n\n\nGDPR *Ja\, ich bin mit den Datenschutzbestimmungen einverstanden.\n\n\n\n\n\n \n\n \n\n\nNachricht senden
URL:https://www.kommunale-koordinierung.com/event/stubo-arbeitskreis-der-gesamtschulen-am-26-02/
LOCATION:Stiftung PRO AUSBILDUNG\, Achenbachstr. 28\, Düsseldorf\, 40237
CATEGORIES:Berufliche Orientierung,StuBo-Arbeitskreis,StuBos
END:VEVENT
END:VCALENDAR