BEGIN:VCALENDAR
VERSION:2.0
PRODID:-//Kommunale Koordinierung - ECPv6.15.20//NONSGML v1.0//EN
CALSCALE:GREGORIAN
METHOD:PUBLISH
X-ORIGINAL-URL:https://www.kommunale-koordinierung.com
X-WR-CALDESC:Veranstaltungen für Kommunale Koordinierung
REFRESH-INTERVAL;VALUE=DURATION:PT1H
X-Robots-Tag:noindex
X-PUBLISHED-TTL:PT1H
BEGIN:VTIMEZONE
TZID:Europe/Berlin
BEGIN:DAYLIGHT
TZOFFSETFROM:+0100
TZOFFSETTO:+0200
TZNAME:CEST
DTSTART:20240331T010000
END:DAYLIGHT
BEGIN:STANDARD
TZOFFSETFROM:+0200
TZOFFSETTO:+0100
TZNAME:CET
DTSTART:20241027T010000
END:STANDARD
BEGIN:DAYLIGHT
TZOFFSETFROM:+0100
TZOFFSETTO:+0200
TZNAME:CEST
DTSTART:20250330T010000
END:DAYLIGHT
BEGIN:STANDARD
TZOFFSETFROM:+0200
TZOFFSETTO:+0100
TZNAME:CET
DTSTART:20251026T010000
END:STANDARD
BEGIN:DAYLIGHT
TZOFFSETFROM:+0100
TZOFFSETTO:+0200
TZNAME:CEST
DTSTART:20260329T010000
END:DAYLIGHT
BEGIN:STANDARD
TZOFFSETFROM:+0200
TZOFFSETTO:+0100
TZNAME:CET
DTSTART:20261025T010000
END:STANDARD
END:VTIMEZONE
BEGIN:VEVENT
DTSTART;TZID=Europe/Berlin:20250108T093000
DTEND;TZID=Europe/Berlin:20250108T123000
DTSTAMP:20260421T174734
CREATED:20240815T074654Z
LAST-MODIFIED:20241028T084222Z
UID:48841-1736328600-1736339400@www.kommunale-koordinierung.com
SUMMARY:Offene Sprechstunde der Reha-Beratung am 08.01.
DESCRIPTION:Die Agentur für Arbeit Düsseldorf bietet für Jugendliche mit besonderem Förderbedarf\, zusätzlich zur bekannten allgemeinen Berufsberatung\, die Beratung durch speziell geschulte Reha-Berufsberater*innen an. \nDie offene Sprechstunde der Reha-Beratung findet jeden zweiten Mittwoch im Monat von 09:30-12:30 Uhr im Zentrum für Berufsorientierung und Übergänge\, 4. Etage\, rechter Flur\, statt. \nEltern\, Lehrkräfte und Schüler*innen können ohne Anmeldung vorbeikommen und sich vom Reha-Beratungsteam der Agentur für Arbeit beraten lassen. \nBeim Besuch mit einer Gruppe von bis zu 5 Schüler*innen mit Begleitung bitten wir um eine Voranmeldung. \nFür Rückfragen steht Ihnen Frau Frost gern zur Verfügung! \nKontakt Reha-Beratung:\nAgentur für Arbeit Düsseldorf – Team Reha/SB\nDuesseldorf.261-Reha@arbeitsagentur.de
URL:https://www.kommunale-koordinierung.com/event/offene-sprechstunde-der-reha-beratung-am-08-01/
LOCATION:ZBÜ\, Willi-Becker-Allee 10\, Düsseldorf\, 40227\, Deutschland
CATEGORIES:Berufliche Orientierung,BO mit Förderbedarf
END:VEVENT
BEGIN:VEVENT
DTSTART;VALUE=DATE:20250111
DTEND;VALUE=DATE:20250208
DTSTAMP:20260421T174734
CREATED:20250106T101802Z
LAST-MODIFIED:20250106T102847Z
UID:50052-1736553600-1738972799@www.kommunale-koordinierung.com
SUMMARY:Wochen der Studienorientierung HSD
DESCRIPTION:Eine gute Gelegenheit für Studieninteressierte\, sich früh­zeitig zu informieren und Klar­heit über die eigenen Ziele zu be­kommen. Informationen zu allen Veranstaltungen an der HSD finden Sie in hier: \nhttps://www.hs-duesseldorf.de/studium/beratung_und_kontakt/studienberatung/studieninteressierte/veranstaltungen-workshops/wochen-der-studienorientierung
URL:https://www.kommunale-koordinierung.com/event/wochen-der-studienorientierung-hsd/
LOCATION:Hochschule Düsseldorf\, Münsterstraße 156\, 40476 Düsseldorf\, Deutschland
CATEGORIES:Berufliche Orientierung,Eltern & Teens,Studienorientierung
END:VEVENT
BEGIN:VEVENT
DTSTART;VALUE=DATE:20250113
DTEND;VALUE=DATE:20250118
DTSTAMP:20260421T174735
CREATED:20211012T100857Z
LAST-MODIFIED:20251113T125620Z
UID:25728-1736726400-1737158399@www.kommunale-koordinierung.com
SUMMARY:Woche der Studienorientierung an der HHU
DESCRIPTION:Auch 2025 heißt es wieder: Campusluft schnuppern\, Vorlesungen besuchen\, mit Lehrenden und Studierenden ins Gespräch kommen\, Einrichtungen unserer Universität kennen lernen und Angebote der Studienberatung nutzen – so kannst Du schon vor dem Abitur Informationen über Studienfächer\, Berufsperspektiven\, Bewerbungsverfahren und Zugangsvoraussetzungen erhalten. \nDie nächste Woche der Studienorientierung findet an der Heinrich-Heine-Universität Düsseldorf vom 13.01.-17.01.2025 statt. Die Woche steht unter dem Motto „5 Tage – 5 Fakultäten“. An jedem dieser Tage wird sich eine Fakultät mit Live-Vorträgen\, geöffneten Sprechstunden etc. vorstellen. \nWeitere Infos gibt es hier.
URL:https://www.kommunale-koordinierung.com/event/woche-der-studienorientierung/
LOCATION:Heinrich-Heine-Universität\, Universitätsstraße 1\, Düsseldorf\, 40225\, Deutschland
CATEGORIES:Studienorientierung
END:VEVENT
BEGIN:VEVENT
DTSTART;VALUE=DATE:20250113
DTEND;VALUE=DATE:20250118
DTSTAMP:20260421T174735
CREATED:20240909T094752Z
LAST-MODIFIED:20250113T113437Z
UID:49224-1736726400-1737158399@www.kommunale-koordinierung.com
SUMMARY:Duales Orientierungspraktikum (DOP)
DESCRIPTION:Eine Woche lang Studierende*r sein? Und danach ein bis zwei Wochen deine Studienwahlentscheidung in der Praxis durch ein Praktikum festigen? Das geht – beim Dualen Orientierungspraktikum! Das Programm setzt sich aus zwei Bausteinen zusammen: \n\nVor-Ort Besuche von Seminaren und Vorlesungen an der Heinrich-Heine-Universität Düsseldorf\nEinem Praktikum in einem Unternehmen deiner Wahl (wird durch deine Schule vorbereitet und organisiert).\n\nWeitere Informationen findest du hier:\nwww.dop-dus.de
URL:https://www.kommunale-koordinierung.com/event/duales-orientierungspraktikum-dop/
LOCATION:Heinrich-Heine-Universität\, Universitätsstraße 1\, Düsseldorf\, 40225\, Deutschland
CATEGORIES:Studienorientierung
END:VEVENT
BEGIN:VEVENT
DTSTART;TZID=Europe/Berlin:20250114T150000
DTEND;TZID=Europe/Berlin:20250114T163000
DTSTAMP:20260421T174735
CREATED:20240823T095931Z
LAST-MODIFIED:20250106T100947Z
UID:48988-1736866800-1736872200@www.kommunale-koordinierung.com
SUMMARY:Campusführung an der HSD
DESCRIPTION:inklusive Einblicke in die Holzwerkstatt\, ins Technikum​s und in einen Hörsaal \nWeitere Informationen gibt es unter:\nhttps://www.hs-duesseldorf.de/studium/beratung_und_kontakt/studienberatung/studieninteressierte/veranstaltungen-workshops/moege-die-zsb-mit-dir-sein \n  \n 
URL:https://www.kommunale-koordinierung.com/event/campusfuehrung-an-der-hsd-2/
LOCATION:Hochschule Düsseldorf\, Münsterstraße 156\, 40476 Düsseldorf\, Deutschland
CATEGORIES:Berufliche Orientierung,Eltern & Teens,Studienorientierung
END:VEVENT
BEGIN:VEVENT
DTSTART;TZID=Europe/Berlin:20250115T140000
DTEND;TZID=Europe/Berlin:20250115T150000
DTSTAMP:20260421T174735
CREATED:20241017T080355Z
LAST-MODIFIED:20241017T081020Z
UID:49333-1736949600-1736953200@www.kommunale-koordinierung.com
SUMMARY:DTBO 2025: 1. Informationsveranstaltung für Lehrkräfte
DESCRIPTION:Für die kommende Durchführung der DTBO bieten wir eine kurzweilige Informationsveranstaltung für alle StuBos und Klassenleitungen an. \nThemen sind:\n– Evaluation der vergangenen Durchführung\n– Das Buchungsportal: (neue) Funktionen\, Registrierungs- und Buchungsprozess der Schüler*innen\n– Terminübersicht: 1. Reservierungsphase\, 2. Buchungsphase\n– Wichtige Dokumente für Schüler*innen und Eltern\n– Ihre Fragen \nBitte melden Sie sich bis Donnerstag\, 09.01.25 an. Sie erhalten im Anschluss einen MS-Teamslink\, über den Sie direkt zur Veranstaltung gelangen. \n\n \n\n\n\nVorname *\n\n\nNachname *\n\n\n\n\nSchule *\n\n\n\n\nE-Mail Adresse *\n\n\n\n\nGDPR *Ja\, ich bin mit den Datenschutzbestimmungen einverstanden.\n\n\n \n\n\nNachricht senden
URL:https://www.kommunale-koordinierung.com/event/dtbo-2025-informationsveranstaltung-fuer-lehrkraefte/
LOCATION:MS Teams
CATEGORIES:Berufliche Orientierung,Lehrkräfte
END:VEVENT
BEGIN:VEVENT
DTSTART;TZID=Europe/Berlin:20250116T140000
DTEND;TZID=Europe/Berlin:20250116T150000
DTSTAMP:20260421T174736
CREATED:20241017T080807Z
LAST-MODIFIED:20241017T081039Z
UID:49339-1737036000-1737039600@www.kommunale-koordinierung.com
SUMMARY:DTBO 2025: 2. Informationsveranstaltung für Lehrkräfte
DESCRIPTION:Für die kommende Durchführung der DTBO bieten wir eine kurzweilige Informationsveranstaltung für alle StuBos und Klassenleitungen an.Um möglichst viele Lehrkräfte erreichen zu können bieten wir in diesem Jahr zwei Infoveranstaltungen an. \nThemen sind:\n– Evaluation der vergangenen Durchführung\n– Das Buchungsportal: (neue) Funktionen\, Registrierungs- und Buchungsprozess der Schüler*innen\n– Terminübersicht: 1. Reservierungsphase\, 2. Buchungsphase\n– Wichtige Dokumente für Schüler*innen und Eltern\n– Ihre Fragen \nBitte melden Sie sich bis Donnerstag\, 09.01.25 an. Sie erhalten im Anschluss einen MS-Teamslink\, über den Sie direkt zur Veranstaltung gelangen. \n\n \n\n\n\nVorname *\n\n\nNachname *\n\n\n\n\nSchule *\n\n\n\n\nE-Mail Adresse *\n\n\n\n\nGDPR *Ja\, ich bin mit den Datenschutzbestimmungen einverstanden.\n\n\n\n\n\n \n\n \n\n\nNachricht senden
URL:https://www.kommunale-koordinierung.com/event/dtbo-2025-informationsveranstaltung-fuer-lehrkraefte-2/
LOCATION:MS Teams
CATEGORIES:Berufliche Orientierung,Lehrkräfte
END:VEVENT
BEGIN:VEVENT
DTSTART;TZID=Europe/Berlin:20250120T153000
DTEND;TZID=Europe/Berlin:20250120T180000
DTSTAMP:20260421T174737
CREATED:20250106T102757Z
LAST-MODIFIED:20250106T102931Z
UID:50054-1737387000-1737396000@www.kommunale-koordinierung.com
SUMMARY:Sozialarbeit/Sozialpädagogik an der Hochschule Düsseldorf studieren
DESCRIPTION:Du bist interessiert an einem Studium im sozialen Bereich? Dann schau bei diesem Interview vorbei. Infos findest du hier: \nhttps://www.hs-duesseldorf.de/moege-die-zsb-mit-dir-sein
URL:https://www.kommunale-koordinierung.com/event/sozialarbeit-sozialpaedagogik-an-der-hochschule-duesseldorf-studieren/
LOCATION:Online
CATEGORIES:Berufliche Orientierung,Eltern & Teens,Studienorientierung
END:VEVENT
BEGIN:VEVENT
DTSTART;TZID=Europe/Berlin:20250122T160000
DTEND;TZID=Europe/Berlin:20250122T180000
DTSTAMP:20260421T174737
CREATED:20241024T084352Z
LAST-MODIFIED:20250127T090459Z
UID:49412-1737561600-1737568800@www.kommunale-koordinierung.com
SUMMARY:BK Leo-Statz-Berufskolleg Tag der offenen Tür
DESCRIPTION:Am Mittwoch\, den 22. Januar 2025 findet in unserem Gebäude in der Kirchfeldstraße 94-96 der „Tag der offenen Tür der Kfm. Assistenten für Informationsverarbeitung“ statt. \nIn der Zeit von 16:00 Uhr bis 18:00 Uhr haben Sie dort die Möglichkeit\, sich über den Bildungsgang zu informieren und Fragen zu stellen.
URL:https://www.kommunale-koordinierung.com/event/bk-leo-statz-berufskolleg-tag-der-offenen-tuer/
LOCATION:Leo-Statz-Berufkolleg\, Kirchfeldstr. 94/96\, Düsseldorf
CATEGORIES:Berufskolleg,Eltern & Teens
END:VEVENT
BEGIN:VEVENT
DTSTART;TZID=Europe/Berlin:20250123T140000
DTEND;TZID=Europe/Berlin:20250123T150000
DTSTAMP:20260421T174737
CREATED:20250106T103307Z
LAST-MODIFIED:20250106T103307Z
UID:50058-1737640800-1737644400@www.kommunale-koordinierung.com
SUMMARY:Bewerbung für gestalterische Studiengänge der HSD (Architektur und Design)
DESCRIPTION:Du bist kreativ und möchtest selber gestalten und kreieren? Vielleicht ist das ja was für Dich: \nhttps://www.hs-duesseldorf.de/moege-die-zsb-mit-dir-sein
URL:https://www.kommunale-koordinierung.com/event/bewerbung-fuer-gestalterische-studiengaenge-der-hsd-architektur-und-design/
LOCATION:Online
CATEGORIES:Berufliche Orientierung,Eltern & Teens,Studienorientierung
END:VEVENT
BEGIN:VEVENT
DTSTART;TZID=Europe/Berlin:20250123T140000
DTEND;TZID=Europe/Berlin:20250123T160000
DTSTAMP:20260421T174737
CREATED:20241216T090200Z
LAST-MODIFIED:20241216T091900Z
UID:50009-1737640800-1737648000@www.kommunale-koordinierung.com
SUMMARY:StuBo-Arbeitskreis der Berufskollegs am 23.01.
DESCRIPTION:Wir laden alle Düsseldorfer Berufskollegs herzlich zur nächsten StuBo-Arbeitskreissitzung der Berufskollegs ein. \nBitte melden Sie sich unten zu der Veranstaltung an. \nOrt:\nStiftung PRO AUSBILDUNG\nAchenbachstr. 28\n40237 Düsseldorf \nThemen der Sitzung werden u. a. sein: \nAktuelles aus KAoA\, Termine 2025\, Karriere im Handwerk\, Schulbewerbung \nOffizielle Einladung \n\n \n\n\n\nVorname *\n\n\nNachname *\n\n\n\n\nSchule/Institution *\n\n\n\n\nE-Mail Adresse *\n\n\n\n\n\nConsent * \n \nYes\, I agree with the privacy policy and terms and conditions.\n\n\n\n\n \n\n\nNachricht senden\n\n\n\nBei Fragen wenden Sie sich bitte an:\nChristiane Stedeler-Gabriel\nTelefon: 0211 8996513\nE-Mail: christiane.stedelergabriel@duesseldorf.de \nDer Arbeitskreis ist eine gemeinsame Veranstaltung der Kommunalen Koordinierung Düsseldorf und des Kompetenzzentrums Berufliche Orientierung mit der Schulaufsicht der Landeshauptstadt Düsseldorf.
URL:https://www.kommunale-koordinierung.com/event/stubo-arbeitskreis-der-berufskollegs-am-23-01/
LOCATION:Stiftung PRO AUSBILDUNG\, Achenbachstr. 28\, Düsseldorf\, 40237
CATEGORIES:Mit Anmeldung,StuBo-Arbeitskreis
END:VEVENT
BEGIN:VEVENT
DTSTART;TZID=Europe/Berlin:20250127T170000
DTEND;TZID=Europe/Berlin:20250127T180000
DTSTAMP:20260421T174738
CREATED:20250127T094514Z
LAST-MODIFIED:20250127T094514Z
UID:50291-1737997200-1738000800@www.kommunale-koordinierung.com
SUMMARY:Infoveranstaltung zum Freiwilligendienst
DESCRIPTION:Wir bieten jungen Menschen im gesamten Erzbistum Köln die Möglichkeit ein Freiwilliges Soziales Jahr (FSJ) oder Bundesfreiwilligendienst (BFD) zu leisten. Der Freiwilligendienst ist eine gute Möglichkeit\, die Zeit nach der Schule wertvoll und sinnstiftend zu gestalten. \nWir möchten Sie und Ihre Schüler*innen herzlich zu unseren regelmäßig online stattfindenden Infoveranstaltungen einladen. Hier informieren wir Sie umfassend und persönlich über die Rahmenbedingungen des Freiwilligendienstes und seine Vorteile. Die Veranstaltungen finden jeden ersten Montag im Monat um 17 Uhr statt und dauern ca. eine Stunde. Alternativ können wir gerne auch einen individuellen Termin\nvereinbaren. Für die Anmeldung oder für Rückfragen nehmen Sie gerne Kontakt zu unserer Bildungsreferentin Frau Mels auf: mels@fsd-koeln.de oder 0221/ 47 44 13-2 \nhttps://eveeno.com/infoveranstaltung_zum_freiwilligendienst
URL:https://www.kommunale-koordinierung.com/event/infoveranstaltung-zum-freiwilligendienst-5/
LOCATION:Online
CATEGORIES:Berufliche Orientierung,Eltern & Teens
END:VEVENT
BEGIN:VEVENT
DTSTART;TZID=Europe/Berlin:20250128T130000
DTEND;TZID=Europe/Berlin:20250128T150000
DTSTAMP:20260421T174738
CREATED:20240823T100023Z
LAST-MODIFIED:20240823T101116Z
UID:48990-1738069200-1738076400@www.kommunale-koordinierung.com
SUMMARY:Digitaler Vortrag mit Fragerunde „Hallo Studium?!?"
DESCRIPTION:Weitere Informationen gibt es unter:\nwww.hs-duesseldorf.de/studium/beratung_und_kontakt/studienberatung/studieninteressierte/veranstaltungen-workshops
URL:https://www.kommunale-koordinierung.com/event/digitaler-vortrag-mit-fragerunde-hallo-studium/
LOCATION:Online
CATEGORIES:Berufliche Orientierung,Eltern & Teens,Studienorientierung
END:VEVENT
BEGIN:VEVENT
DTSTART;TZID=Europe/Berlin:20250128T130000
DTEND;TZID=Europe/Berlin:20250128T150000
DTSTAMP:20260421T174738
CREATED:20250106T103732Z
LAST-MODIFIED:20250106T103732Z
UID:50061-1738069200-1738076400@www.kommunale-koordinierung.com
SUMMARY:Hallo Studium?!
DESCRIPTION:  \nStudieren Ja oder Nein? Zu viele Infos und doch kein Durchblick? Hier bekommst du Orientierungshilfe: \nhttps://www.hs-duesseldorf.de/moege-die-zsb-mit-dir-sein
URL:https://www.kommunale-koordinierung.com/event/hallo-studium/
LOCATION:Online
CATEGORIES:Berufliche Orientierung,Eltern & Teens,Studienorientierung
END:VEVENT
BEGIN:VEVENT
DTSTART;VALUE=DATE:20250131
DTEND;VALUE=DATE:20250202
DTSTAMP:20260421T174738
CREATED:20240823T100819Z
LAST-MODIFIED:20250106T101346Z
UID:49001-1738281600-1738454399@www.kommunale-koordinierung.com
SUMMARY:Werkschau des Fachbereichs Design
DESCRIPTION:Absolvent*innen der Peter Behrens School of Arts (PBSA) präsentieren ihre Abschlussarbeiten. Sie sind herzlich eingeladen\, sich die Arbeiten selbständig anzuschauen oder eine Führung des Fachbereichs zur Werkschau Design am 31.1.2025 zu buchen. \nWeitere Informationen gibt es unter:\nwww.hs-duesseldorf.de/studium/beratung_und_kontakt/studienberatung/studieninteressierte/veranstaltungen-workshops/werkschau
URL:https://www.kommunale-koordinierung.com/event/werkschau-des-fachbereichs-design/
LOCATION:Hochschule Düsseldorf\, Münsterstraße 156\, 40476 Düsseldorf\, Deutschland
CATEGORIES:Berufliche Orientierung,Eltern & Teens,Studienorientierung
END:VEVENT
END:VCALENDAR