BEGIN:VCALENDAR
VERSION:2.0
PRODID:-//Kommunale Koordinierung - ECPv6.15.20//NONSGML v1.0//EN
CALSCALE:GREGORIAN
METHOD:PUBLISH
X-WR-CALNAME:Kommunale Koordinierung
X-ORIGINAL-URL:https://www.kommunale-koordinierung.com
X-WR-CALDESC:Veranstaltungen für Kommunale Koordinierung
REFRESH-INTERVAL;VALUE=DURATION:PT1H
X-Robots-Tag:noindex
X-PUBLISHED-TTL:PT1H
BEGIN:VTIMEZONE
TZID:Europe/Berlin
BEGIN:DAYLIGHT
TZOFFSETFROM:+0100
TZOFFSETTO:+0200
TZNAME:CEST
DTSTART:20230326T010000
END:DAYLIGHT
BEGIN:STANDARD
TZOFFSETFROM:+0200
TZOFFSETTO:+0100
TZNAME:CET
DTSTART:20231029T010000
END:STANDARD
BEGIN:DAYLIGHT
TZOFFSETFROM:+0100
TZOFFSETTO:+0200
TZNAME:CEST
DTSTART:20240331T010000
END:DAYLIGHT
BEGIN:STANDARD
TZOFFSETFROM:+0200
TZOFFSETTO:+0100
TZNAME:CET
DTSTART:20241027T010000
END:STANDARD
BEGIN:DAYLIGHT
TZOFFSETFROM:+0100
TZOFFSETTO:+0200
TZNAME:CEST
DTSTART:20250330T010000
END:DAYLIGHT
BEGIN:STANDARD
TZOFFSETFROM:+0200
TZOFFSETTO:+0100
TZNAME:CET
DTSTART:20251026T010000
END:STANDARD
END:VTIMEZONE
BEGIN:VEVENT
DTSTART;TZID=Europe/Berlin:20241001T100000
DTEND;TZID=Europe/Berlin:20241001T180000
DTSTAMP:20260421T222922
CREATED:20240823T075500Z
LAST-MODIFIED:20240906T074117Z
UID:48948-1727776800-1727805600@www.kommunale-koordinierung.com
SUMMARY:Karrierelounge "Rollin Pin" (Hotel & Gastronomie)
DESCRIPTION:Am 1. Oktober 2024 können Schülerinnen und Schüler der Abgangsklassen kostenlos an einer Karrierelounge der Hotel- und Gastrobranche im Areal Böhler teilnehmen. Die Karrierelounge ist eine von zahlreichen Veranstaltungen des Großevents Rollin Pin\, das am letzten Septemberwochenende in Düsseldorf stattfinden wird. \nWichtig für die Teilnahme ist die vorherige Anmeldung und Begleitung durch eine Lehrkraft bis zum 20. September 2024 per Mail an hallo@rollingpin.com! \nWeitere Informationen:\nwww.rollingpin.de/karrierelounge/duesseldorf
URL:https://www.kommunale-koordinierung.com/event/karrierelounge-rollin-pin-hotel-gastronomie/
LOCATION:Alte Federnfabrik/Areal Böhler\, Hansaallee 321\, Düsseldorf\, Deutschland
CATEGORIES:Ausbildung,Berufliche Orientierung,Eltern & Teens,Lehrkräfte,StuBos
END:VEVENT
BEGIN:VEVENT
DTSTART;TZID=Europe/Berlin:20241007T160000
DTEND;TZID=Europe/Berlin:20241007T180000
DTSTAMP:20260421T222922
CREATED:20240910T130409Z
LAST-MODIFIED:20241104T080100Z
UID:49232-1728316800-1728324000@www.kommunale-koordinierung.com
SUMMARY:Für Lehrkräfte: „Handwerk: Ausbildungsberufe mit Zukunft“
DESCRIPTION:Die Handwerkskammer besucht Schulen\, informiert Schülerinnen und Schüler über Berufe im Handwerk und gibt Tipps für die Ausbildungsplatzsuche. \nOft stellen sie fest\, dass es einen großen Informationsbedarf über die Ausbildungsmöglichkeiten und Karrierechancen im Handwerk gibt. Oftmals zu wenig bekannt sind leider auch die umfangreichen Beratungsangebote der Handwerkskammer Düsseldorf\, mit denen sie Jugendliche vor\, während und nach der Ausbildung unterstützen. So z.B. bei der Ausbildungsplatzsuche\, bei Fragen rund um Ausbildungsberufe oder bei der Karriereplanung. \nAus diesem Grund bieten wir für interessierte Lehrkräfte und pädagogisches Personal von Bildungsträgern eine Informationsveranstaltung an. Thematisch wollen wir bei dieser Gelegenheit die vielfältigen Ausbildungs- und Karrieremöglichkeiten im Handwerk sowie unsere Angebote für alle Schulformen und für ausbildungssuchende Schülerinnen und Schüler vorstellen. Im Anschluss bietet sich bei einem Imbiss die Möglichkeit zum Netzwerken. \nDie Infoschulung ist kostenfrei. Bitte melden Sie sich im Vorfeld an. Die Anzahl der Teilnehmenden ist auf 45 begrenzt. \nWeitere Informationen
URL:https://www.kommunale-koordinierung.com/event/fuer-lehrkraefte-handwerk-ausbildungsberufe-mit-zukunft/
LOCATION:Sheraton Düsseldorf Airport Hotel\, Terminal Ring 4\, Düsseldorf\, 40474
CATEGORIES:Berufliche Orientierung,Lehrkräfte,Schulen
END:VEVENT
BEGIN:VEVENT
DTSTART;TZID=Europe/Berlin:20241009T093000
DTEND;TZID=Europe/Berlin:20241009T123000
DTSTAMP:20260421T222922
CREATED:20240723T105131Z
LAST-MODIFIED:20240723T105131Z
UID:48797-1728466200-1728477000@www.kommunale-koordinierung.com
SUMMARY:Offene Sprechstunde der Reha-Beratung am 09.10.
DESCRIPTION:Die Agentur für Arbeit Düsseldorf bietet für Jugendliche mit besonderem Förderbedarf\, zusätzlich zur bekannten allgemeinen Berufsberatung\, die Beratung durch speziell geschulte Reha-Berufsberater*innen an. \nDie offene Sprechstunde der Reha-Beratung findet jeden zweiten Mittwoch im Monat von 09:30-12:30 Uhr im Zentrum für Berufsorientierung und Übergänge\, 4. Etage\, rechter Flur\, statt. \nEltern\, Lehrkräfte und Schülerinnen und Schüler können ohne Anmeldung vorbeikommen und sich vom Reha-Beratungsteam der Agentur für Arbeit beraten lassen. Beim Besuch mit einer Schülergruppe ist eine Voranmeldung sinnvoll\, um im Vorfeld Themen abzusprechen. \nFür Rückfragen steht Ihnen Frau Scheid gern zur Verfügung! \nKontakt Reha-Beratung:\nAgentur für Arbeit Düsseldorf – Team Reha/SB\nDuesseldorf.261-Reha@arbeitsagentur.de
URL:https://www.kommunale-koordinierung.com/event/offene-sprechstunde-der-reha-beratung-am-09-10/
LOCATION:ZBÜ\, Willi-Becker-Allee 10\, Düsseldorf\, 40227\, Deutschland
CATEGORIES:Berufliche Orientierung,BO mit Förderbedarf
END:VEVENT
BEGIN:VEVENT
DTSTART;TZID=Europe/Berlin:20241009T150000
DTEND;TZID=Europe/Berlin:20241009T173000
DTSTAMP:20260421T222922
CREATED:20240903T122430Z
LAST-MODIFIED:20241007T094447Z
UID:49141-1728486000-1728495000@www.kommunale-koordinierung.com
SUMMARY:#PopUpBeratung: Beratungsnachmittag am Max-Weber-Berufskolleg - mit FOS Polizei!
DESCRIPTION:Du stehst kurz vor dem Abschluss der Klasse 10 und überlegst\, wie es weitergehen soll? Am Max-Weber-Berufskolleg bieten wir dir verschiedene Wege zur Fachhochschulreife an. Finde heraus\, welcher Bildungsweg am besten zu dir passt! \nWir laden dich herzlich zu unserem Beratungsnachmittag ein\, um dich über die drei Möglichkeiten zu informieren\, die du bei uns hast: \n1.Fachoberschule (FOS) Polizei \n\nKlasse 11: 2 Tage Schule\, 3 Tage Praktikum bei der Polizei Düsseldorf\nKlasse 12: 5 Tage Schule\nDirekt im Anschluss: Studium an der Hochschule für Polizei und öffentliche Verwaltung (HSPV)\nBewerbungsfrist: 11.2024\nWeitere Information zur Bewerbung bei der Polizei NRW: Next Level Fachoberschule Polizei\n\n2. Höhere Handelsschule \n\nVollzeitunterricht über zwei Jahre\nErwerb der Fachhochschulreife (schulischer Teil)\n\n\n3. FOS 11/12 \n\nKlasse 11: 2 Tage Schule\, 3 Tage Praktikum bei der Polizei Düsseldorf\nKlasse 12: 5 Tage Schule\nErwerb der Fachhochschulreife (schulischer und berufsbezogener Teil)\nKombination aus Praxis und Theorie für eine praxisorientierte Ausbildung\n\nErfahre mehr über die Unterschiede dieser Bildungsgänge und welcher Weg zu deinen beruflichen Zielen passt. Unsere Lehrer*innen stehen dir für persönliche Gespräche und individuelle Beratungen zur Verfügung! \nMelde dich jetzt an:\nAnmeldelink für den Beratungsnachmittag \nWeitere Informationen zu den einzelnen Bildungsgängen findest hier:\nFOS Polizei am Max-Weber-Berufskolleg \nHöhere Handelsschule am Max-Weber-Berufskolleg \nFOS 11/12 am Max-Weber-Berufskolleg
URL:https://www.kommunale-koordinierung.com/event/beratungsnachmittag-max-weber-bk-2024/
LOCATION:Max-Weber-Berufskolleg\, Suitbertusstraße 163-165\, Düsseldorf
CATEGORIES:Berufliche Orientierung,Eltern & Teens,Schulen
END:VEVENT
BEGIN:VEVENT
DTSTART;TZID=Europe/Berlin:20241010T140000
DTEND;TZID=Europe/Berlin:20241010T160000
DTSTAMP:20260421T222922
CREATED:20240905T073837Z
LAST-MODIFIED:20240905T081044Z
UID:49181-1728568800-1728576000@www.kommunale-koordinierung.com
SUMMARY:StuBo-Arbeitskreis der Förderschulen (KAoA-STAR) am 10.10.
DESCRIPTION:Die nächste Sitzung des StuBo-Arbeitskreises der Förderschulen (KAoA-STAR) findet am 10.10.2024 statt. \nOrt:\nStiftung Pro Ausbildung\nAchenbachstraße 28\n40237 Düsseldorf \nBitte melden Sie sich unten zu der Veranstaltung an. \nBei Fragen oder Anmerkungen wenden Sie sich bitte an:\nSusanne Frost\nTelefon: 0211 8923743\nE-Mail: susanne.frost@duesseldorf.de \nDer Arbeitskreis ist eine gemeinsame Veranstaltung der Kommunalen Koordinierung Düsseldorf und der Schulaufsicht der Landeshauptstadt Düsseldorf. \nDie offizielle Einladung für den Arbeitskeis der Förderschulen finden Sie hier: Einladung AK FS
URL:https://www.kommunale-koordinierung.com/event/stubo-arbeitskreis-der-foerderschulen-kaoa-star-am-10-10/
LOCATION:Stiftung PRO AUSBILDUNG\, Achenbachstr. 28\, Düsseldorf\, 40237
CATEGORIES:KAoA-STAR,StuBo-Arbeitskreis,StuBos
END:VEVENT
BEGIN:VEVENT
DTSTART;TZID=Europe/Berlin:20241010T140000
DTEND;TZID=Europe/Berlin:20241010T180000
DTSTAMP:20260421T222922
CREATED:20240129T101359Z
LAST-MODIFIED:20240129T103542Z
UID:47762-1728568800-1728583200@www.kommunale-koordinierung.com
SUMMARY:Sprechstunde der HWK zu Berufswahl und Ausbildungsvermittlung
DESCRIPTION:Die Sprechstunde der Handwerkskammer Düsseldorf bietet Gelegenheit\, in Ruhe individuelle Fragen zu klären und persönliche Empfehlungen durch das Beratungspersonal zu erhalten. Bitte melden Sie sich telefonisch oder per Mail an bei: \nThomas Pohl\nTel.-Nr.: 0211-8795-603\nE-Mail: thomas.pohl@hwk-duesseldorf.de \nDie Sprechstunde findet abhängig von Ihren Wünschen telefonisch\, per Zoom-Meeting oder vor Ort in der HWK statt. Zusätzlich zu den Sprechstunden können Sie auch individuelle Termine vereinbaren.
URL:https://www.kommunale-koordinierung.com/event/sprechstunde-zu-berufswahl-und-ausbildungsvermittlung-der-hwk-6/
LOCATION:Handwerkskammer Düsseldorf\, Georg-Schulhoff-Platz 1\, Düsseldorf\, 40221\, Deutschland
CATEGORIES:Ausbildung,Berufliche Orientierung,Eltern & Teens,Mit Anmeldung
END:VEVENT
BEGIN:VEVENT
DTSTART;VALUE=DATE:20241014
DTEND;VALUE=DATE:20241019
DTSTAMP:20260421T222922
CREATED:20240823T100234Z
LAST-MODIFIED:20240823T100931Z
UID:48993-1728864000-1729295999@www.kommunale-koordinierung.com
SUMMARY:Schnupperstudium an der HSD
DESCRIPTION:Weitere Informationen gibt es unter:\nwww.hs-duesseldorf.de/studium/beratung_und_kontakt/studienberatung/studieninteressierte/veranstaltungen-workshops/schnupperstudium
URL:https://www.kommunale-koordinierung.com/event/schnupperstudium-an-der-hsd-2/
LOCATION:Hochschule Düsseldorf\, Münsterstraße 156\, 40476 Düsseldorf\, Deutschland
CATEGORIES:Eltern & Teens,Studienorientierung
END:VEVENT
BEGIN:VEVENT
DTSTART;VALUE=DATE:20241024
DTEND;VALUE=DATE:20241027
DTSTAMP:20260421T222922
CREATED:20241010T144004Z
LAST-MODIFIED:20241104T075930Z
UID:49305-1729728000-1729987199@www.kommunale-koordinierung.com
SUMMARY:Job Speed Dating Schadowplatz
DESCRIPTION:In der Zeit vom 24. bis zum 26. Oktober 2024\, jeweils von 10-16 Uhr\, veranstaltet die Landeshauptstadt Düsseldorf ein Job-Speed-Dating auf dem Schadowplatz.Eine sehr gute Gelegenheit für alle Jobsuchenden: Die Landeshauptstadt Düsseldorf öffnet ihre Türen\, um sie als potentielle Arbeitgeberin zu erleben\, mehr über sie als Organisation zu erfahren und die vielfältigen Angebote kennenzulernen!Egal\, ob Sie noch zur Schule gehen\, frisch von der Uni kommen\, eine berufliche Veränderung brauchen oder einfach nach neuen Herausforderungen suchen\, ist dieses Job-Speed-Dating Ihre perfekte Gelegenheit! \nDie berufliche Zukunft bei der Landeshauptstadt Düsseldorf steckt voller Möglichkeiten und diese Veranstaltung könnte der erste Schritt zu einer aufregenden und erfüllenden Karriere sein! \nWeitere Informationen:\nhttps://karriere.duesseldorf.de
URL:https://www.kommunale-koordinierung.com/event/job-speed-dating-schadowplatz/
LOCATION:Schadowplatz (nahe P&C)\, Düsseldorf\, 40212
CATEGORIES:Ausbildung,Berufliche Orientierung,Eltern & Teens,KAoA-STAR,Studienorientierung
END:VEVENT
BEGIN:VEVENT
DTSTART;VALUE=DATE:20241029
DTEND;VALUE=DATE:20241030
DTSTAMP:20260421T222922
CREATED:20240311T101919Z
LAST-MODIFIED:20240311T101919Z
UID:47920-1730160000-1730246399@www.kommunale-koordinierung.com
SUMMARY:Lange Nacht der Industrie
DESCRIPTION:Erklären.Erleben.Begeistern: Jugend im Fokus – die Zukunft beginnt jetzt \nIndustrie braucht Akzeptanz. Die Grundlage dafür ist ein Verständnis\, wie industrielle Wertschöpfung funktioniert. Hier setzt die LANGE NACHT DER INDUSTRIE NRW an. Um deutlich zu machen\, dass Industrie sich lohnt: für den einzelnen durch attraktive Arbeitsplätze. Und für die Gemeinschaft durch Produkte\, die in unserem Leben einen Unterschied machen. \nMit einem besonderen Augenmerk auf die junge Generation wollen wir deshalb zeigen\, dass die Industrie spannende Karrierechancen und innovative Lösungen für die globalen Herausforderungen unserer Zeit bietet. \nWeitere Informationen:\nwww.langenachtderindustrie.nrw
URL:https://www.kommunale-koordinierung.com/event/lange-nacht-der-industrie/
CATEGORIES:Ausbildung,Berufliche Orientierung,Eltern & Teens,Lehrkräfte,Schulen,StuBos,Studienorientierung,Unternehmen
END:VEVENT
BEGIN:VEVENT
DTSTART;VALUE=DATE:20241029
DTEND;VALUE=DATE:20241030
DTSTAMP:20260421T222922
CREATED:20240823T095834Z
LAST-MODIFIED:20240823T095834Z
UID:48986-1730160000-1730246399@www.kommunale-koordinierung.com
SUMMARY:Campusführung an der HSD
DESCRIPTION:  \nWeitere Informationen gibt es unter:\nwww.hs-duesseldorf.de/studium/beratung_und_kontakt/studienberatung/studieninteressierte/veranstaltungen-workshops
URL:https://www.kommunale-koordinierung.com/event/campusfuehrung-an-der-hsd/
LOCATION:Hochschule Düsseldorf\, Münsterstraße 156\, 40476 Düsseldorf\, Deutschland
CATEGORIES:Berufliche Orientierung,Eltern & Teens,Studienorientierung
END:VEVENT
BEGIN:VEVENT
DTSTART;TZID=Europe/Berlin:20241029T150000
DTEND;TZID=Europe/Berlin:20241029T180000
DTSTAMP:20260421T222922
CREATED:20241024T085131Z
LAST-MODIFIED:20241024T085131Z
UID:49414-1730214000-1730224800@www.kommunale-koordinierung.com
SUMMARY:LVR-Berufskolleg Tag der offenen Tür
DESCRIPTION:Das LVR-Berufskolleg Düsseldorf öffnet seine Türen zur Berufsinformation und Ausbildungsanmeldung am: \n29.10.2024 15-18 Uhr \nAn alle Interessent*innen an unserer Ausbildung: \nWir informieren gern zu unseren Ausbildungsgängen. Bitte wenden Sie sich direkt an die Fachrichtungsleitungen – die Kontaktdaten finden Sie unter der jeweiligen Fachrichtung. \n  \n  \nWeitere Informationen:\nLVR-Berufskolleg Düsseldorf
URL:https://www.kommunale-koordinierung.com/event/lvr-berufskolleg-tag-der-offenen-tuer/
LOCATION:LVR-Berufskolleg Düsseldorf\, Am Großen Dern 10\, Düsseldorf\, 40625\, Deutschland
CATEGORIES:Berufskolleg,Eltern & Teens
END:VEVENT
BEGIN:VEVENT
DTSTART;TZID=Europe/Berlin:20241030T103000
DTEND;TZID=Europe/Berlin:20241030T160000
DTSTAMP:20260421T222922
CREATED:20241015T112633Z
LAST-MODIFIED:20241015T113552Z
UID:49320-1730284200-1730304000@www.kommunale-koordinierung.com
SUMMARY:AZUBI NRW – Speed-Dating im Riesenrad
DESCRIPTION:Auch in diesem Jahr bieten wir Schülerinnen und Schülern aus den Abgangsklassen die Möglichkeit\, sich mit Unternehmen aus der Region in direkten Gesprächen über den Dächern der Düsseldorfer Altstadt auszutauschen. Die Schülerinnen und Schüler steigen dabei alleine oder zu zweit in die Gondeln und haben pro Fahrt ca. 12 Min. Zeit\, mit Unternehmensvertretern ungezwungen zu sprechen. Bei dieser Form des Speeddatings zählen vor allem Persönlichkeit und Aufgeschlossenheit. Einzige Voraussetzung: Alle Teilnehmer sollten schwindelfrei sein. \nWann? 30. Oktober 2024\, von 10.30 – 16.00 Uhr\nWo? Im Riesenrad „Wheel of Vision“ auf dem Burgplatz in Düsseldorf\nWas? Zahlreiche Unternehmen stellen dort sowohl ihre offenen Ausbildungsplätze als auch die Möglichkeit zu dualen Studiengängen vor. \nInteresse?\nSchüler und Schülerinnen sowie auch Lehrerinnen und Lehrer mit ihren Klassen\, die gerne am Speeddating kostenlos teilnehmen möchten\, melden sich bitte per E-Mail an unter: info@azubi-nrw.de \nDies ist eine Veranstaltung des Ausbildungsportals AZUBI NRW\, aus dem Haus der Rheinische Post Mediengruppe. \nWeitere Infos gibt es hier.
URL:https://www.kommunale-koordinierung.com/event/azubi-nrw-speed-dating-im-riesenrad/
LOCATION:Burgplatz\, Burgplatz 28\, Düsseldorf\, 40231
CATEGORIES:Ausbildung,Eltern & Teens,Mit Anmeldung
END:VEVENT
BEGIN:VEVENT
DTSTART;TZID=Europe/Berlin:20241031T160000
DTEND;TZID=Europe/Berlin:20241031T183000
DTSTAMP:20260421T222922
CREATED:20240625T134414Z
LAST-MODIFIED:20240902T142330Z
UID:48443-1730390400-1730399400@www.kommunale-koordinierung.com
SUMMARY:Info-Veranstaltung: Polizei NRW - Genau mein Fall!
DESCRIPTION:Ob Schutzpolizei\, Kriminalpolizei oder Bereitschaftspolizei\, Polizistinnen und Polizisten sind stets im Einsatz für die Wahrung von Ordnung und Sicherheit. Wenn es um den Schutz des Lebens\, der Freiheit und des Eigentums von Mitbürgerinnen und Mitbürgern geht\, sind sie rund um die Uhr ansprechbar. \nAm Do.\, den 31.10. 2024 findet von 16:00 bis 18:30 Uhr ein Informationsabend im Beratungscenter/BiZ Düsseldorf\, Grafenberger Allee 300 statt. Themen sind u. a. die Ausbildung bei der Polizei\, die Einstellungsvoraussetzungen und die verschiedenen beruflichen Einsatzgebiete. Für die Ausbildung sind u. a. die allgemeine Hochschulreife (Abitur) oder die Fachhochschulreife erforderlich. \nWer gerne im Team arbeitet und mit Menschen umgeht\, ist bei der Polizei genau richtig. Jedes Jahr werden zahlreiche Bewerberinnen und Bewerber für die vielfältigen Aufgaben gesucht. Insbesondere junge Frauen haben gute Einstellungschancen. \nWeitere Infos gibt es hier. \n 
URL:https://www.kommunale-koordinierung.com/event/info-veranstaltung-polizei-nrw-genau-mein-fall/
LOCATION:Agentur für Arbeit Düsseldorf\, Grafenberger Allee 300\, Düsseldorf\, 40237
CATEGORIES:Ausbildung,Berufliche Orientierung,Eltern & Teens
END:VEVENT
END:VCALENDAR