BEGIN:VCALENDAR
VERSION:2.0
PRODID:-//Kommunale Koordinierung - ECPv6.15.20//NONSGML v1.0//EN
CALSCALE:GREGORIAN
METHOD:PUBLISH
X-WR-CALNAME:Kommunale Koordinierung
X-ORIGINAL-URL:https://www.kommunale-koordinierung.com
X-WR-CALDESC:Veranstaltungen für Kommunale Koordinierung
REFRESH-INTERVAL;VALUE=DURATION:PT1H
X-Robots-Tag:noindex
X-PUBLISHED-TTL:PT1H
BEGIN:VTIMEZONE
TZID:Europe/Berlin
BEGIN:DAYLIGHT
TZOFFSETFROM:+0100
TZOFFSETTO:+0200
TZNAME:CEST
DTSTART:20230326T010000
END:DAYLIGHT
BEGIN:STANDARD
TZOFFSETFROM:+0200
TZOFFSETTO:+0100
TZNAME:CET
DTSTART:20231029T010000
END:STANDARD
BEGIN:DAYLIGHT
TZOFFSETFROM:+0100
TZOFFSETTO:+0200
TZNAME:CEST
DTSTART:20240331T010000
END:DAYLIGHT
BEGIN:STANDARD
TZOFFSETFROM:+0200
TZOFFSETTO:+0100
TZNAME:CET
DTSTART:20241027T010000
END:STANDARD
BEGIN:DAYLIGHT
TZOFFSETFROM:+0100
TZOFFSETTO:+0200
TZNAME:CEST
DTSTART:20250330T010000
END:DAYLIGHT
BEGIN:STANDARD
TZOFFSETFROM:+0200
TZOFFSETTO:+0100
TZNAME:CET
DTSTART:20251026T010000
END:STANDARD
END:VTIMEZONE
BEGIN:VEVENT
DTSTART;TZID=Europe/Berlin:20240805T140000
DTEND;TZID=Europe/Berlin:20240805T170000
DTSTAMP:20260422T014750
CREATED:20240627T114059Z
LAST-MODIFIED:20240701T104628Z
UID:48495-1722866400-1722877200@www.kommunale-koordinierung.com
SUMMARY:Berufsberatung für junge Erwachsene und ihre Eltern
DESCRIPTION:Du weißt noch nicht\, wie es nach deinem Schulabschluss weitergeht? Dann komm einfach vorbei und lass dich beraten! \nWann? am 05.08. von 14-17 Uhr \nWo? Stadtteilbücherei Eller\, Gertrudisplatz 16-18 \nEine Anmeldung ist nicht erforderlich. Die Berater*innen der Arbeitsagentur Düsseldorf freuen sich auf dich!
URL:https://www.kommunale-koordinierung.com/event/berufsberatung-fuer-junge-erwachsene-und-ihre-eltern/
LOCATION:Stadtbücherei Eller\, Gertrudisplatz 16-18\, Düsseldorf\, 40229\, Deutschland
CATEGORIES:Ausbildung,Berufliche Orientierung,Eltern & Teens
END:VEVENT
BEGIN:VEVENT
DTSTART;TZID=Europe/Berlin:20240813T100000
DTEND;TZID=Europe/Berlin:20240813T160000
DTSTAMP:20260422T014750
CREATED:20220704T134204Z
LAST-MODIFIED:20240715T064701Z
UID:36104-1723543200-1723564800@www.kommunale-koordinierung.com
SUMMARY:Infostand von IHK\, HWK und der Agentur für Arbeit
DESCRIPTION:Informiere dich über Ausbildung\, Studium und vieles mehr! \nBeim gemeinsamen Infostand von der Agentur für Arbeit\, IHK und der HWK auf der Schadowstraße (Ecke P&C) sind die Berufsberater*innen von 11-16 Uhr für dich da!
URL:https://www.kommunale-koordinierung.com/event/infostand-von-ihk-hwk-und-der-agentur-fuer-arbeit/
LOCATION:Schadowplatz (nahe P&C)\, Düsseldorf\, 40212
CATEGORIES:Berufliche Orientierung,Eltern & Teens,Studienorientierung
END:VEVENT
BEGIN:VEVENT
DTSTART;TZID=Europe/Berlin:20240813T110000
DTEND;TZID=Europe/Berlin:20240813T160000
DTSTAMP:20260422T014750
CREATED:20230620T135031Z
LAST-MODIFIED:20240903T114316Z
UID:45261-1723546800-1723564800@www.kommunale-koordinierung.com
SUMMARY:Nächster Halt: Ausbildung - Handwerksmobil der HWK
DESCRIPTION:Das Handwerksmobil der Handwerkskammer ist unterwegs und macht Halt in Düsseldorf! Am 13. August ist es von 11-16 Uhr auf der Schadowstraße (U-Bahnhaltestelle) in Düsseldorf zu finden! \nNeben dem Beratung- und Vermittlung rund um handwerkliche Ausbildungsberufe bietet das Handwerksmobil fünf Praxisstationen zum Ausprobieren! \nAuch auf Instagram unter:\nhttps://www.instagram.com/abinshandwerk \nDie Aktion wird gemeinsam mit der IHK und der Agentur für Arbeit Düsseldorf durchgeführt.
URL:https://www.kommunale-koordinierung.com/event/naechster-halt-ausbildung-handwerksmobil-der-hwk/
LOCATION:Schadowplatz (nahe P&C)\, Düsseldorf\, 40212
CATEGORIES:Ausbildung,Berufliche Orientierung,Eltern & Teens
END:VEVENT
BEGIN:VEVENT
DTSTART;TZID=Europe/Berlin:20240819T150000
DTEND;TZID=Europe/Berlin:20240819T180000
DTSTAMP:20260422T014750
CREATED:20240627T113332Z
LAST-MODIFIED:20240627T115037Z
UID:48492-1724079600-1724090400@www.kommunale-koordinierung.com
SUMMARY:Berufsberatung für junge Erwachsene in der Zentralbibliothek
DESCRIPTION:Du weißt noch nicht\, wie es nach deinem Schulabschluss weitergeht? Dann komm einfach vorbei und lass dich beraten! \nWann? am 19.08. von 15-18 Uhr \nWo? Zentralbibliothek am Hauptbahnhof\, Konrad-Adenauer-Platz 1 \nEine Anmeldung ist nicht erforderlich. Die Berater*innen der Arbeitsagentur Düsseldorf freuen sich auf dich!
URL:https://www.kommunale-koordinierung.com/event/berufsberatung-fuer-junge-erwachsene-in-der-zentralbibliothek-2/
LOCATION:Zentralbibliothek\, Konrad-Adenauer-Platz 1\, Düsseldorf\, 40210
CATEGORIES:Ausbildung,Berufliche Orientierung,Eltern & Teens
END:VEVENT
BEGIN:VEVENT
DTSTART;TZID=Europe/Berlin:20240819T150000
DTEND;TZID=Europe/Berlin:20240819T180000
DTSTAMP:20260422T014750
CREATED:20240705T064328Z
LAST-MODIFIED:20240705T064328Z
UID:48557-1724079600-1724090400@www.kommunale-koordinierung.com
SUMMARY:Beratung zu Ausbildung und Co. in Garath
DESCRIPTION:Die Arbeitsagentur berät in der Stadtbücherei Garath Jugendliche und Eltern zu folgenden Themen: \n– Wie kann es nach der Schule weitergehen?\n– Ausbildung\, weiterführende Schule\, Studium …\n– Welcher Beruf passt zu Dir/Ihrem Nachwuchs?\n– Wie können Eltern ihre Kinder im vielfältigen Dschungel der Berufsorientierung bestmöglich unterstützen? \nTipp: Vor Ort kannst du Berufe mit VR-Brillen testen! \nDer Eintritt ist frei. Eine Anmeldung ist nicht erforderlich.
URL:https://www.kommunale-koordinierung.com/event/beratung-zu-ausbildung-und-co-in-garath/
LOCATION:Stadtbücherei Garath\, Fritz-Erler-Straße 21\, Düsseldorf\, 40595
CATEGORIES:Ausbildung,Berufliche Orientierung,Eltern & Teens
END:VEVENT
BEGIN:VEVENT
DTSTART;TZID=Europe/Berlin:20240829T100000
DTEND;TZID=Europe/Berlin:20240829T110000
DTSTAMP:20260422T014750
CREATED:20240823T081642Z
LAST-MODIFIED:20240823T081642Z
UID:48959-1724925600-1724929200@www.kommunale-koordinierung.com
SUMMARY:IHK Sprechstunde Ausbildung Klarmachen! (telefonisch)
DESCRIPTION:IHK Sprechstunde Ausbildung Klarmachen!: jeden Donnerstag telefonisch 10 – 11 Uhr (0211 3557 448). Einfach anrufen und unverbindlich beraten lassen!
URL:https://www.kommunale-koordinierung.com/event/ihk-sprechstunde-ausbildung-klarmachen-telefonisch/
LOCATION:Online
CATEGORIES:Ausbildung,Berufliche Orientierung,Eltern & Teens
END:VEVENT
BEGIN:VEVENT
DTSTART;VALUE=DATE:20240831
DTEND;VALUE=DATE:20240901
DTSTAMP:20260422T014750
CREATED:20240823T074542Z
LAST-MODIFIED:20240823T074542Z
UID:48946-1725062400-1725148799@www.kommunale-koordinierung.com
SUMMARY:Energiespartag 2024 auf dem Schadowplatz
DESCRIPTION:Ideal für Eltern und Teens: Beim Energiespartag 2024 auf dem Schadowplatz erfahrt ihr nicht nur alles rund um Energiesparen in Haus/Wohnung und Themen wie Balkonkraftwerke\, Wärmepumpe\, Photovoltaikanlage und Energiespeichermöglichkeiten. \nSchülerinnen und und Schüler können sich dort auch gezielt über Berufe\, Praktikums- und Ausbildungsmöglichkeiten und Karrieremöglichkeiten in den Gewerken Elektrotechnik\, Maler-Handwerk und Sanitär\, Heizung Klimatechnik informieren. \nKomm vorbei und informiere dich über spannende Berufe mit Zukunft! \nWeitere Infos unter:\nhttps://energiespartag2024.de
URL:https://www.kommunale-koordinierung.com/event/energiespartag-2024-auf-dem-schadowplatz/
CATEGORIES:Ausbildung,Berufliche Orientierung,Eltern & Teens
END:VEVENT
END:VCALENDAR