BEGIN:VCALENDAR
VERSION:2.0
PRODID:-//Kommunale Koordinierung - ECPv6.15.20//NONSGML v1.0//EN
CALSCALE:GREGORIAN
METHOD:PUBLISH
X-ORIGINAL-URL:https://www.kommunale-koordinierung.com
X-WR-CALDESC:Veranstaltungen für Kommunale Koordinierung
REFRESH-INTERVAL;VALUE=DURATION:PT1H
X-Robots-Tag:noindex
X-PUBLISHED-TTL:PT1H
BEGIN:VTIMEZONE
TZID:Europe/Berlin
BEGIN:DAYLIGHT
TZOFFSETFROM:+0100
TZOFFSETTO:+0200
TZNAME:CEST
DTSTART:20230326T010000
END:DAYLIGHT
BEGIN:STANDARD
TZOFFSETFROM:+0200
TZOFFSETTO:+0100
TZNAME:CET
DTSTART:20231029T010000
END:STANDARD
BEGIN:DAYLIGHT
TZOFFSETFROM:+0100
TZOFFSETTO:+0200
TZNAME:CEST
DTSTART:20240331T010000
END:DAYLIGHT
BEGIN:STANDARD
TZOFFSETFROM:+0200
TZOFFSETTO:+0100
TZNAME:CET
DTSTART:20241027T010000
END:STANDARD
BEGIN:DAYLIGHT
TZOFFSETFROM:+0100
TZOFFSETTO:+0200
TZNAME:CEST
DTSTART:20250330T010000
END:DAYLIGHT
BEGIN:STANDARD
TZOFFSETFROM:+0200
TZOFFSETTO:+0100
TZNAME:CET
DTSTART:20251026T010000
END:STANDARD
END:VTIMEZONE
BEGIN:VEVENT
DTSTART;VALUE=DATE:20240701
DTEND;VALUE=DATE:20240705
DTSTAMP:20260422T032813
CREATED:20230823T094520Z
LAST-MODIFIED:20240625T133258Z
UID:46080-1719792000-1720137599@www.kommunale-koordinierung.com
SUMMARY:Duales Orientierungspraktikum (DOP)
DESCRIPTION:Eine Woche lang Studierende*r sein? Und danach ein bis zwei Wochen deine Studienwahlentscheidung in der Praxis durch ein Praktikum festigen? Das geht – beim Dualen Orientierungspraktikum! Das Programm setzt sich aus drei Bausteinen zusammen: \n\n Vor-Ort Besuche von Seminaren und Vorlesungen an der Heinrich-Heine-Universität Düsseldorf\nDigitalen Veranstaltungen unterschiedlicher Hochschulen und Unternehmen aus der Region\, in denen du in Vorlesungen und Seminaren oder in Study-Talks mit Studierenden deine Entscheidung für ein Studium oder ein Duales Studium konkretisierst.\nUnd einem Praktikum in einem Unternehmen deiner Wahl (wird durch deine Schule vorbereitet und organisiert).\n\nWeitere Informationen findest du in Kürze hier: www.digi-dop.de
URL:https://www.kommunale-koordinierung.com/event/duales-orientierungspraktikum-dop-studieren-ausprobieren/
LOCATION:Heinrich-Heine-Universität Düsseldorf\, Hochschule Düsseldorf\, Hochschulen in ganz NRW\, Nordrhein-Westfalen
CATEGORIES:Berufliche Orientierung,Eltern & Teens,Studienorientierung
END:VEVENT
BEGIN:VEVENT
DTSTART;TZID=Europe/Berlin:20240701T090000
DTEND;TZID=Europe/Berlin:20240701T143000
DTSTAMP:20260422T032813
CREATED:20240618T120135Z
LAST-MODIFIED:20240618T120608Z
UID:48416-1719824400-1719844200@www.kommunale-koordinierung.com
SUMMARY:Online-Praktikumstag bei der Fachoberschule Polizei
DESCRIPTION:Du bist Schülerin oder Schüler der 9. Klasse und interessierst Dich für den Polizeiberuf\, dann ist DER Weg zum Traumjob Polizistin oder Polizist: die Fachoberschule Polizei. \nAn einem der 15 Berufskollegs in Nordrhein-Westfalen kannst Du binnen zwei Jahren das polizeispezifische Fachabitur absolvieren und damit den Grundstein für das duale Studium zur Polizeivollzugsbeamtin bzw. zum Polizeivollzugsbeamten bei der Polizei NRW legen. \nErste Einblicke in die spannende Arbeitswelt des Team 110 erlangst Du bei unserem Online-Praktikum und im Anschluss erhältst Du im „Schüleraustausch“ mit Schülerinnen und Schülern aus dem Bereich der FOS Polizei direkte Einblicke in den Schulalltag. \nWann? Montag\, den 01.07.2024\, 09:00 – 14:30 Uhr\nWo? Digital auf unserer Plattform zum digitalen Praktikum mit anschließendem „Schüleraustausch“ per Zoom\nWie? Anmeldung per Mail an:\n online-praktikum.LAFP@polizei.nrw.de \nMehr Infos gibt es hier.
URL:https://www.kommunale-koordinierung.com/event/online-praktikumstag-bei-der-polizei-nrw/
LOCATION:Online
CATEGORIES:Berufskolleg,Eltern & Teens,Mit Anmeldung
END:VEVENT
BEGIN:VEVENT
DTSTART;TZID=Europe/Berlin:20240704T090000
DTEND;TZID=Europe/Berlin:20240704T160000
DTSTAMP:20260422T032813
CREATED:20230913T143818Z
LAST-MODIFIED:20230913T143818Z
UID:46645-1720083600-1720108800@www.kommunale-koordinierung.com
SUMMARY:Ausbildungs-Sprechstunde der IHK
DESCRIPTION:Du möchtest eine Ausbildung machen und brauchst Unterstützung? Dann ruf uns gerne an unter der Tel.-Nr. 0211 3557-448.\nWir haben Kontakt zu vielen Industrie- und Handelsunternehmen in Düsseldorf und im Kreis Mettmann und unterstützen dich dabei\, einen Ausbildungsplatz zu finden. Falls du dich vorab informieren möchtest\, schaue gerne auf unserer Website vorbei:\nwww.ausbildung-klarmachen.de
URL:https://www.kommunale-koordinierung.com/event/ausbildungs-sprechstunde-der-ihk-4/
LOCATION:Telefonisch\, Düsseldorf
CATEGORIES:Ausbildung,Eltern & Teens
END:VEVENT
BEGIN:VEVENT
DTSTART;TZID=Europe/Berlin:20240704T100000
DTEND;TZID=Europe/Berlin:20240704T150000
DTSTAMP:20260422T032813
CREATED:20240517T095941Z
LAST-MODIFIED:20240627T065813Z
UID:48293-1720087200-1720105200@www.kommunale-koordinierung.com
SUMMARY:Jumpstart – dein Sprung in die Ausbildung
DESCRIPTION:Noch auf der Suche nach einem Ausbildungsplatz? Beim Azubi-Speed-Dating „Jumpstart – dein Sprung in die Ausbildung“ suchen die teilnehmenden Unternehmen noch Auszubildende für das Jahr 2024. \nVom kaufmännischen-\, über den medizinischen- bis zum handwerklichen Bereich ist alles dabei. \nAußerdem beraten dich die HWK\, die IHK und die Arbeitsagentur zu all deinen Fragen rund um das Thema Ausbildung und Studium. \nDie Teilnahme ist ohne Anmeldung möglich! \nAdresse:\nAgentur für Arbeit Düsseldorf\nBeratungscenter (Erdgeschoss)\nGrafenberger Allee 300\n40237 Düsseldorf \nBus & Bahn: Haltestelle „Schlüterstraße/Arbeitsagentur“ \nWeitere Informationen:\nhttps://web.arbeitsagentur.de/portal/metasuche/suche/veranstaltungen/10000-2001145109-V
URL:https://www.kommunale-koordinierung.com/event/jumpstart-dein-sprung-in-die-ausbildung-2/
LOCATION:B.i.Z.\, Agentur für Arbeit Düsseldorf\, Grafenberger Allee 300\, Düsseldorf\, 40237\, Deutschland
CATEGORIES:Ausbildung,Berufliche Orientierung,BO mit Förderbedarf,Eltern & Teens,Geflüchtete,Lehrkräfte,Schulen,Studienorientierung
END:VEVENT
BEGIN:VEVENT
DTSTART;TZID=Europe/Berlin:20240708T140000
DTEND;TZID=Europe/Berlin:20240708T180000
DTSTAMP:20260422T032813
CREATED:20240625T132316Z
LAST-MODIFIED:20240701T104750Z
UID:48434-1720447200-1720461600@www.kommunale-koordinierung.com
SUMMARY:Ausbildung for future: Beratungsangebot für junge Erwachsene und ihre Eltern
DESCRIPTION:Am Montag\, dem 08.07.2024 berät die Agentur für Arbeit Düsseldorf von 14:00 bis 18:00 Uhr in der Bilker Stadtteilbibliothek zu folgenden Themen: \n\nWie kann es nach der Schule weitergehen? Ausbildung\, weiterführende Schule\, Studium oder etwas ganz anderes?\nWelcher Beruf passt zu dir / Ihrem Nachwuchs – und wie erreicht man diesen?\nWie können Eltern ihre Kinder im vielfältigen Dschungel der Berufsorientierung bestmöglich unterstützen?\n\nJugendliche und ihre Eltern sind herzlich eingeladen\, spontan vorbeizuschauen und sich beraten zu lassen! \nMehr Infos finden sich hier.
URL:https://www.kommunale-koordinierung.com/event/ausbildung-for-future-beratungsangebot-fuer-junge-erwachsene-und-ihre-eltern/
LOCATION:Stadtbücherei Bilk\, Friedrichstraße 127\, Düsseldorf\, 40217
CATEGORIES:Ausbildung,Berufliche Orientierung,Eltern & Teens
END:VEVENT
BEGIN:VEVENT
DTSTART;TZID=Europe/Berlin:20240708T150000
DTEND;TZID=Europe/Berlin:20240708T180000
DTSTAMP:20260422T032813
CREATED:20240705T064046Z
LAST-MODIFIED:20240705T064046Z
UID:48552-1720450800-1720461600@www.kommunale-koordinierung.com
SUMMARY:Berufsberatung in der Stadtteilbücherei Garath
DESCRIPTION:Die Arbeitsagentur berät in der Stadtbücherei Garath Jugendliche und Eltern zu folgenden Themen: \n– Wie kann es nach der Schule weitergehen?\n– Ausbildung\, weiterführende Schule\, Studium …\n– Welcher Beruf passt zu Dir/Ihrem Nachwuchs?\n– Wie können Eltern ihre Kinder im vielfältigen Dschungel der Berufsorientierung bestmöglich unterstützen? \nTipp: Vor Ort kannst du Berufe mit VR-Brillen testen! \nDer Eintritt ist frei. Eine Anmeldung ist nicht erforderlich.
URL:https://www.kommunale-koordinierung.com/event/berufsberatung-in-der-stadtteilbuecherei-garath/
LOCATION:Stadtbücherei Garath\, Fritz-Erler-Straße 21\, Düsseldorf\, 40595
CATEGORIES:Ausbildung,Berufliche Orientierung,Eltern & Teens
END:VEVENT
BEGIN:VEVENT
DTSTART;TZID=Europe/Berlin:20240715T150000
DTEND;TZID=Europe/Berlin:20240715T180000
DTSTAMP:20260422T032813
CREATED:20240627T113045Z
LAST-MODIFIED:20240627T115130Z
UID:48489-1721055600-1721066400@www.kommunale-koordinierung.com
SUMMARY:Berufsberatung für junge Erwachsene in der Zentralbibliothek
DESCRIPTION:Du weißt noch nicht\, wie es nach deinem Schulabschluss weitergeht? Dann komm einfach vorbei und lass dich beraten! \nWann? am 15.07. von 15-18 Uhr \nWo? Zentralbibliothek am Hauptbahnhof\, Konrad-Adenauer-Platz 1 \nEine Anmeldung ist nicht erforderlich. Die Berufsberater*innen der Arbeitsagentur Düsseldorf freuen sich auf dich!
URL:https://www.kommunale-koordinierung.com/event/berufsberatung-fuer-junge-erwachsene-in-der-zentralbibliothek/
LOCATION:Zentralbibliothek\, Konrad-Adenauer-Platz 1\, Düsseldorf\, 40210
CATEGORIES:Ausbildung,Berufliche Orientierung,Eltern & Teens
END:VEVENT
BEGIN:VEVENT
DTSTART;TZID=Europe/Berlin:20240729T150000
DTEND;TZID=Europe/Berlin:20240729T180000
DTSTAMP:20260422T032813
CREATED:20240705T064211Z
LAST-MODIFIED:20240705T064211Z
UID:48555-1722265200-1722276000@www.kommunale-koordinierung.com
SUMMARY:Wie geht es nach der Schule weiter? Beratung in der Bücherei Garath
DESCRIPTION:Die Arbeitsagentur berät in der Stadtbücherei Garath Jugendliche und Eltern zu folgenden Themen: \n– Wie kann es nach der Schule weitergehen?\n– Ausbildung\, weiterführende Schule\, Studium …\n– Welcher Beruf passt zu Dir/Ihrem Nachwuchs?\n– Wie können Eltern ihre Kinder im vielfältigen Dschungel der Berufsorientierung bestmöglich unterstützen? \nTipp: Vor Ort kannst du Berufe mit VR-Brillen testen! \nDer Eintritt ist frei. Eine Anmeldung ist nicht erforderlich.
URL:https://www.kommunale-koordinierung.com/event/wie-geht-es-nach-der-schule-weiter-beratung-in-der-buecherei-garath/
LOCATION:Stadtbücherei Garath\, Fritz-Erler-Straße 21\, Düsseldorf\, 40595
CATEGORIES:Ausbildung,Berufliche Orientierung,Eltern & Teens
END:VEVENT
BEGIN:VEVENT
DTSTART;TZID=Europe/Berlin:20240731T120000
DTEND;TZID=Europe/Berlin:20240731T150000
DTSTAMP:20260422T032813
CREATED:20240627T112554Z
LAST-MODIFIED:20240627T112554Z
UID:48486-1722427200-1722438000@www.kommunale-koordinierung.com
SUMMARY:Berufsberatung für junge Erwachsene in der Arbeitsagentur Düsseldorf
DESCRIPTION:Du weißt noch nicht\, wie es nach deinem Schulabschluss weitergeht? Dann komm einfach vorbei und lass dich beraten! \nWann? 31.07.\, 12-15 Uhr\nWo? Agentur für Arbeit Düsseldorf\, Grafenberger Allee 300 \nEine Anmeldung ist nicht erforderlich. Das Team der Arbeitsagentur Düsseldorf freut sich auf dich!
URL:https://www.kommunale-koordinierung.com/event/berufsberatung-fuer-junge-erwachsene-in-der-arbeitsagentur-duesseldorf/
LOCATION:Agentur für Arbeit Düsseldorf\, Grafenberger Allee 300\, Düsseldorf\, 40237
CATEGORIES:Ausbildung,Berufliche Orientierung,Eltern & Teens
END:VEVENT
END:VCALENDAR