BEGIN:VCALENDAR
VERSION:2.0
PRODID:-//Kommunale Koordinierung - ECPv6.15.20//NONSGML v1.0//EN
CALSCALE:GREGORIAN
METHOD:PUBLISH
X-WR-CALNAME:Kommunale Koordinierung
X-ORIGINAL-URL:https://www.kommunale-koordinierung.com
X-WR-CALDESC:Veranstaltungen für Kommunale Koordinierung
REFRESH-INTERVAL;VALUE=DURATION:PT1H
X-Robots-Tag:noindex
X-PUBLISHED-TTL:PT1H
BEGIN:VTIMEZONE
TZID:Europe/Berlin
BEGIN:DAYLIGHT
TZOFFSETFROM:+0100
TZOFFSETTO:+0200
TZNAME:CEST
DTSTART:20230326T010000
END:DAYLIGHT
BEGIN:STANDARD
TZOFFSETFROM:+0200
TZOFFSETTO:+0100
TZNAME:CET
DTSTART:20231029T010000
END:STANDARD
BEGIN:DAYLIGHT
TZOFFSETFROM:+0100
TZOFFSETTO:+0200
TZNAME:CEST
DTSTART:20240331T010000
END:DAYLIGHT
BEGIN:STANDARD
TZOFFSETFROM:+0200
TZOFFSETTO:+0100
TZNAME:CET
DTSTART:20241027T010000
END:STANDARD
BEGIN:DAYLIGHT
TZOFFSETFROM:+0100
TZOFFSETTO:+0200
TZNAME:CEST
DTSTART:20250330T010000
END:DAYLIGHT
BEGIN:STANDARD
TZOFFSETFROM:+0200
TZOFFSETTO:+0100
TZNAME:CET
DTSTART:20251026T010000
END:STANDARD
END:VTIMEZONE
BEGIN:VEVENT
DTSTART;TZID=Europe/Berlin:20240325T090000
DTEND;TZID=Europe/Berlin:20240406T150000
DTSTAMP:20260422T083653
CREATED:20240226T114950Z
LAST-MODIFIED:20240226T115348Z
UID:47881-1711357200-1712415600@www.kommunale-koordinierung.com
SUMMARY:Feriencampus der Hochschule Niederrhein
DESCRIPTION:In den Osterferien finden an der Hochschule Niederrhein in Mönchengladbach und Krefeld Workshops für studieninteressierte Schülerinnen und Schüler statt. Die Angebote richten sich an Schülerinnen und Schüler ab 13 Jahre (bzw. ab Klasse 11 für das Angebot im Bereich Design). \nDie Schülerinnen und Schüler erwarten mehrere Workshops\, die die faszinierende und spannende Welt des Tüftelns und des Experimentierens mit Naturwissenschaft\, Mathematik\, Informatik und Technik näherbringen. Die Veranstaltung im Fachbereich Design bietet Schüler:innen einen praktischen Einblick in die Designstudiengänge an der HSNR. Das Programm und weitere Informationen\, z.B. zur Anmeldung finden Sie unter:\n www.hs-niederrhein.de/osterferiencampus 
URL:https://www.kommunale-koordinierung.com/event/feriencampus-der-hochschule-niederrhein/
LOCATION:Hochschule Niederrhein\, Richard-Wagner-Str.97\, Mönchengladbach\, 41065
CATEGORIES:Eltern & Teens,Mit Anmeldung,Studienorientierung
END:VEVENT
BEGIN:VEVENT
DTSTART;TZID=Europe/Berlin:20240404T090000
DTEND;TZID=Europe/Berlin:20240404T160000
DTSTAMP:20260422T083653
CREATED:20230913T143319Z
LAST-MODIFIED:20230913T143319Z
UID:46636-1712221200-1712246400@www.kommunale-koordinierung.com
SUMMARY:Ausbildungs-Sprechstunde der IHK
DESCRIPTION:Du möchtest eine Ausbildung machen und brauchst Unterstützung? Dann ruf uns gerne an unter der Tel.-Nr. 0211 3557-448.\nWir haben Kontakt zu vielen Industrie- und Handelsunternehmen in Düsseldorf und im Kreis Mettmann und unterstützen dich dabei\, einen Ausbildungsplatz zu finden. Falls du dich vorab informieren möchtest\, schaue gerne auf unserer Website vorbei:\nwww.ausbildung-klarmachen.de
URL:https://www.kommunale-koordinierung.com/event/ausbildungs-sprechstunde-der-ihk/
LOCATION:Telefonisch\, Düsseldorf
CATEGORIES:Ausbildung,Eltern & Teens
END:VEVENT
BEGIN:VEVENT
DTSTART;TZID=Europe/Berlin:20240408T080000
DTEND;TZID=Europe/Berlin:20240411T160000
DTSTAMP:20260422T083653
CREATED:20230405T122718Z
LAST-MODIFIED:20240117T090658Z
UID:43888-1712563200-1712851200@www.kommunale-koordinierung.com
SUMMARY:Erlebnisparcours "komm auf Tour - deine Stärken\, deine Zukunft"
DESCRIPTION:Auch 2024 findet der Erlebnisparcours „komm auf Tour – deine Stärken\, deine Zukunft“ wieder in Düsseldorf statt. \nTeilnehmen werden über 700 Schülerinnen und Schüler der 7. Klassen von Düsseldorfer Förder-\, Haupt- und Gesamtschulen. \nDer Erlebnisparcours bietet Schülerinnen und Schülern die Möglichkeit\, ihre individuellen Stärken\, Interessen und Talente auf spielerische Art und Weise zu entdecken und weiterzuentwickeln. Dabei beschäftigen sich die Jugendlichen auch mit ersten Vorstellungen für ihren Ausbildungsweg und ihre Lebensplanung. Zudem erfahren sie\, wie sie ihre Stärken im späteren Berufsleben einsetzen können. \nWeitere Informationen zum Parcours:\nhttps://komm-auf-tour.de \nNur für angemeldete Schulen!
URL:https://www.kommunale-koordinierung.com/event/erlebnisparcours-komm-auf-tour-deine-staerken-deine-zukunft/
LOCATION:Mercedes-Benz-Werk\, Rather Str. 51\, Düsseldorf
CATEGORIES:Berufliche Orientierung,BO mit Förderbedarf,Mit Anmeldung,Schulen
END:VEVENT
BEGIN:VEVENT
DTSTART;TZID=Europe/Berlin:20240410T093000
DTEND;TZID=Europe/Berlin:20240410T123000
DTSTAMP:20260422T083653
CREATED:20230825T081813Z
LAST-MODIFIED:20230825T081813Z
UID:46112-1712741400-1712752200@www.kommunale-koordinierung.com
SUMMARY:Offene Sprechstunde der Reha-Beratung am 10.04.
DESCRIPTION:Die Agentur für Arbeit Düsseldorf bietet für Jugendliche mit besonderem Förderbedarf\, zusätzlich zur bekannten allgemeinen Berufsberatung\, die Beratung durch speziell geschulte Reha-Berufsberater*innen an. \nDie offene Sprechstunde der Reha-Beratung findet jeden zweiten Mittwoch im Monat von 09:30-12:30 Uhr im Zentrum für Berufsorientierung und Übergänge statt. \nEltern\, Lehrkräfte und Schülerinnen und Schüler können ohne Anmeldung vorbeikommen und sich vom Reha-Beratungsteam der Agentur für Arbeit beraten lassen. Beim Besuch mit einer Schülergruppe ist eine Voranmeldung sinnvoll\, um im Vorfeld Themen abzusprechen. \nFür Rückfragen steht Ihnen Frau Scheid gern zur Verfügung! \nKontakt Reha-Beratung:\nAgentur für Arbeit Düsseldorf – Team Reha/SB\nDuesseldorf.261-Reha@arbeitsagentur.de
URL:https://www.kommunale-koordinierung.com/event/offene-sprechstunde-der-reha-beratung-am-10-04/
LOCATION:ZBÜ\, Willi-Becker-Allee 10\, Düsseldorf\, 40227\, Deutschland
CATEGORIES:Berufskolleg,BO mit Förderbedarf,Eltern & Teens
END:VEVENT
BEGIN:VEVENT
DTSTART;TZID=Europe/Berlin:20240410T134500
DTEND;TZID=Europe/Berlin:20240410T163000
DTSTAMP:20260422T083653
CREATED:20240305T114600Z
LAST-MODIFIED:20240305T114600Z
UID:47915-1712756700-1712766600@www.kommunale-koordinierung.com
SUMMARY:Online-Fachtagung: Jugendliche ins Boot holen. Wie Jugendliche ihre Berufsorientierung mitgestalten.
DESCRIPTION:Der Einbezug von jungen Menschen beim Thema ihrer Berufsorientierung kann für das Gelingen des Übergangs von der Schule in den Beruf ausschlaggebend sein. Das Programm verspricht durch Best-Practice-Beispiele gute Einblicke in den Einbezug von jungen Menschen zu geben\, die vielleicht auch für Ihre eigene Praxis erkenntnisreich sein kann. \nEine Anmeldung zur Online-Fachtagung der Bundesagentur für Arbeit und SCHULEWIRTSCHAFT Deutschland ist noch bis zum 27.03.2024 über diesen Link möglich: \nhttps://www.schulewirtschaft.de/save-the-date-fachtagung-schulewirtschaft-bundesagentur-fuer-arbeit
URL:https://www.kommunale-koordinierung.com/event/online-fachtagung-jugendliche-ins-boot-holen-wie-jugendliche-ihre-berufsorientierung-mitgestalten/
LOCATION:Online
CATEGORIES:Berufliche Orientierung,Eltern & Teens,Lehrkräfte,Schulen
END:VEVENT
BEGIN:VEVENT
DTSTART;TZID=Europe/Berlin:20240411T090000
DTEND;TZID=Europe/Berlin:20240411T100000
DTSTAMP:20260422T083653
CREATED:20230913T141246Z
LAST-MODIFIED:20230913T141246Z
UID:46610-1712826000-1712829600@www.kommunale-koordinierung.com
SUMMARY:IHK-Sprechstunde Fachpraktikerausbildung
DESCRIPTION:Fachpraktiker-Ausbildung – was ist das? Unsere aktuelle Sprechstunde der Industrie- und Handelskammer Düsseldorf bietet die Chance\, ohne Stress persönliche Fragen zu besprechen und Antworten durch die Fachberaterin Gisela Kwiatek inklusive Bildung zu erhalten. Weitere Infos findest du hier. \nKontakt:\nGisela Kwiatek\nTel.-Nr.: 0211 3557-420
URL:https://www.kommunale-koordinierung.com/event/ihk-sprechstunde-fachpraktikerausbildung-12/
LOCATION:Telefonisch\, Düsseldorf
CATEGORIES:BO mit Förderbedarf,Eltern & Teens
END:VEVENT
BEGIN:VEVENT
DTSTART;TZID=Europe/Berlin:20240423T120000
DTEND;TZID=Europe/Berlin:20240423T160000
DTSTAMP:20260422T083653
CREATED:20240412T110920Z
LAST-MODIFIED:20240412T110920Z
UID:48072-1713873600-1713888000@www.kommunale-koordinierung.com
SUMMARY:Ausbildungsevent bei METRO.digital
DESCRIPTION:Mentor*innen und Azubis geben Einblicke in verschiedene Ausbildungsfelder:  \n\nFachinformatiker Anwendungsentwicklung (m/w/d)\nFachinformatiker Daten- und Prozessanalyse (m/f/d)\nKaufmann/-frau Digitalisierungsmanagement (m/f/d)\n\nDie Schülerinnen und Schüler haben die Möglichkeit\, sich mit den Azubis und Ausbilder*innen auszutauschen. Es wird auch ein Job Speeddating angeboten. \nBitte unter diesem Link zu der Veranstaltung anmelden:\nApprentices Wanted Meet Up Tickets\, Di\, 23.04.2024 um 12:00 Uhr | Eventbrite \nWeitere Informationen:\nSilke Holzhauer\nTalent Acquisition Partner – Tech\nE-Mail: silke.holzhauer@metro.de\nWebsite: Apprenticeship (metro.digital)
URL:https://www.kommunale-koordinierung.com/event/ausbildungsevent-bei-metro-digital/
LOCATION:Metro digital\, Metro Straße 1\, Düsseldorf\, 40235
CATEGORIES:Ausbildung,Berufliche Orientierung,Eltern & Teens
END:VEVENT
BEGIN:VEVENT
DTSTART;TZID=Europe/Berlin:20240424T080000
DTEND;TZID=Europe/Berlin:20240424T170000
DTSTAMP:20260422T083653
CREATED:20240129T103344Z
LAST-MODIFIED:20240129T103415Z
UID:47779-1713945600-1713978000@www.kommunale-koordinierung.com
SUMMARY:Sprechstunde der HWK für Mädchen/Frauen (auch mit Fluchthintergrund)
DESCRIPTION:Die Sprechstunde der Handwerkskammer Düsseldorf bietet Gelegenheit\, in Ruhe individuelle Fragen zu klären und persönliche Empfehlungen durch das Beratungspersonal zu erhalten. Bitte melden Sie sich telefonisch oder per Mail an bei: \nNadine Rosenau\nTel.-Nr.: 0211-8795-607\nE-Mail: nadine.rosenau@hwk-duesseldorf.de \nFür Geflüchtete:\nRex Mähr\nTel.-Nr.: 0211-8795-604\nE-Mail: rex.maehr@hwk-duesseldorf.de \nDie Sprechstunde findet abhängig von Ihren Wünschen telefonisch\, per Zoom-Meeting oder vor Ort in der HWK statt. Zusätzlich zu den Sprechstunden können Sie auch individuelle Termine vereinbaren.
URL:https://www.kommunale-koordinierung.com/event/sprechstunde-der-hwk-fuer-maedchen-frauen-auch-mit-fluchthintergrund/
LOCATION:Handwerkskammer Düsseldorf\, Georg-Schulhoff-Platz 1\, Düsseldorf\, 40221\, Deutschland
CATEGORIES:Berufliche Orientierung,Eltern & Teens,Geflüchtete,Mit Anmeldung
END:VEVENT
BEGIN:VEVENT
DTSTART;VALUE=DATE:20240425
DTEND;VALUE=DATE:20240426
DTSTAMP:20260422T083653
CREATED:20230825T083633Z
LAST-MODIFIED:20230825T083633Z
UID:46130-1714003200-1714089599@www.kommunale-koordinierung.com
SUMMARY:Girls'Day 2024
DESCRIPTION:Am Donnerstag\, 25. April 2024\, ist wieder Girls’Day! Ein Tag extra für dich\, an dem du neue Berufe entdecken und dich und deine Fähigkeiten testen kannst. Alle Mädchen* ab der fünften Klasse können mitmachen. \nViele Mädchen interessieren sich für Berufe wie Verkäuferin\, Friseurin oder Kauffrau für Büromanagement. Klar sind das interessante Jobs\, aber hast du auch schon einmal über andere Bereiche nachgedacht? \nAm Girls’Day lernst du Berufe kennen\, in denen bisher meist Männer arbeiten – z. B. Informatikerin\, Industriemechanikerin oder Tischlerin. Hier sind junge Frauen sehr gefragt! \nWeitere Infos gibt’s unter:\nwww.girls-day.de
URL:https://www.kommunale-koordinierung.com/event/girlsday-2024/
LOCATION:verschiedene Orte im gesamten Stadtgebiet\, Düsseldorf
CATEGORIES:Ausbildung,Berufliche Orientierung,Eltern & Teens,Studienorientierung,Unternehmen
END:VEVENT
BEGIN:VEVENT
DTSTART;VALUE=DATE:20240425
DTEND;VALUE=DATE:20240426
DTSTAMP:20260422T083653
CREATED:20230825T083755Z
LAST-MODIFIED:20230825T083755Z
UID:46132-1714003200-1714089599@www.kommunale-koordinierung.com
SUMMARY:Boys'Day 2024
DESCRIPTION:Viele Jungen interessieren sich für Berufe wie KFZ-Mechatroniker oder Informatiker. Klar\, das sind interessante Jobs. Aber hast du auch schon über andere Bereiche nachgedacht? \nAm Boys’Day lernst du Berufe kennen\, in denen bisher meist Frauen arbeiten – z. B. Erzieher\, Krankenpfleger\, Grundschullehrer oder Psychologe. Hier sind junge Männer sehr gefragt! Außerdem kannst du am Boys’Day an Workshops zur Berufs- und Lebensplanung teilnehmen. Alle Jungen* ab der fünften Klasse können teilnehmen. \nWeitere Infos gibt’s unter:\nwww.boys-day.de
URL:https://www.kommunale-koordinierung.com/event/boysday-2024/
LOCATION:verschiedene Orte im gesamten Stadtgebiet\, Düsseldorf
CATEGORIES:Ausbildung,Berufliche Orientierung,BO mit Förderbedarf,Eltern & Teens,Schulen,Unternehmen
END:VEVENT
BEGIN:VEVENT
DTSTART;TZID=Europe/Berlin:20240426T090000
DTEND;TZID=Europe/Berlin:20240426T170000
DTSTAMP:20260422T083653
CREATED:20230904T093407Z
LAST-MODIFIED:20240118T144212Z
UID:46335-1714122000-1714150800@www.kommunale-koordinierung.com
SUMMARY:Mitmachmesse "Lust auf Handwerk" 2024
DESCRIPTION:Bei der Schülermesse „Lust auf Handwerk präsentieren über 20 verschiedene Gewerke mit vielen Mitmachaktionen ihr Berufsfeld – hier kann direkt ausprobiert und mitgemacht werden! \nDarüber hinaus gibt es ein umfangreiches Informationsangebot über Karrieremöglichkeiten rund um die duale Ausbildung und das duale Studium. \nDie Mitmachmesse findet auf dem aneinanderliegenden Campus des Heinrich-Hertz-Berufskollegs und des Franz-Jürgens-Berufskollegs statt. Sie ist eine gemeinsame Veranstaltung der Kommunalen Koordinierung und der Kreishandwerkerschaft Düsseldorf. \nHier können Schulen sich und ihre Schülerinnen und Schüler zu der Messe anmelden:\nwww.koko-dus.de/anmeldung-zu-lust-auf-handwerk-2024 \nFür Eltern und ihre Kinder sowie alle anderen Interessierten ist die Messe ab 14 Uhr ohne Anmeldung geöffnet. \nEinen Rückblick auf „Lust auf Handwerk“ 2023 sowie aktuelle Informationen zur kommenden Messe finden Sie unter:\nwww.lustaufhandwerk.info
URL:https://www.kommunale-koordinierung.com/event/mitmachmesse-lust-auf-handwerk-2024/
LOCATION:Campus der Heinrich-Hertz- und Franz-Jürgens-Berufkollegs\, Redinghovenstraße 16-20\, Düsseldorf\, 40225\, Deutschland
CATEGORIES:Ausbildung,Berufliche Orientierung,Eltern & Teens,Messe,Schulen
END:VEVENT
END:VCALENDAR