BEGIN:VCALENDAR
VERSION:2.0
PRODID:-//Kommunale Koordinierung - ECPv6.15.20//NONSGML v1.0//EN
CALSCALE:GREGORIAN
METHOD:PUBLISH
X-WR-CALNAME:Kommunale Koordinierung
X-ORIGINAL-URL:https://www.kommunale-koordinierung.com
X-WR-CALDESC:Veranstaltungen für Kommunale Koordinierung
REFRESH-INTERVAL;VALUE=DURATION:PT1H
X-Robots-Tag:noindex
X-PUBLISHED-TTL:PT1H
BEGIN:VTIMEZONE
TZID:Europe/Berlin
BEGIN:DAYLIGHT
TZOFFSETFROM:+0100
TZOFFSETTO:+0200
TZNAME:CEST
DTSTART:20230326T010000
END:DAYLIGHT
BEGIN:STANDARD
TZOFFSETFROM:+0200
TZOFFSETTO:+0100
TZNAME:CET
DTSTART:20231029T010000
END:STANDARD
BEGIN:DAYLIGHT
TZOFFSETFROM:+0100
TZOFFSETTO:+0200
TZNAME:CEST
DTSTART:20240331T010000
END:DAYLIGHT
BEGIN:STANDARD
TZOFFSETFROM:+0200
TZOFFSETTO:+0100
TZNAME:CET
DTSTART:20241027T010000
END:STANDARD
BEGIN:DAYLIGHT
TZOFFSETFROM:+0100
TZOFFSETTO:+0200
TZNAME:CEST
DTSTART:20250330T010000
END:DAYLIGHT
BEGIN:STANDARD
TZOFFSETFROM:+0200
TZOFFSETTO:+0100
TZNAME:CET
DTSTART:20251026T010000
END:STANDARD
END:VTIMEZONE
BEGIN:VEVENT
DTSTART;TZID=Europe/Berlin:20240304T170000
DTEND;TZID=Europe/Berlin:20240308T210000
DTSTAMP:20260422T101650
CREATED:20240214T110304Z
LAST-MODIFIED:20240214T110352Z
UID:47839-1709571600-1709931600@www.kommunale-koordinierung.com
SUMMARY:Woche der digitalen Elternabende der Agentur für Arbeit
DESCRIPTION:Ihr Kind steht kurz vor dem Abschluss und die Suche nach dem passenden dualen Studium oder Ausbildungsplatz steht noch an? \nDie Bundesagentur für Arbeit veranstaltet vom 4. bis 8. März 2024 zum dritten Mal eine Woche der digitalen Elternabende. Hier wird Ihnen als Eltern und Ihren Kindern die Möglichkeit geboten\, verschiedene Unternehmen mit deren Ausbildungsmöglichkeiten in einer kompakten Stunde hautnah kennenzulernen. Jeden Abend präsentieren sich verschiedene Unternehmen aus unterschiedlichen Branchen. \nSie erhalten Einblicke in: \n\ndie Rahmenbedingungen der Ausbildung / des dualen Studiums.\ndie Unternehmenskultur und Möglichkeiten für Nachwuchskräfte nach einer erfolgreichen Ausbildung / einem erfolgreichen dualen Studium im Unternehmen.\nBerichte von Azubis und dual Studierenden\, wie sie es geschafft haben\, das Bewerbungsverfahren zu bestehen und wie es ihnen während der Ausbildung/ des dualen Studiums ergeht.\n\nLernen Sie jetzt die vielfältigen Ausbildungsmöglichkeiten kennen und kommen Sie mit den Unternehmen ins Gespräch! \nWeitere Infos unter:\nwww.arbeitsagentur.de/k/digitale-elternabende
URL:https://www.kommunale-koordinierung.com/event/woche-der-digitalen-elternabende-der-agentur-fuer-arbeit/
LOCATION:Online
CATEGORIES:Ausbildung,Berufliche Orientierung,Eltern & Teens
END:VEVENT
BEGIN:VEVENT
DTSTART;TZID=Europe/Berlin:20240305T090000
DTEND;TZID=Europe/Berlin:20240305T100000
DTSTAMP:20260422T101650
CREATED:20230912T113657Z
LAST-MODIFIED:20230912T113657Z
UID:46532-1709629200-1709632800@www.kommunale-koordinierung.com
SUMMARY:Sprechstunde Einstiegsqualifizierung der IHK
DESCRIPTION:Wenn du noch keinen Ausbildungsplatz gefunden hast\, weil deine Noten nicht die besten sind oder du bei Vorstellungsgesprächen zu ruhig bist\, aber genau weißt\, was du werden willst\, dann ist die Einstiegsqualifizierung (EQ) genau das richtige für dich. In einem Ausbildungsunternehmen lernst du bei deinem 6 – 12 monatigen Praktikum (EQ) erste Inhalte eines Ausbildungsberufes kennen und kannst dich in der täglichen Arbetit und im Berufsschulunterricht beweisen. Das Praktikum kann später auf eine Ausbildung angerechnet werden. Infos dazu findest du hier. \nWenn du mehr erfahren willst\, dann melde dich gerne telefonisch in der Sprechstunde. \nKontakt:\nSabine Agreiter\nTel.-Nr.: 0211-3557-435
URL:https://www.kommunale-koordinierung.com/event/sprechstunde-einstiegsqualifizierung-der-ihk-5/
LOCATION:Telefonisch\, Düsseldorf
CATEGORIES:Ausbildung,Berufliche Orientierung,Eltern & Teens
END:VEVENT
BEGIN:VEVENT
DTSTART;TZID=Europe/Berlin:20240305T100000
DTEND;TZID=Europe/Berlin:20240305T120000
DTSTAMP:20260422T101650
CREATED:20230117T080940Z
LAST-MODIFIED:20240117T091920Z
UID:41923-1709632800-1709640000@www.kommunale-koordinierung.com
SUMMARY:Kooperationspartnertreffen zu "komm auf Tour"
DESCRIPTION:Die Veranstaltung richtet sich an Kooperationspartner*innen\, die die Durchführung des Erlebnisparcours „komm auf Tour – meine Stärken\, meine Zukunft“ vom 08.-11. April 2024 als „Reisebegleitung“ oder im Lehrkräfte-Service unterstützen. \nInhalte der Veranstaltung werden u. a. sein:\n– Inhalte und Ziele von „komm auf Tour“\n– Organisation und Ablauf\n– Ihre Aufgaben im Parcours\n– Handreichung mit Ihren Angeboten für Schulen \nBitte melden Sie sich hier zu der Veranstaltung an:
URL:https://www.kommunale-koordinierung.com/event/kooperationspartnertreffen-komm-auf-tour/
LOCATION:Stiftung PRO AUSBILDUNG\, Achenbachstr. 28\, Düsseldorf\, 40237
CATEGORIES:Berufliche Orientierung
END:VEVENT
BEGIN:VEVENT
DTSTART;TZID=Europe/Berlin:20240305T120000
DTEND;TZID=Europe/Berlin:20240305T160000
DTSTAMP:20260422T101650
CREATED:20240119T103241Z
LAST-MODIFIED:20240119T103241Z
UID:47696-1709640000-1709654400@www.kommunale-koordinierung.com
SUMMARY:Azubi-Speed-Dating der IHK 05.03.
DESCRIPTION:Bei den Azubi-Speed-Datings stellen sich Jugendliche in zehn Minuten bei einem Unternehmen ihrer Wahl vor und präsentieren ihre Stärken. Der persönliche Eindruck zählt mehr als Noten und Abschlüsse. So überzeugen sie den Ausbilder oder Personaler beim Azubi-Speed-Dating von ihrer Eignung. \nWenn es gut läuft\, kommt es zum „Recall“ und der Jugendliche wird zu einem Bewerbungsgespräch oder Test ins Unternehmen eingeladen und unterschreibt im besten Fall nur wenige Tage oder Wochen nach dem Azubi-Speed-Dating einen Ausbildungsvertrag. \nWeitere Informationen gibt es hier.
URL:https://www.kommunale-koordinierung.com/event/azubi-speed-dating-der-ihk-05-03/
LOCATION:Merkur Spiel-Arena (Stadion Fortuna Düsseldorf)\, Arena-Straße 1\, Düsseldorf\, 40474\, Deutschland
CATEGORIES:Ausbildung,Berufliche Orientierung,Eltern & Teens,Geflüchtete,Schulen,Studienorientierung
END:VEVENT
BEGIN:VEVENT
DTSTART;TZID=Europe/Berlin:20240305T170000
DTEND;TZID=Europe/Berlin:20240305T183000
DTSTAMP:20260422T101650
CREATED:20240229T145400Z
LAST-MODIFIED:20240229T150126Z
UID:47890-1709658000-1709663400@www.kommunale-koordinierung.com
SUMMARY:Online-Elternabend zum Fachabi der Polizei NRW
DESCRIPTION:Für Schülerinnen und Schüler mit mittlerem Bildungsabschluss ist es DER Weg zum Polizeiberuf: die Fachoberschule Polizei. An einem von 15 Berufskollegs in Nordrhein-Westfalen können Interessierte binnen zwei Jahren das polizeispezifische Fachabitur absolvieren und damit den Grundstein für das duale Studium zur Polizeivollzugbeamtin bzw. zum Polizeivollzugsbeamten bei der Polizei NRW legen. \nDazu findet am 05. März 2024 von 17 bis 18:30 Uhr ein Online-Elternabend statt. \nInteressierte Schüler*innen\, Eltern und Lehrkräfte können sich per Mail anmelden unter: fos.lafp@polizei.nrw.de \nWeitere Infos finden Sie hier.
URL:https://www.kommunale-koordinierung.com/event/online-elternabend-zum-fachabi-der-polizei-nrw/
LOCATION:Online
CATEGORIES:Eltern & Teens,Mit Anmeldung
END:VEVENT
BEGIN:VEVENT
DTSTART;TZID=Europe/Berlin:20240306T080000
DTEND;TZID=Europe/Berlin:20240306T170000
DTSTAMP:20260422T101650
CREATED:20240129T102624Z
LAST-MODIFIED:20240129T102624Z
UID:47773-1709712000-1709744400@www.kommunale-koordinierung.com
SUMMARY:Sprechstunde für Studienzweifelnde der HWK
DESCRIPTION:Die Sprechstunde der Handwerkskammer Düsseldorf bietet Gelegenheit\, in Ruhe individuelle Fragen zu klären und persönliche Empfehlungen durch das Beratungspersonal zu erhalten. Bitte melden Sie sich telefonisch oder per Mail an bei: \nNadine Rosenau\nTel.-Nr.: 0211-8795-607\nE-Mail: nadine.rosenau@hwk-duesseldorf.de \nDie Sprechstunde findet abhängig von Ihren Wünschen telefonisch\, per Zoom-Meeting oder vor Ort in der HWK statt. Zusätzlich zu den Sprechstunden können Sie selbstverständlich auch individuelle Termine vereinbaren.
URL:https://www.kommunale-koordinierung.com/event/sprechstunde-fuer-studienzweifelnde-der-hwk/
LOCATION:Handwerkskammer Düsseldorf\, Georg-Schulhoff-Platz 1\, Düsseldorf\, 40221\, Deutschland
CATEGORIES:Ausbildung,Berufliche Orientierung,Mit Anmeldung
END:VEVENT
BEGIN:VEVENT
DTSTART;TZID=Europe/Berlin:20240306T093000
DTEND;TZID=Europe/Berlin:20240306T123000
DTSTAMP:20260422T101650
CREATED:20230825T081742Z
LAST-MODIFIED:20230825T081742Z
UID:46111-1709717400-1709728200@www.kommunale-koordinierung.com
SUMMARY:Offene Sprechstunde der Reha-Beratung am 06.03.
DESCRIPTION:Die Agentur für Arbeit Düsseldorf bietet für Jugendliche mit besonderem Förderbedarf\, zusätzlich zur bekannten allgemeinen Berufsberatung\, die Beratung durch speziell geschulte Reha-Berufsberater*innen an. \nDie offene Sprechstunde der Reha-Beratung findet jeden zweiten Mittwoch im Monat von 09:30-12:30 Uhr im Zentrum für Berufsorientierung und Übergänge statt. \nEltern\, Lehrkräfte und Schülerinnen und Schüler können ohne Anmeldung vorbeikommen und sich vom Reha-Beratungsteam der Agentur für Arbeit beraten lassen. Beim Besuch mit einer Schülergruppe ist eine Voranmeldung sinnvoll\, um im Vorfeld Themen abzusprechen. \nFür Rückfragen steht Ihnen Frau Scheid gern zur Verfügung! \nKontakt Reha-Beratung:\nAgentur für Arbeit Düsseldorf – Team Reha/SB\nDuesseldorf.261-Reha@arbeitsagentur.de
URL:https://www.kommunale-koordinierung.com/event/offene-sprechstunde-der-reha-beratung-am-06-03/
LOCATION:ZBÜ\, Willi-Becker-Allee 10\, Düsseldorf\, 40227\, Deutschland
CATEGORIES:Berufliche Orientierung,BO mit Förderbedarf,Eltern & Teens
END:VEVENT
BEGIN:VEVENT
DTSTART;TZID=Europe/Berlin:20240307T090000
DTEND;TZID=Europe/Berlin:20240307T160000
DTSTAMP:20260422T101650
CREATED:20230913T143058Z
LAST-MODIFIED:20230913T143152Z
UID:46632-1709802000-1709827200@www.kommunale-koordinierung.com
SUMMARY:Ausbildungs-Sprechstunde der IHK
DESCRIPTION:Du möchtest eine Ausbildung machen und brauchst Unterstützung? Dann ruf uns gerne an unter der Tel.-Nr. 0211 3557-448.\nWir haben Kontakt zu vielen Industrie- und Handelsunternehmen in Düsseldorf und im Kreis Mettmann und unterstützen dich dabei\, einen Ausbildungsplatz zu finden. Falls du dich vorab informieren möchtest\, schaue gerne auf unserer Website vorbei:\nwww.ausbildung-klarmachen.de
URL:https://www.kommunale-koordinierung.com/event/ihk-ausbildungssprechstunde-6/
LOCATION:Telefonisch\, Düsseldorf
CATEGORIES:Ausbildung,Eltern & Teens
END:VEVENT
BEGIN:VEVENT
DTSTART;TZID=Europe/Berlin:20240307T100000
DTEND;TZID=Europe/Berlin:20240307T120000
DTSTAMP:20260422T101650
CREATED:20240119T074858Z
LAST-MODIFIED:20240119T082617Z
UID:47688-1709805600-1709812800@www.kommunale-koordinierung.com
SUMMARY:BIWENAV-Austauschtreffen 07.03. (intern für beteiligte KoKos)
DESCRIPTION:Bitte melden Sie sich hier zu dem nächsten internen BIWENAV NRW Austauschtreffen an: \n\n \n\n\n\nVorname *\n\n\nNachname *\n\n\n\n\nKommunale Koordinierungsstelle *\n\n\n\n\nE-Mail Adresse *\n\n\n\n\nGDPR *Ja\, ich bin mit den Datenschutzbestimmungen einverstanden.\n\n\n \n\n\nNachricht senden
URL:https://www.kommunale-koordinierung.com/event/biwenav-austauschtreffen-07-03-intern-fuer-beteiligte-kokos/
LOCATION:Online
CATEGORIES:Kommunale Koordinierungsstellen
END:VEVENT
BEGIN:VEVENT
DTSTART;VALUE=DATE:20240311
DTEND;VALUE=DATE:20240318
DTSTAMP:20260422T101651
CREATED:20240220T094614Z
LAST-MODIFIED:20241206T085338Z
UID:47848-1710115200-1710719999@www.kommunale-koordinierung.com
SUMMARY:Woche der Ausbildung - entdecke deine Möglichkeiten!
DESCRIPTION:Komm zur Woche der Ausbildung und entdecke deine Möglichkeiten. Ob interaktiv im Netz oder direkt vor Ort bei unseren Veranstaltungen vom 11.– 17. März 2024 erfährst du alles zu deinem Start ins Berufsleben. \nMelde dich jetzt an und sei eine/r der Ersten\, der/die Gespräche mit Top-Unternehmen in deiner Region führen kann. \nWeitere Informationen:\nFlyer
URL:https://www.kommunale-koordinierung.com/event/woche-der-ausbildung-entdecke-deine-moeglichkeiten/
LOCATION:B.i.Z.\, Agentur für Arbeit Düsseldorf\, Grafenberger Allee 300\, Düsseldorf\, 40237\, Deutschland
CATEGORIES:Ausbildung,Berufliche Orientierung,BO mit Förderbedarf,Eltern & Teens,Lehrkräfte,Unternehmen
END:VEVENT
BEGIN:VEVENT
DTSTART;TZID=Europe/Berlin:20240312T140000
DTEND;TZID=Europe/Berlin:20240312T180000
DTSTAMP:20260422T101651
CREATED:20240129T111010Z
LAST-MODIFIED:20240129T111010Z
UID:47786-1710252000-1710266400@www.kommunale-koordinierung.com
SUMMARY:Sprechstunde der HWK zu Berufswahl und Ausbildungsvermittlung
DESCRIPTION:Die Sprechstunde der Handwerkskammer Düsseldorf bietet Gelegenheit\, in Ruhe individuelle Fragen zu klären und persönliche Empfehlungen durch das Beratungspersonal zu erhalten. Bitte melden Sie sich telefonisch oder per Mail an bei: \nThomas Pohl\nTel.-Nr.: 0211-8795-603\nE-Mail: thomas.pohl@hwk-duesseldorf.de \nDie Sprechstunde findet abhängig von Ihren Wünschen telefonisch\, per Zoom-Meeting oder vor Ort in der HWK statt. Zusätzlich zu den Sprechstunden können Sie auch individuelle Termine vereinbaren.
URL:https://www.kommunale-koordinierung.com/event/sprechstunde-der-hwk-zu-berufswahl-und-ausbildungsvermittlung/
LOCATION:Handwerkskammer Düsseldorf\, Georg-Schulhoff-Platz 1\, Düsseldorf\, 40221\, Deutschland
CATEGORIES:Ausbildung,Berufliche Orientierung,Eltern & Teens,Mit Anmeldung
END:VEVENT
BEGIN:VEVENT
DTSTART;TZID=Europe/Berlin:20240313T170000
DTEND;TZID=Europe/Berlin:20240313T190000
DTSTAMP:20260422T101651
CREATED:20240220T151327Z
LAST-MODIFIED:20240220T151641Z
UID:47851-1710349200-1710356400@www.kommunale-koordinierung.com
SUMMARY:Digitaler Elternabend: Wie kann ich mein Kind bei der Berufs- und Studienfindung unterstützen?
DESCRIPTION:In der digitalen Veranstaltung der Agentur für Arbeit erhalten Sie einen Überblick zum Prozess der Berufs- und Studienfindung von Jugendlichen sowie die Bedeutung der Eltern als wichtigste Ansprechpartner in der Berufswahl. Folgende Themen werden behandelt: \n1. Wie kann ich die Berufswahl meines Kinders unterstützen? Was ist wichtiger: Solide Perspektive oder Selbstverwirklichung? Wie beeinflussen technische Entwicklungen wie KI die Chancen meines Kindes?\n2. Rund ums (Vollzeit-)Studium: Welche Studienfächer gibt es? Und was soll mein Kind mitbringen? Welche Studienabschlüsse gibt es und wie geht es dann weiter? Wer soll das bezahlen?\n3. Duales Studium und Ausbildung: Was sind Vor- und Nachteile eines dualem Studiums? Was spricht für eine berufliche Ausbildung\, wenn man auch studieren könnte? Wie kann man bei der BA ein Duales Studium beginnen?\n4. Überbrückungsmöglichkeiten im In- und Ausland: Erst mal chillen? Was gibt´s für Alternativen? \nDie Veranstaltung wird über MS Teams stattfinden. Gerne können Sie Ihre eigenen Fragen mit einbringen. \nWeitere Infos finden Sie hier.
URL:https://www.kommunale-koordinierung.com/event/digitaler-elternabend-wie-kann-ich-mein-kind-bei-der-berufs-und-studienfindung-unterstuetzen/
LOCATION:Online
CATEGORIES:Berufliche Orientierung,Eltern & Teens,Studienorientierung
END:VEVENT
BEGIN:VEVENT
DTSTART;TZID=Europe/Berlin:20240314T090000
DTEND;TZID=Europe/Berlin:20240314T100000
DTSTAMP:20260422T101651
CREATED:20230913T140909Z
LAST-MODIFIED:20230913T140909Z
UID:46604-1710406800-1710410400@www.kommunale-koordinierung.com
SUMMARY:IHK-Sprechstunde Fachpraktikerausbildung
DESCRIPTION:Fachpraktiker-Ausbildung – was ist das? Unsere aktuelle Sprechstunde der Industrie- und Handelskammer Düsseldorf bietet die Chance\, ohne Stress persönliche Fragen zu besprechen und Antworten durch die Fachberaterin Gisela Kwiatek inklusive Bildung zu erhalten. Weitere Infos findest du hier. \nKontakt:\nGisela Kwiatek\nTel.-Nr.: 0211 3557-420
URL:https://www.kommunale-koordinierung.com/event/ihk-sprechstunde-fachpraktikerausbildung-10/
LOCATION:Telefonisch\, Düsseldorf
CATEGORIES:BO mit Förderbedarf,Eltern & Teens
END:VEVENT
BEGIN:VEVENT
DTSTART;TZID=Europe/Berlin:20240314T100000
DTEND;TZID=Europe/Berlin:20240314T140000
DTSTAMP:20260422T101651
CREATED:20240223T085335Z
LAST-MODIFIED:20240228T114639Z
UID:47876-1710410400-1710424800@www.kommunale-koordinierung.com
SUMMARY:Ausbildungs- und Studienmesse „Tag des öffentlichen Diensts“
DESCRIPTION:Die Agentur für Arbeit lädt zur Ausbildungs- und Studienmesse „Tag des öffentlichen Diensts“ ein. \nZu Gast sind 14 Arbeitgeber aus dem öffentlichen Dienst. \nDie Veranstaltung empfiehlt sich sowohl für Vorentlassklassen als auch Entlassklassen und bietet den Schülerinnen und Schüler die Möglichkeit\, Kontakte für das nächste Ausbildungsjahr zu knüpfen oder Ideen und Einblicke aus den spannenden Bereichen des öffentlichen Diensts zu sammeln. \nWeitere Informationen:\nhttps://web.arbeitsagentur.de/portal/metasuche/suche/veranstaltungen/10000-2001063163-V
URL:https://www.kommunale-koordinierung.com/event/ausbildungs-und-studienmesse-tag-des-oeffentlichen-diensts/
LOCATION:B.i.Z.\, Agentur für Arbeit Düsseldorf\, Grafenberger Allee 300\, Düsseldorf\, 40237\, Deutschland
CATEGORIES:Ausbildung,Berufliche Orientierung,Eltern & Teens,Lehrkräfte,Messe
END:VEVENT
BEGIN:VEVENT
DTSTART;TZID=Europe/Berlin:20240315T140000
DTEND;TZID=Europe/Berlin:20240315T180000
DTSTAMP:20260422T101651
CREATED:20240129T111218Z
LAST-MODIFIED:20240129T111218Z
UID:47789-1710511200-1710525600@www.kommunale-koordinierung.com
SUMMARY:Sprechstunde der HWK zu Berufswahl und Ausbildungsvermittlung
DESCRIPTION:Die Sprechstunde der Handwerkskammer Düsseldorf bietet Gelegenheit\, in Ruhe individuelle Fragen zu klären und persönliche Empfehlungen durch das Beratungspersonal zu erhalten. Bitte melden Sie sich telefonisch oder per Mail an bei: \nThomas Pohl\nTel.-Nr.: 0211-8795-603\nE-Mail: thomas.pohl@hwk-duesseldorf.de \nDie Sprechstunde findet abhängig von Ihren Wünschen telefonisch\, per Zoom-Meeting oder vor Ort in der HWK statt. Zusätzlich zu den Sprechstunden können Sie auch individuelle Termine vereinbaren.
URL:https://www.kommunale-koordinierung.com/event/sprechstunde-der-hwk-zu-berufswahl-und-ausbildungsvermittlung-2/
LOCATION:Handwerkskammer Düsseldorf\, Georg-Schulhoff-Platz 1\, Düsseldorf\, 40221\, Deutschland
CATEGORIES:Ausbildung,Berufliche Orientierung,Eltern & Teens,Mit Anmeldung
END:VEVENT
BEGIN:VEVENT
DTSTART;VALUE=DATE:20240318
DTEND;VALUE=DATE:20240321
DTSTAMP:20260422T101651
CREATED:20230825T082741Z
LAST-MODIFIED:20230825T082741Z
UID:46127-1710720000-1710979199@www.kommunale-koordinierung.com
SUMMARY:Düsseldorfer Tage der Beruflichen Orientierung (DTBO) 2024
DESCRIPTION:Die beliebten eintägigen Berufsfelderkundungen der DTBO finden 2024 vom 18.03.-20.03. statt! \nWeitere Informationen finden Sie unter:\nwww.dtbo-dus.de
URL:https://www.kommunale-koordinierung.com/event/duesseldorfer-tage-der-beruflichen-orientierung-dtbo-2024/
LOCATION:verschiedene Orte im gesamten Stadtgebiet\, Düsseldorf
CATEGORIES:Berufliche Orientierung,Eltern & Teens,Schulen,Unternehmen
END:VEVENT
BEGIN:VEVENT
DTSTART;TZID=Europe/Berlin:20240321T120000
DTEND;TZID=Europe/Berlin:20240321T160000
DTSTAMP:20260422T101651
CREATED:20240119T103357Z
LAST-MODIFIED:20240119T103357Z
UID:47699-1711022400-1711036800@www.kommunale-koordinierung.com
SUMMARY:Azubi-Speed-Dating der IHK 21.03.
DESCRIPTION:Bei den Azubi-Speed-Datings stellen sich Jugendliche in zehn Minuten bei einem Unternehmen ihrer Wahl vor und präsentieren ihre Stärken. Der persönliche Eindruck zählt mehr als Noten und Abschlüsse. So überzeugen sie den Ausbilder oder Personaler beim Azubi-Speed-Dating von ihrer Eignung. \nWenn es gut läuft\, kommt es zum „Recall“ und der Jugendliche wird zu einem Bewerbungsgespräch oder Test ins Unternehmen eingeladen und unterschreibt im besten Fall nur wenige Tage oder Wochen nach dem Azubi-Speed-Dating einen Ausbildungsvertrag. \nWeitere Informationen gibt es hier.
URL:https://www.kommunale-koordinierung.com/event/azubi-speed-dating-der-ihk-21-03/
LOCATION:Stadthalle Hilden\, Fritz-Gressard-Platz 1\, Hilden\, 40721\, Deutschland
CATEGORIES:Ausbildung,Berufliche Orientierung,Eltern & Teens,Geflüchtete,Schulen,Studienorientierung
END:VEVENT
BEGIN:VEVENT
DTSTART;TZID=Europe/Berlin:20240323T110000
DTEND;TZID=Europe/Berlin:20240323T150000
DTSTAMP:20260422T101651
CREATED:20240122T090749Z
LAST-MODIFIED:20240122T090749Z
UID:47726-1711191600-1711206000@www.kommunale-koordinierung.com
SUMMARY:Stuzubi Digital
DESCRIPTION:Was soll ich nach dem Abschluss machen? Eine Ausbildung?\nOder besser ein Studium?\nInformier‘ dich bei der Stuzubi digital\, was am besten zu dir passt! \nWeitere Infos gibt es unter:\nhttps://stuzubi.de/digital/
URL:https://www.kommunale-koordinierung.com/event/stuzubi-digital/
LOCATION:Online
CATEGORIES:Ausbildung,Berufliche Orientierung,Eltern & Teens,Lehrkräfte,Studienorientierung
END:VEVENT
BEGIN:VEVENT
DTSTART;TZID=Europe/Berlin:20240325T090000
DTEND;TZID=Europe/Berlin:20240406T150000
DTSTAMP:20260422T101651
CREATED:20240226T114950Z
LAST-MODIFIED:20240226T115348Z
UID:47881-1711357200-1712415600@www.kommunale-koordinierung.com
SUMMARY:Feriencampus der Hochschule Niederrhein
DESCRIPTION:In den Osterferien finden an der Hochschule Niederrhein in Mönchengladbach und Krefeld Workshops für studieninteressierte Schülerinnen und Schüler statt. Die Angebote richten sich an Schülerinnen und Schüler ab 13 Jahre (bzw. ab Klasse 11 für das Angebot im Bereich Design). \nDie Schülerinnen und Schüler erwarten mehrere Workshops\, die die faszinierende und spannende Welt des Tüftelns und des Experimentierens mit Naturwissenschaft\, Mathematik\, Informatik und Technik näherbringen. Die Veranstaltung im Fachbereich Design bietet Schüler:innen einen praktischen Einblick in die Designstudiengänge an der HSNR. Das Programm und weitere Informationen\, z.B. zur Anmeldung finden Sie unter:\n www.hs-niederrhein.de/osterferiencampus 
URL:https://www.kommunale-koordinierung.com/event/feriencampus-der-hochschule-niederrhein/
LOCATION:Hochschule Niederrhein\, Richard-Wagner-Str.97\, Mönchengladbach\, 41065
CATEGORIES:Eltern & Teens,Mit Anmeldung,Studienorientierung
END:VEVENT
BEGIN:VEVENT
DTSTART;TZID=Europe/Berlin:20240328T090000
DTEND;TZID=Europe/Berlin:20240328T100000
DTSTAMP:20260422T101651
CREATED:20230913T141106Z
LAST-MODIFIED:20230913T141106Z
UID:46607-1711616400-1711620000@www.kommunale-koordinierung.com
SUMMARY:IHK-Sprechstunde Fachpraktikerausbildung
DESCRIPTION:Fachpraktiker-Ausbildung – was ist das? Unsere aktuelle Sprechstunde der Industrie- und Handelskammer Düsseldorf bietet die Chance\, ohne Stress persönliche Fragen zu besprechen und Antworten durch die Fachberaterin Gisela Kwiatek inklusive Bildung zu erhalten. Weitere Infos findest du hier. \nKontakt:\nGisela Kwiatek\nTel.-Nr.: 0211 3557-420
URL:https://www.kommunale-koordinierung.com/event/ihk-sprechstunde-fachpraktikerausbildung-11/
LOCATION:Telefonisch\, Düsseldorf
CATEGORIES:BO mit Förderbedarf,Eltern & Teens
END:VEVENT
END:VCALENDAR