BEGIN:VCALENDAR
VERSION:2.0
PRODID:-//Kommunale Koordinierung - ECPv6.15.20//NONSGML v1.0//EN
CALSCALE:GREGORIAN
METHOD:PUBLISH
X-WR-CALNAME:Kommunale Koordinierung
X-ORIGINAL-URL:https://www.kommunale-koordinierung.com
X-WR-CALDESC:Veranstaltungen für Kommunale Koordinierung
REFRESH-INTERVAL;VALUE=DURATION:PT1H
X-Robots-Tag:noindex
X-PUBLISHED-TTL:PT1H
BEGIN:VTIMEZONE
TZID:Europe/Berlin
BEGIN:DAYLIGHT
TZOFFSETFROM:+0100
TZOFFSETTO:+0200
TZNAME:CEST
DTSTART:20230326T010000
END:DAYLIGHT
BEGIN:STANDARD
TZOFFSETFROM:+0200
TZOFFSETTO:+0100
TZNAME:CET
DTSTART:20231029T010000
END:STANDARD
BEGIN:DAYLIGHT
TZOFFSETFROM:+0100
TZOFFSETTO:+0200
TZNAME:CEST
DTSTART:20240331T010000
END:DAYLIGHT
BEGIN:STANDARD
TZOFFSETFROM:+0200
TZOFFSETTO:+0100
TZNAME:CET
DTSTART:20241027T010000
END:STANDARD
BEGIN:DAYLIGHT
TZOFFSETFROM:+0100
TZOFFSETTO:+0200
TZNAME:CEST
DTSTART:20250330T010000
END:DAYLIGHT
BEGIN:STANDARD
TZOFFSETFROM:+0200
TZOFFSETTO:+0100
TZNAME:CET
DTSTART:20251026T010000
END:STANDARD
END:VTIMEZONE
BEGIN:VEVENT
DTSTART;TZID=Europe/Berlin:20240104T090000
DTEND;TZID=Europe/Berlin:20240104T160000
DTSTAMP:20260422T142846
CREATED:20230913T142729Z
LAST-MODIFIED:20230913T144013Z
UID:46626-1704358800-1704384000@www.kommunale-koordinierung.com
SUMMARY:Ausbildungs-Sprechstunde der IHK
DESCRIPTION:Du möchtest eine Ausbildung machen und brauchst Unterstützung? Dann ruf uns gerne an unter der Tel.-Nr. 0211 3557-448.\nWir haben Kontakt zu vielen Industrie- und Handelsunternehmen in Düsseldorf und im Kreis Mettmann und unterstützen dich dabei\, einen Ausbildungsplatz zu finden. Falls du dich vorab informieren möchtest\, schaue gerne auf unserer Website vorbei:\nwww.ausbildung-klarmachen.de
URL:https://www.kommunale-koordinierung.com/event/ihk-ausbildungssprechstunde-4/
LOCATION:Telefonisch\, Düsseldorf
CATEGORIES:Ausbildung,Eltern & Teens
END:VEVENT
BEGIN:VEVENT
DTSTART;TZID=Europe/Berlin:20240110T090000
DTEND;TZID=Europe/Berlin:20240110T180000
DTSTAMP:20260422T142846
CREATED:20231211T084926Z
LAST-MODIFIED:20231211T090431Z
UID:47403-1704877200-1704909600@www.kommunale-koordinierung.com
SUMMARY:Job-Speed-Dating der Stadt Düsseldorf
DESCRIPTION:Die berufliche Zukunft bei der Landeshauptstadt Düsseldorf steckt voller Möglichkeiten: Am 10. Januar 2024 veranstaltet die Stadt ein Job-Speed-Dating und öffnet dabei ihre Türen. Meldet euch jetzt per E-Mail an\, kommt vorbei und entdeckt die vielfältigen Ausbildungs- und Jobangebote der Stadt. Egal ob Technik\, Verwaltung\, Soziales oder Kultur – hier ist für jeden etwas dabei! Die Teilnahme ist kostenlos. \nZudem bietet die Veranstaltung eine hervorragende Plattform zum Netzwerken und Kennenlernen von Fachleuten aus insgesamt 19 Fachbereichen der Stadt\, die beraten und alle Informationen parat haben\, die für eine richtige Karriereentscheidung benötigt werden. \nEgal\, ob ihr noch zur Schule geht\, frisch von der Uni kommt\, eine berufliche Veränderung braucht oder einfach nach neuen Herausforderungen sucht – das Job-Speed-Dating der Landeshauptstadt Düsseldorf ist die Gelegenheit\, in eine neue berufliche Zukunft zu starten. \nEs ist eine Anmeldung erforderlich unter: jobspeeddating@duesseldorf.de \nWeitere Infos findet ihr hier.
URL:https://www.kommunale-koordinierung.com/event/job-speeddating-stadt-duesseldorf/
LOCATION:Zentralbibliothek\, Konrad-Adenauer-Platz 1\, Düsseldorf\, 40210
CATEGORIES:Ausbildung,Berufliche Orientierung,Mit Anmeldung
END:VEVENT
BEGIN:VEVENT
DTSTART;TZID=Europe/Berlin:20240110T093000
DTEND;TZID=Europe/Berlin:20240110T123000
DTSTAMP:20260422T142846
CREATED:20230825T081511Z
LAST-MODIFIED:20230825T081511Z
UID:46109-1704879000-1704889800@www.kommunale-koordinierung.com
SUMMARY:Offene Sprechstunde der Reha-Beratung am 10.01.
DESCRIPTION:Die Agentur für Arbeit Düsseldorf bietet für Jugendliche mit besonderem Förderbedarf\, zusätzlich zur bekannten allgemeinen Berufsberatung\, die Beratung durch speziell geschulte Reha-Berufsberater*innen an. \nDie offene Sprechstunde der Reha-Beratung findet jeden zweiten Mittwoch im Monat von 09:30-12:30 Uhr im Zentrum für Berufsorientierung und Übergänge statt. \nEltern\, Lehrkräfte und Schülerinnen und Schüler können ohne Anmeldung vorbeikommen und sich vom Reha-Beratungsteam der Agentur für Arbeit beraten lassen. Beim Besuch mit einer Schülergruppe ist eine Voranmeldung sinnvoll\, um im Vorfeld Themen abzusprechen. \nFür Rückfragen steht Ihnen Frau Scheid gern zur Verfügung! \nKontakt Reha-Beratung:\nAgentur für Arbeit Düsseldorf – Team Reha/SB\nDuesseldorf.261-Reha@arbeitsagentur.de
URL:https://www.kommunale-koordinierung.com/event/offene-sprechstunde-der-reha-beratung-am-10-01/
LOCATION:ZBÜ\, Willi-Becker-Allee 10\, Düsseldorf\, 40227\, Deutschland
CATEGORIES:Berufliche Orientierung,BO mit Förderbedarf,Eltern & Teens
END:VEVENT
BEGIN:VEVENT
DTSTART;TZID=Europe/Berlin:20240110T140000
DTEND;TZID=Europe/Berlin:20240110T160000
DTSTAMP:20260422T142846
CREATED:20231127T121330Z
LAST-MODIFIED:20231127T122234Z
UID:47265-1704895200-1704902400@www.kommunale-koordinierung.com
SUMMARY:StuBo-Arbeitskreis der Berufskollegs am 10.01.
DESCRIPTION:Wir laden alle Düsseldorfer Berufskollegs herzlich zur nächsten StuBo-Arbeitskreissitzung der Berufskollegs ein. \nOrt:\nStiftung PRO AUSBILDUNG\nAchenbachstr. 28\n40237 Düsseldorf \nThemen der Sitzung werden u. a. sein: \nAktuelles aus KAoA\, Relaunch Praktikumsbörse\, Umsetzung der neuen Praktikumsverordnung \nOffizielle Einladung \nBitte melden Sie sich unten zu der Veranstaltung an. \nBei Fragen wenden Sie sich bitte an:\nChristiane Stedeler-Gabriel\nTelefon: 0211 8996513\nE-Mail: christiane.stedelergabriel@duesseldorf.de \nDer Arbeitskreis ist eine gemeinsame Veranstaltung der Kommunalen Koordinierung Düsseldorf und des Kompetenzzentrums Berufliche Orientierung mit der Schulaufsicht der Landeshauptstadt Düsseldorf. \n\n \n\n\n\nVorname *\n\n\nNachname *\n\n\n\n\nSchule/Institution *\n\n\n\n\nE-Mail Adresse *\n\n\n\n\nGDPR *Ja\, ich bin mit den Datenschutzbestimmungen einverstanden.\n\n\n \n\n\nNachricht senden
URL:https://www.kommunale-koordinierung.com/event/stubo-arbeitskreis-der-berufskollegs-am-10-01/
LOCATION:Stiftung PRO AUSBILDUNG\, Achenbachstr. 28\, Düsseldorf\, 40237
CATEGORIES:Berufskolleg,StuBo-Arbeitskreis,StuBos
END:VEVENT
BEGIN:VEVENT
DTSTART;VALUE=DATE:20240113
DTEND;VALUE=DATE:20240210
DTSTAMP:20260422T142850
CREATED:20230906T072517Z
LAST-MODIFIED:20230906T072751Z
UID:46356-1705104000-1707523199@www.kommunale-koordinierung.com
SUMMARY:Wochen der Studienorientierung - Hochschule Niederrhein
DESCRIPTION:Die „Wochen der Studienorientierung“ sind eine gemeinsame Initiative des Ministeriums für Kultur und Wissenschaft\, des Ministeriums für Schule und Bildung\, der Regionaldirektion des Landes NRW\, der Bundesagentur für Arbeit und der NRW-Hochschulen. Die Hochschule Niederrhein bietet auch diesmal ein vielfältiges Programm an. Euch erwarten: \n\nCAMPUS TAGE der Fachbereiche\nDigitale Workshops mit Studierenden\, z.B. „Studium und Stipendium\, wie geht das?“\nVorträge zu technischen Studiengängen (vor Ort und digital)\nDigitale Vorträge zur Studienorientierung\nCampusführungen\nThema: Studienfinanzierung – ArbeiterKind.de\nIndividuelle Berufsberatung – Bundesagentur für Arbeit\n\nFür die Teilnahme ist eine Anmeldung erforderlich. Weitere Informationen finden sich unter:\nhs-niederrhein.de/zsb/orientierungsangebote/
URL:https://www.kommunale-koordinierung.com/event/wochen-der-studienorientierung-hochschule-niederrhein/
LOCATION:HS Niederrhein\, Webschulstraße 41-43\, Mönchengladbach\, 41065
CATEGORIES:Berufliche Orientierung,Eltern & Teens,Studienorientierung
END:VEVENT
BEGIN:VEVENT
DTSTART;VALUE=DATE:20240115
DTEND;VALUE=DATE:20240120
DTSTAMP:20260422T142850
CREATED:20211208T151349Z
LAST-MODIFIED:20230828T071831Z
UID:26337-1705276800-1705708799@www.kommunale-koordinierung.com
SUMMARY:Duales Orientierungspraktikum (DOP)
DESCRIPTION:Eine Woche lang Studierende*r sein? Und danach ein bis zwei Wochen deine Studienwahlentscheidung in der Praxis durch ein Praktikum festigen? Das geht – beim Dualen Orientierungspraktikum! Das Programm setzt sich aus drei Bausteinen zusammen: \n\n Vor-Ort Besuche von Seminaren und Vorlesungen an der Hochschule Düsseldorf und der Heinrich-Heine-Universität\nDigitalen Veranstaltungen unterschiedlicher Hochschulen und Unternehmen aus der Region\, in denen du in Vorlesungen und Seminaren oder in Study-Talks mit Studierenden deine Entscheidung für ein Studium oder ein Duales Studium konkretisierst.\nUnd einem Praktikum in einem Unternehmen deiner Wahl (wird durch deine Schule vorbereitet und organisiert).\n\nWeitere Informationen findest du in Kürze hier: www.digi-dop.de
URL:https://www.kommunale-koordinierung.com/event/digi-dop-studieren-ausprobieren-2/
LOCATION:Heinrich-Heine-Universität Düsseldorf\, Hochschule Düsseldorf\, Hochschulen in ganz NRW\, Nordrhein-Westfalen
CATEGORIES:Berufliche Orientierung,Eltern & Teens,Studienorientierung
END:VEVENT
BEGIN:VEVENT
DTSTART;VALUE=DATE:20240115
DTEND;VALUE=DATE:20240120
DTSTAMP:20260422T142850
CREATED:20230823T100526Z
LAST-MODIFIED:20251113T125619Z
UID:46084-1705276800-1705708799@www.kommunale-koordinierung.com
SUMMARY:Woche der Studienorientierung
DESCRIPTION:Auch 2024 heißt es für Schüler*innen der Sek. II wieder: Campusluft schnuppern\, Vorlesungen besuchen\, mit Lehrenden und Studierenden ins Gespräch kommen\, Einrichtungen der Universitäten in ganz NRW kennenlernen und Angebote der Studienberatung nutzen. Eine Woche lang können alle an einem Studium Interessierten sich so schon vor dem Abitur über Studienfächer\, Berufsperspektiven\, Bewerbungsverfahren und Zugangsvoraussetzungen informieren.
URL:https://www.kommunale-koordinierung.com/event/woche-der-studienorientierung-2/
LOCATION:Heinrich-Heine-Universität Düsseldorf\, Hochschule Düsseldorf\, Hochschulen in ganz NRW\, Nordrhein-Westfalen
CATEGORIES:Berufliche Orientierung,Eltern & Teens,Studienorientierung
END:VEVENT
BEGIN:VEVENT
DTSTART;TZID=Europe/Berlin:20240116T090000
DTEND;TZID=Europe/Berlin:20240116T100000
DTSTAMP:20260422T142850
CREATED:20230912T113413Z
LAST-MODIFIED:20230912T113413Z
UID:46529-1705395600-1705399200@www.kommunale-koordinierung.com
SUMMARY:Sprechstunde Einstiegsqualifizierung der IHK
DESCRIPTION:Wenn du noch keinen Ausbildungsplatz gefunden hast\, weil deine Noten nicht die besten sind oder du bei Vorstellungsgesprächen zu ruhig bist\, aber genau weißt\, was du werden willst\, dann ist die Einstiegsqualifizierung (EQ) genau das richtige für dich. In einem Ausbildungsunternehmen lernst du bei deinem 6 – 12 monatigen Praktikum (EQ) erste Inhalte eines Ausbildungsberufes kennen und kannst dich in der täglichen Arbetit und im Berufsschulunterricht beweisen. Das Praktikum kann später auf eine Ausbildung angerechnet werden. Infos dazu findest du hier. \nWenn du mehr erfahren willst\, dann melde dich gerne telefonisch in der Sprechstunde. \nKontakt:\nSabine Agreiter\nTel.-Nr.: 0211-3557-435
URL:https://www.kommunale-koordinierung.com/event/sprechstunde-einstiegsqualifizierung-der-ihk-4/
LOCATION:Telefonisch\, Düsseldorf
CATEGORIES:Ausbildung,Berufliche Orientierung,Eltern & Teens
END:VEVENT
BEGIN:VEVENT
DTSTART;TZID=Europe/Berlin:20240116T160000
DTEND;TZID=Europe/Berlin:20240116T173000
DTSTAMP:20260422T142850
CREATED:20231018T090258Z
LAST-MODIFIED:20231018T090345Z
UID:46909-1705420800-1705426200@www.kommunale-koordinierung.com
SUMMARY:"Last-Minute-Beratung" am Max-Weber-Berufskolleg
DESCRIPTION:​​​​​​Die „Last-Minute-Beratung“ bietet eine letzte Möglichkeit für die Schülerinnen und Schüler\, sich vor dem Start der Anmeldungen über alle Bildungsoptionen am Max-Weber-Berufskolleg zu informieren. \nWeitere Informationen finden Sie unter:\nwww.max-weber-berufskolleg.de
URL:https://www.kommunale-koordinierung.com/event/last-minute-beratung-am-max-weber-berufskolleg/
LOCATION:Max-Weber-Berufskolleg\, Suitbertusstraße 163-165\, Düsseldorf
CATEGORIES:Berufliche Orientierung,Berufskolleg,Eltern & Teens
END:VEVENT
BEGIN:VEVENT
DTSTART;TZID=Europe/Berlin:20240118T090000
DTEND;TZID=Europe/Berlin:20240118T100000
DTSTAMP:20260422T142850
CREATED:20230913T134350Z
LAST-MODIFIED:20230913T134350Z
UID:46594-1705568400-1705572000@www.kommunale-koordinierung.com
SUMMARY:IHK-Sprechstunde Fachpraktikerausbildung
DESCRIPTION:Fachpraktiker-Ausbildung – was ist das? Unsere aktuelle Sprechstunde der Industrie- und Handelskammer Düsseldorf bietet die Chance\, ohne Stress persönliche Fragen zu besprechen und Antworten durch die Fachberaterin Gisela Kwiatek inklusive Bildung zu erhalten. Weitere Infos findest du hier. \nKontakt:\nGisela Kwiatek\nTel.-Nr.: 0211 3557-420
URL:https://www.kommunale-koordinierung.com/event/ihk-sprechstunde-fachpraktikerausbildung-7/
LOCATION:Telefonisch\, Düsseldorf
CATEGORIES:BO mit Förderbedarf,Eltern & Teens
END:VEVENT
BEGIN:VEVENT
DTSTART;TZID=Europe/Berlin:20240118T093000
DTEND;TZID=Europe/Berlin:20240118T131000
DTSTAMP:20260422T142850
CREATED:20231016T084712Z
LAST-MODIFIED:20231016T084828Z
UID:46833-1705570200-1705583400@www.kommunale-koordinierung.com
SUMMARY:"Open house day" am Leo-Statz-Berufskolleg
DESCRIPTION:Liebe Schülerinnen und Schüler der 10. Klasse\, \ndieses Jahr findet unser Tag der offenen Tür in einem anderen Format statt: \nAm Donnerstag\, den 18.01.2024 laden wir euch von 9:30 Uhr bis 13:10 Uhr ganz herzlich zu einem „Open house day“ am Leo-Statz-Berufskolleg ein. \nAn diesem Tag habt ihr in unserem Gebäude in der Kirchfeldstraße 94-96 die Möglichkeit\, in den Unterricht von ausgewählten Fächern der Unterstufen im Bildungsgang „kaufmännische Assistenten (Fachrichtung Informationsverarbeitung)“ zu schnuppern. Außerdem habt ihr die Gelegenheit\, mit Lehrerinnen und Lehrern sowie mit Schülerinnen und Schülern ins Gespräch zu kommen und Beratungsmöglichkeiten wahrzunehmen. \nEs ist eine Anmeldung erforderlich unter:  \nwww.leo-statz-berufskolleg.de
URL:https://www.kommunale-koordinierung.com/event/open-house-day-am-leo-statz-berufskolleg/
LOCATION:Leo-Statz-Berufkolleg\, Kirchfeldstr. 94/96\, Düsseldorf
CATEGORIES:Berufliche Orientierung,Berufskolleg,Eltern & Teens,Mit Anmeldung
END:VEVENT
BEGIN:VEVENT
DTSTART;TZID=Europe/Berlin:20240119T090000
DTEND;TZID=Europe/Berlin:20240119T160000
DTSTAMP:20260422T142850
CREATED:20240103T092743Z
LAST-MODIFIED:20240103T092743Z
UID:47525-1705654800-1705680000@www.kommunale-koordinierung.com
SUMMARY:Engineering Days der Hochschule Niederrhein
DESCRIPTION:An der Hochschule Niederrhein laden euch die vier Fachbereiche Chemie\, Elektrotechnik und Informatik\, Maschinenbau und Verfahrenstechnik sowie Wirtschaftsingenieurwesen zu den Engineering Days ein! \nEs erwarten euch: \n\nBeratung zu unseren praxisnahen Studiengängen und dem Orientierungssemester im April 2024\nTipps und Informationen zu Bewerbung und Einschreibung\nInformationen zum Ingenieurberuf\nCampus- und Laborführungen\nAusstellung von studentischen Projektarbeiten und Forschungsprojekten\n\nFür Schulen\, die einen Besuch mit einem Kurs planen\, kann ein Zusatzprogramm arrangiert werden. Bitte nehmen Sie dazu Kontakt auf unter: studienberatung@hs-niederrhein.de \nMehr Infos unter: www.hs-niederrhein.de/engineering-days
URL:https://www.kommunale-koordinierung.com/event/engineering-days-der-hochschule-niederrhein/
LOCATION:Hochschule Niederrhein\, Campus Krefeld Süd\, Obergath 79\, 47805 Krefeld\, Deutschland
CATEGORIES:Eltern & Teens,Schulen,Studienorientierung
END:VEVENT
BEGIN:VEVENT
DTSTART;TZID=Europe/Berlin:20240119T150000
DTEND;TZID=Europe/Berlin:20240119T170000
DTSTAMP:20260422T142850
CREATED:20231018T085509Z
LAST-MODIFIED:20240118T141548Z
UID:46905-1705676400-1705683600@www.kommunale-koordinierung.com
SUMMARY:Experience Lab am Max-Weber-Berufskolleg
DESCRIPTION:Das Thema des Experience Labs lautet „Virtual Reality“. Interessierte Schülerinnen und Schüler haben in diesem Workshop die Möglichkeit\, sich mit wirtschaftlichen Fragestellungen sowie der Arbeitswelt von morgen auseinanderzusetzen. \nEs ist eine Anmeldung erforderlich unter: info@mwbk.nrw.schule \nWeitere Informationen finden Sie unter:\nwww.max-weber-berufskolleg.de
URL:https://www.kommunale-koordinierung.com/event/experience-lab-am-max-weber-berufskolleg-3/
LOCATION:Max-Weber-Berufskolleg\, Suitbertusstraße 163-165\, Düsseldorf
CATEGORIES:Berufliche Orientierung,Berufskolleg,Eltern & Teens,Mit Anmeldung
END:VEVENT
BEGIN:VEVENT
DTSTART;TZID=Europe/Berlin:20240120T090000
DTEND;TZID=Europe/Berlin:20240120T130000
DTSTAMP:20260422T142850
CREATED:20240103T093142Z
LAST-MODIFIED:20240103T093142Z
UID:47529-1705741200-1705755600@www.kommunale-koordinierung.com
SUMMARY:Engineering Days der Hochschule Niederrhein
DESCRIPTION:An der Hochschule Niederrhein laden euch die vier Fachbereiche Chemie\, Elektrotechnik und Informatik\, Maschinenbau und Verfahrenstechnik sowie Wirtschaftsingenieurwesen zu den Engineering Days ein! \nEs erwarten euch: \n\nBeratung zu unseren praxisnahen Studiengängen und dem Orientierungssemester im April 2024\nTipps und Informationen zu Bewerbung und Einschreibung\nInformationen zum Ingenieurberuf\nCampus- und Laborführungen\nAusstellung von studentischen Projektarbeiten und Forschungsprojekten\n\nFür Schulen\, die einen Besuch mit einem Kurs planen\, kann ein Zusatzprogramm arrangiert werden. Bitte nehmen Sie dazu Kontakt auf unter: studienberatung@hs-niederrhein.de \nMehr Infos unter: www.hs-niederrhein.de/engineering-days
URL:https://www.kommunale-koordinierung.com/event/engineering-days-der-hochschule-niederrhein-2/
LOCATION:Hochschule Niederrhein\, Campus Krefeld Süd\, Obergath 79\, 47805 Krefeld\, Deutschland
CATEGORIES:Eltern & Teens,Schulen,Studienorientierung
END:VEVENT
BEGIN:VEVENT
DTSTART;TZID=Europe/Berlin:20240123T093000
DTEND;TZID=Europe/Berlin:20240123T131000
DTSTAMP:20260422T142850
CREATED:20231016T085122Z
LAST-MODIFIED:20231016T085254Z
UID:46839-1706002200-1706015400@www.kommunale-koordinierung.com
SUMMARY:"Open house day" am Leo-Statz-Berufskolleg
DESCRIPTION:Liebe Schülerinnen und Schüler der 10. Klasse\, \ndieses Jahr findet unser Tag der offenen Tür in einem anderen Format statt: \nAm Dienstag\, den 23.01.2024 laden wir euch von 9:30 Uhr bis 13:10 Uhr ganz herzlich zu einem „Open house day“ am Leo-Statz-Berufskolleg ein. \nAn diesem Tag habt ihr in unserem Gebäude in der Kirchfeldstraße 94-96 die Möglichkeit\, in den Unterricht von ausgewählten Fächern der Unterstufen im Bildungsgang „kaufmännische Assistenten (Fachrichtung Informationsverarbeitung)“ zu schnuppern. Außerdem habt ihr die Gelegenheit\, mit Lehrerinnen und Lehrern sowie mit Schülerinnen und Schülern ins Gespräch zu kommen und Beratungsmöglichkeiten wahrzunehmen. \nEs ist eine Anmeldung erforderlich unter:  \nwww.leo-statz-berufskolleg.de
URL:https://www.kommunale-koordinierung.com/event/open-house-day-am-leo-statz-berufskolleg-2/
LOCATION:Leo-Statz-Berufkolleg\, Kirchfeldstr. 94/96\, Düsseldorf
CATEGORIES:Berufliche Orientierung,Berufskolleg,Eltern & Teens,Mit Anmeldung
END:VEVENT
BEGIN:VEVENT
DTSTART;TZID=Europe/Berlin:20240123T100000
DTEND;TZID=Europe/Berlin:20240123T130000
DTSTAMP:20260422T142850
CREATED:20231120T131210Z
LAST-MODIFIED:20240112T120426Z
UID:47120-1706004000-1706014800@www.kommunale-koordinierung.com
SUMMARY:Azubi-Speedating der HWK
DESCRIPTION:Am Dienstag\, den 23. Januar findet das Azubi-Speedating der Handwerkskammer in Düsseldorf statt. Unternehmen verschiedener Gewerke präsentieren sich und ihr Ausbildungsangebot. \nAn ihren Beratungsständen stehen sie für kurze Bewerbungsgespräche zur Verfügung. Auch Praktikumsstellen und Duale/Triale Studienplätze werden angeboten. \nEine Anmeldung ist nicht notwendig. Allerdings sollten Lebenslauf und Zeugnisse mitgebracht werden. \nWeitere Infos unter:\n https://veranstaltung.hwk-duesseldorf.de/azubispeeddating-2024 \nUnternehmensliste
URL:https://www.kommunale-koordinierung.com/event/azubi-speedating-der-hwk/
LOCATION:Handwerkskammer Düsseldorf\, Georg-Schulhoff-Platz 1\, Düsseldorf\, 40221\, Deutschland
CATEGORIES:Ausbildung,Berufliche Orientierung,Eltern & Teens,Schulen
END:VEVENT
BEGIN:VEVENT
DTSTART;TZID=Europe/Berlin:20240123T140000
DTEND;TZID=Europe/Berlin:20240123T153000
DTSTAMP:20260422T142850
CREATED:20231221T075203Z
LAST-MODIFIED:20231221T075203Z
UID:47494-1706018400-1706023800@www.kommunale-koordinierung.com
SUMMARY:Campusführung Hochschule Düsseldorf
DESCRIPTION:Wie sieht der Campus der Hochschule Düsseldorf aus? \nWo sind welche Fachbereiche untergebracht\, wo die Bibliothek und die Mensa? \nDas und mehr erfahren Sie bei der Führung auf unserem schönen Campus. \nWeitere Informationen:\nhttps://share.hs-duesseldorf.de/anmeldungen/zsb/start.aspx
URL:https://www.kommunale-koordinierung.com/event/campusfuehrung-hochschule-duesseldorf/
LOCATION:Hochschule Düsseldorf\, Münsterstraße 156\, 40476 Düsseldorf\, Deutschland
CATEGORIES:Studienorientierung
END:VEVENT
BEGIN:VEVENT
DTSTART;VALUE=DATE:20240125
DTEND;VALUE=DATE:20240126
DTSTAMP:20260422T142850
CREATED:20231221T094725Z
LAST-MODIFIED:20231221T094912Z
UID:47498-1706140800-1706227199@www.kommunale-koordinierung.com
SUMMARY:Digitale Südwestfälische Studieninfobörse
DESCRIPTION:Was soll ich studieren? Was arbeiten? \nWelches Fach ist für mich das beste? Ist ein Studium schwer und was muss ich an Voraussetzungen mitbringen? Brauche ich Abitur\, gibt es einen NC? Was kostet ein Studium?\nAntworten geben Expert*innen am 25.01.2024 bei der digitalen südwestfälischen Studienbörse: Zahlreiche Hochschulen und Institutionen aus ganz Nordrhein-Westfalen informieren Studieninteressierte einen Tag lang online und kostenlos zu allen Fragen der Studien- und Berufswahl. Die Börse wird von Fachhochschule Südwestfalen und der Arbeitsagentur Meschede-Soest organisiert. Los geht’s um 8:30 Uhr. \nDie Teilnahme an der Studieninfobörse ist einzeln oder im Klassen-/Stufenverband möglich. Eine vorherige Anmeldung ist nicht erforderlich. \nWeitere Infos unter: www4.fh-swf.de/cms/studieninfoboerse
URL:https://www.kommunale-koordinierung.com/event/digitale-suedwestfaelische-studieninfoboerse/
LOCATION:Online
CATEGORIES:Eltern & Teens,Schulen,Studienorientierung
END:VEVENT
BEGIN:VEVENT
DTSTART;TZID=Europe/Berlin:20240126T120000
DTEND;TZID=Europe/Berlin:20240126T200000
DTSTAMP:20260422T142850
CREATED:20231221T100149Z
LAST-MODIFIED:20231221T100250Z
UID:47502-1706270400-1706299200@www.kommunale-koordinierung.com
SUMMARY:Werkschau Fachbereiche Architektur & Design
DESCRIPTION:Zum Semesterende präsentieren die Absolventinnen und Absolventen der Fachbereiche Design und Architektur der Peter Behrens School of Arts (PBSA) ihre Abschlussarbeiten in einer Werkschau. \nSchülerinnen und Schüler\, Studieninteressierte\, Lehrerinnen und Lehrer\, Alu​mni und die interessierte Öffentlichkeit sind herzlich eingeladen\, sich die Arbeiten anzuschauen und mit den Absolventinnen und Absolventen ​darüber ins Gespräch zu kommen. \nHier alle Infos auf einen Blick: \nDatum: Freitag\, den 26.01.2024\nUhrzeit: 12-20 h\nOrt: Hochschule Düsseldorf\nPeter Behrens School of Arts (PBS​A)\nGebäude 6\nMünsterstraß​e 156\n40476 Düsseldorf \nWeitere Infos finden Sie hier. \n 
URL:https://www.kommunale-koordinierung.com/event/werkschau-fachbereiche-architektur-design/
LOCATION:Hochschule Düsseldorf\, Münsterstraße 156\, 40476 Düsseldorf\, Deutschland
CATEGORIES:Berufliche Orientierung,Eltern & Teens,Schulen
END:VEVENT
BEGIN:VEVENT
DTSTART;TZID=Europe/Berlin:20240127T110000
DTEND;TZID=Europe/Berlin:20240127T140000
DTSTAMP:20260422T142850
CREATED:20240115T141703Z
LAST-MODIFIED:20240614T104758Z
UID:47632-1706353200-1706364000@www.kommunale-koordinierung.com
SUMMARY:Tag der offenen Tür am Berufskolleg Kaiserswerther Diakonie
DESCRIPTION:Am 27. Januar 2024 findet von 11 bis 14 Uhr ein Tag der offenen Tür im Berufskolleg der Kaiserswerther Diakonie statt. An das Berufskolleg der Kaiserswerther Diakonie kommen ganz unterschiedliche Schülergruppen: Realschüler: innen\, ehemalige Gesamtschüler:innen und Gymnasiastinnen und Gymnasiasten. Neben dem Abitur können sie hier auch andere Abschlüsse erwerben – etwa die Fachoberschulreife in Kombination mit dem Berufsabschluss zur Kinderpfleger:in. Bewerbungen können direkt abgegeben werden! \nWeitere Infos gibt es hier.
URL:https://www.kommunale-koordinierung.com/event/tag-der-offenen-tuer-am-berufskolleg-kaiserswerther-diakonie-3/
LOCATION:Berufskolleg Kaiserswerther Diakonie\, Alte Landstraße 179e\, Düsseldorf\, 40489
CATEGORIES:Ausbildung,Berufskolleg,Eltern & Teens
END:VEVENT
BEGIN:VEVENT
DTSTART;TZID=Europe/Berlin:20240127T110000
DTEND;TZID=Europe/Berlin:20240127T180000
DTSTAMP:20260422T142850
CREATED:20231221T100627Z
LAST-MODIFIED:20231221T100735Z
UID:47507-1706353200-1706378400@www.kommunale-koordinierung.com
SUMMARY:Werkschau Fachbereiche Architektur & Design
DESCRIPTION:Zum Semesterende präsentieren die Absolventinnen und Absolventen der Fachbereiche Design und Architektur der Peter Behrens School of Arts (PBSA) ihre Abschlussarbeiten in einer Werkschau. \nSchülerinnen und Schüler\, Studieninteressierte\, Lehrerinnen und Lehrer\, Alu​mni und die interessierte Öffentlichkeit sind herzlich eingeladen\, sich die Arbeiten anzuschauen und mit den Absolventinnen und Absolventen ​darüber ins Gespräch zu kommen. \nHier alle Infos auf einen Blick: \nDatum: Samstag\, den 27.01.2024\nUhrzeit: 12-18 h\nOrt: Hochschule Düsseldorf\nPeter Behrens School of Arts (PBS​A)\nGebäude 6\nMünsterstraß​e 156\n40476 Düsseldorf \nWeitere Infos finden Sie hier.
URL:https://www.kommunale-koordinierung.com/event/werkschau-fachbereiche-architektur-design-der-hsd/
LOCATION:Hochschule Düsseldorf\, Münsterstraße 156\, 40476 Düsseldorf\, Deutschland
CATEGORIES:Berufliche Orientierung,Eltern & Teens,Studienorientierung
END:VEVENT
END:VCALENDAR