BEGIN:VCALENDAR
VERSION:2.0
PRODID:-//Kommunale Koordinierung - ECPv6.15.20//NONSGML v1.0//EN
CALSCALE:GREGORIAN
METHOD:PUBLISH
X-WR-CALNAME:Kommunale Koordinierung
X-ORIGINAL-URL:https://www.kommunale-koordinierung.com
X-WR-CALDESC:Veranstaltungen für Kommunale Koordinierung
REFRESH-INTERVAL;VALUE=DURATION:PT1H
X-Robots-Tag:noindex
X-PUBLISHED-TTL:PT1H
BEGIN:VTIMEZONE
TZID:Europe/Berlin
BEGIN:DAYLIGHT
TZOFFSETFROM:+0100
TZOFFSETTO:+0200
TZNAME:CEST
DTSTART:20220327T010000
END:DAYLIGHT
BEGIN:STANDARD
TZOFFSETFROM:+0200
TZOFFSETTO:+0100
TZNAME:CET
DTSTART:20221030T010000
END:STANDARD
BEGIN:DAYLIGHT
TZOFFSETFROM:+0100
TZOFFSETTO:+0200
TZNAME:CEST
DTSTART:20230326T010000
END:DAYLIGHT
BEGIN:STANDARD
TZOFFSETFROM:+0200
TZOFFSETTO:+0100
TZNAME:CET
DTSTART:20231029T010000
END:STANDARD
BEGIN:DAYLIGHT
TZOFFSETFROM:+0100
TZOFFSETTO:+0200
TZNAME:CEST
DTSTART:20240331T010000
END:DAYLIGHT
BEGIN:STANDARD
TZOFFSETFROM:+0200
TZOFFSETTO:+0100
TZNAME:CET
DTSTART:20241027T010000
END:STANDARD
END:VTIMEZONE
BEGIN:VEVENT
DTSTART;TZID=Europe/Berlin:20231004T100000
DTEND;TZID=Europe/Berlin:20231004T160000
DTSTAMP:20260422T175630
CREATED:20230605T101558Z
LAST-MODIFIED:20230605T101558Z
UID:45106-1696413600-1696435200@www.kommunale-koordinierung.com
SUMMARY:Sprechstunde für Abiturient*innen und Studienzweifelnde der HWK
DESCRIPTION:Die Sprechstunde der Handwerkskammer Düsseldorf bietet Gelegenheit\, in Ruhe individuelle Fragen zu klären und persönliche Empfehlungen durch das Beratungspersonal zu erhalten.\nBitte melden Sie sich telefonisch oder per Mail an bei: \nNadine Rosenau\nTel.-Nr.: 0211-8795-607\nE-Mail: nadine.rosenau@hwk-duesseldorf.de \nSpeziell zum Dualen/Trialen Studium: \nAnn-Katrin Lauf\nTel.-Nr.: 0211-8795-605\nE-Mail: ann-kathrin.lauf@hwk-duesseldorf.de \nDie Sprechstunde findet abhängig von den aktuellen Hygienevorschriften und Ihren Wünschen telefonisch\, per Zoom-Meeting oder vor Ort in der HWK statt. Zusätzlich zu den Sprechstunden können Sie selbstverständlich auch individuelle Termine vereinbaren.
URL:https://www.kommunale-koordinierung.com/event/sprechstunde-fuer-abiturientinnen-und-studienzweifelnde-der-hwk-5/
LOCATION:Handwerkskammer Düsseldorf\, Georg-Schulhoff-Platz 1\, Düsseldorf\, 40221\, Deutschland
CATEGORIES:Berufliche Orientierung,Eltern & Teens,Mit Anmeldung,Studienorientierung
END:VEVENT
BEGIN:VEVENT
DTSTART;TZID=Europe/Berlin:20231004T130000
DTEND;TZID=Europe/Berlin:20231004T160000
DTSTAMP:20260422T175630
CREATED:20230605T095859Z
LAST-MODIFIED:20230605T095859Z
UID:45094-1696424400-1696435200@www.kommunale-koordinierung.com
SUMMARY:Sprechstunde für Mädchen der HWK
DESCRIPTION:Die Sprechstunde der Handwerkskammer Düsseldorf bietet Gelegenheit\, in Ruhe individuelle Fragen zu klären und persönliche Empfehlungen durch das Beratungspersonal zu erhalten.\nBitte melden Sie sich telefonisch oder per Mail an bei: \nNadine Rosenau\nTel.-Nr.: 0211-8795-607\nE-Mail: nadine.rosenau@hwk-duesseldorf.de \nDie Sprechstunde findet abhängig von den aktuellen Hygienevorschriften und Ihren Wünschen telefonisch\, per Zoom-Meeting oder vor Ort in der HWK statt. Zusätzlich zu den Sprechstunden können Sie selbstverständlich auch individuelle Termine vereinbaren.
URL:https://www.kommunale-koordinierung.com/event/sprechstunde-fuer-maedchen-der-hwk-4/
LOCATION:Handwerkskammer Düsseldorf\, Georg-Schulhoff-Platz 1\, Düsseldorf\, 40221\, Deutschland
CATEGORIES:Berufliche Orientierung,Eltern & Teens,Mit Anmeldung
END:VEVENT
BEGIN:VEVENT
DTSTART;TZID=Europe/Berlin:20231005T090000
DTEND;TZID=Europe/Berlin:20231005T160000
DTSTAMP:20260422T175630
CREATED:20230913T142150Z
LAST-MODIFIED:20230913T144214Z
UID:46616-1696496400-1696521600@www.kommunale-koordinierung.com
SUMMARY:Ausbildungs-Sprechstunde der IHK
DESCRIPTION:Du möchtest eine Ausbildung machen und brauchst Unterstützung? Dann ruf uns gerne an unter der Tel.-Nr. 0211 3557-448.\nWir haben Kontakt zu vielen Industrie- und Handelsunternehmen in Düsseldorf und im Kreis Mettmann und unterstützen dich dabei\, einen Ausbildungsplatz zu finden. Falls du dich vorab informieren möchtest\, schaue gerne auf unserer Website vorbei:\nwww.ausbildung-klarmachen.de
URL:https://www.kommunale-koordinierung.com/event/ihk-ausbildungssprechstunde/
LOCATION:Telefonisch\, Düsseldorf
CATEGORIES:Ausbildung,Eltern & Teens
END:VEVENT
BEGIN:VEVENT
DTSTART;TZID=Europe/Berlin:20231005T170000
DTEND;TZID=Europe/Berlin:20231005T183000
DTSTAMP:20260422T175630
CREATED:20230406T131005Z
LAST-MODIFIED:20230406T131005Z
UID:43920-1696525200-1696530600@www.kommunale-koordinierung.com
SUMMARY:digitale Sprechstunde der IHK für Eltern
DESCRIPTION:In der aktuellen Zeit sind Eltern besonders gefordert\, Ihre Kinder bei der Karriereplanung zu beraten. \nIn der kostenlosen Sprechstunde „Karriere mit Ausbildung – Was Eltern wissen müssen!“\nbeantwortet die IHK Düsseldorf typische Ausbildungsfragen. \nBeispiele sind:\n– Welcher Beruf passt zu den Interessen und Talenten meines Kindes?\n– Welche Chancen bietet der Ausbildungsmarkt?\n– Wie kann ich meinem Kind bei der Ausbildungssuche helfen? \nDie Sprechstunde findet immer am ersten Donnerstag eines Monats statt.\nTermine 2023: 04.05.\, 01.06.\, 06.07.\, 03.08.\, 05.10.\, 02.11. und 07.12. \nWeitere Informationen:\nInformation und Beratung für die Berufsorientierung und Ausbildungsplatzsuche. – IHK Düsseldorf
URL:https://www.kommunale-koordinierung.com/event/digitale-sprechstunde-der-ihk-fuer-eltern-5/
LOCATION:Online
CATEGORIES:Berufliche Orientierung,Eltern & Teens
END:VEVENT
BEGIN:VEVENT
DTSTART;VALUE=DATE:20231009
DTEND;VALUE=DATE:20231014
DTSTAMP:20260422T175630
CREATED:20230831T075159Z
LAST-MODIFIED:20230831T081833Z
UID:46202-1696809600-1697241599@www.kommunale-koordinierung.com
SUMMARY:Schnupperstudium an der Hochschule Düsseldorf
DESCRIPTION:In den Herbstferien haben Studieninteressierte vom 9. bis 13. Oktober eine Woche lang die Möglichkeit\, in die Fachbereiche Design und Medien der Hochschule Düsseldorf hineinzuschnuppern und authentische Studieneindrücke zu sammeln. Die Anmeldung startet Anfang September\, die Plätze sind sehr begehrt. \nDas Schnupperstudium steht allen Studieninteressierten ab 15 Jahren offen\, z. B. Schülerinnen und Schülern\, Azubis oder Berufstätigen. Es gibt keine besonderen Voraussetzungen\, außer Interesse am Thema Studium und einer verbindlichen Anmeldung\, in der Sie Ihr Vorhaben bestätigen\, von Montag bis Freitag am Schnupperstudium teilzunehmen. Minderjährige benötigen eine Einverständniserklärung einer/eines Erziehungsberechtigten. \nDie Schnupperstudierenden besuchen in der Zeit Vorlesungen\, Seminare und Praktika aus dem laufenden Semesterbetrieb sowie zusätzliche Einführungsveranstaltungen. Sie stehen im direkten Austausch mit den Lehrenden und lernen Labore\, die Bibliothek und Mensa kennen – immer begleitet von Studierenden aus höheren Semestern. \nWeiitere Informationen finden Sie hier.\nE-Mail-Kontakt: schnupperstudium@hs-duesseldorf.de \n 
URL:https://www.kommunale-koordinierung.com/event/schnupperstudium-an-der-hsd/
LOCATION:Hochschule Düsseldorf\, Münsterstraße 156\, 40476 Düsseldorf\, Deutschland
CATEGORIES:Berufliche Orientierung,Eltern & Teens,Mit Anmeldung,Studienorientierung
END:VEVENT
BEGIN:VEVENT
DTSTART;TZID=Europe/Berlin:20231012T090000
DTEND;TZID=Europe/Berlin:20231012T100000
DTSTAMP:20260422T175630
CREATED:20230913T132638Z
LAST-MODIFIED:20230913T132638Z
UID:46579-1697101200-1697104800@www.kommunale-koordinierung.com
SUMMARY:IHK-Sprechstunde Fachpraktikerausbildung
DESCRIPTION:Fachpraktiker-Ausbildung – was ist das? Unsere aktuelle Sprechstunde der Industrie- und Handelskammer Düsseldorf bietet die Chance\, ohne Stress persönliche Fragen zu besprechen und Antworten durch die Fachberaterin Gisela Kwiatek inklusive Bildung zu erhalten. Weitere Infos findest du hier. \nKontakt:\nGisela Kwiatek\nTel.-Nr.: 0211 3557-420
URL:https://www.kommunale-koordinierung.com/event/ihk-sprechstunde-fachpraktikerausbildung-2/
LOCATION:Telefonisch\, Düsseldorf
CATEGORIES:BO mit Förderbedarf,Eltern & Teens
END:VEVENT
BEGIN:VEVENT
DTSTART;TZID=Europe/Berlin:20231016T150000
DTEND;TZID=Europe/Berlin:20231016T180000
DTSTAMP:20260422T175630
CREATED:20230821T112302Z
LAST-MODIFIED:20231018T071915Z
UID:46016-1697468400-1697479200@www.kommunale-koordinierung.com
SUMMARY:Berufsberatung in der Zentralbibliothek
DESCRIPTION:Die Arbeitsagentur berät in der Zentralbibliothek Jugendliche und Eltern zu folgenden Themen: \n– Wie kann es nach der Schule weitergehen?\n– Ausbildung\, weiterführende Schule\, Studium…\n– Welcher Beruf passt zu Dir/Ihrem Nachwuchs?\n– Wie können Eltern ihre Kinder im vielfältigen Dschungel der Berufsorientierung bestmöglich unterstützen? \nDer Eintritt ist frei. Eine Anmeldung ist nicht erforderlich. \nWeitere Informationen finden Sie hier.
URL:https://www.kommunale-koordinierung.com/event/berufsberatung-in-der-zentralbibliothek-2/
LOCATION:Zentralbibliothek\, Konrad-Adenauer-Platz 1\, Düsseldorf\, 40210
CATEGORIES:Ausbildung,Berufliche Orientierung,Eltern & Teens,Studienorientierung
END:VEVENT
BEGIN:VEVENT
DTSTART;TZID=Europe/Berlin:20231018T093000
DTEND;TZID=Europe/Berlin:20231018T123000
DTSTAMP:20260422T175630
CREATED:20230825T081320Z
LAST-MODIFIED:20230825T081320Z
UID:46106-1697621400-1697632200@www.kommunale-koordinierung.com
SUMMARY:Offene Sprechstunde der Reha-Beratung am 18.10.
DESCRIPTION:Die Agentur für Arbeit Düsseldorf bietet für Jugendliche mit besonderem Förderbedarf\, zusätzlich zur bekannten allgemeinen Berufsberatung\, die Beratung durch speziell geschulte Reha-Berufsberater*innen an. \nDie offene Sprechstunde der Reha-Beratung findet jeden zweiten Mittwoch im Monat von 09:30-12:30 Uhr im Zentrum für Berufsorientierung und Übergänge statt. \nEltern\, Lehrkräfte und Schülerinnen und Schüler können ohne Anmeldung vorbeikommen und sich vom Reha-Beratungsteam der Agentur für Arbeit beraten lassen. Beim Besuch mit einer Schülergruppe ist eine Voranmeldung sinnvoll\, um im Vorfeld Themen abzusprechen. \nFür Rückfragen steht Ihnen Frau Scheid gern zur Verfügung! \nKontakt Reha-Beratung:\nAgentur für Arbeit Düsseldorf – Team Reha/SB\nDuesseldorf.261-Reha@arbeitsagentur.de
URL:https://www.kommunale-koordinierung.com/event/offene-sprechstunde-der-reha-beratung-am-18-10/
LOCATION:ZBÜ\, Willi-Becker-Allee 10\, Düsseldorf\, 40227\, Deutschland
CATEGORIES:Berufliche Orientierung,BO mit Förderbedarf
END:VEVENT
BEGIN:VEVENT
DTSTART;TZID=Europe/Berlin:20231018T140000
DTEND;TZID=Europe/Berlin:20231018T160000
DTSTAMP:20260422T175630
CREATED:20230823T103114Z
LAST-MODIFIED:20230823T103114Z
UID:46090-1697637600-1697644800@www.kommunale-koordinierung.com
SUMMARY:Informationsveranstaltung für Lehrkräfte zu "Schule vorbei\, was nun?" und Übergangswegen nach Klasse 10
DESCRIPTION:Welche Anschlussmöglichkeiten haben meine Schüler*innen nach Klasse 10? Wie und wo können Sie sich informieren? Wie bereite ich sie auf die Infomesse „Schule vorbei\, was nun?“ vor? \nIn der Veranstaltung erhalten Sie u. a. Informationen zu diesen Themen: \n\nVor- und Nachbereitung der Infomesse „Schule vorbei\, was nun?“ (www.koko-dus.de/event/infomesse-schule-vorbei-was-nun)\nSystem Berufskolleg\nverschiedene Übergangswege nach Klasse 10\nVerantwortungskette\nBildungswegenavigator BIWENAV\n\nDie Veranstaltung richtet sich an Klassenleitungen der Abgangsklassen\, StuBos und andere Interessierte. \nBitte melden Sie sich zu der Veranstaltung an: \n\n \n\n\n\nVorname *\n\n\nNachname *\n\n\n\n\nSchule/Institution *\n\n\n\n\nE-Mail Adresse *\n\n\n\n\nGDPR *Ja\, ich bin mit den Datenschutzbestimmungen einverstanden.\n\n\n \n\n\nNachricht senden\n\n\n\n  \n 
URL:https://www.kommunale-koordinierung.com/event/informationsveranstaltung-fuer-lehrkraefte-zu-schule-vorbei-was-nun-und-uebergangswegen-nach-klasse-10/
LOCATION:B.i.Z.\, Agentur für Arbeit Düsseldorf\, Grafenberger Allee 300\, Düsseldorf\, 40237\, Deutschland
CATEGORIES:Ausbildung,Berufskolleg,Lehrkräfte,Schulen
END:VEVENT
BEGIN:VEVENT
DTSTART;TZID=Europe/Berlin:20231018T180000
DTEND;TZID=Europe/Berlin:20231018T200000
DTSTAMP:20260422T175631
CREATED:20231012T090238Z
LAST-MODIFIED:20231012T090749Z
UID:46802-1697652000-1697659200@www.kommunale-koordinierung.com
SUMMARY:Informationsabend der Präha-Weber-Schule
DESCRIPTION:Am Mittwoch\, den 18.10.2023 findet um 18 Uhr an der Präha-Weber-Schule ein Info-Abend statt. \nEs sind verschiedene Dozenten*innen vor Ort\, die dann alle deine Fragen rund um die Themen Ausbildung\, Studium\, Weiterbildung\, Karriere- und Kombinationsmöglichkeiten beantworten. Außerdem hast du die Möglichkeit\, unsere Unterrichts- und Fachräume bei einem Rundgang kennen zu lernen. \nWeitere Informationen unter:\nhttps://praeha.de/veranstaltungen
URL:https://www.kommunale-koordinierung.com/event/informationsabend-der-praeha-weber-schule/
LOCATION:Präha-Weber-Schule\, Emanuel-Leutze-Str. 8\, Lörick
CATEGORIES:Berufliche Orientierung,Berufskolleg,Eltern & Teens
END:VEVENT
BEGIN:VEVENT
DTSTART;TZID=Europe/Berlin:20231019T140000
DTEND;TZID=Europe/Berlin:20231019T160000
DTSTAMP:20260422T175631
CREATED:20230908T070256Z
LAST-MODIFIED:20230913T094102Z
UID:46459-1697724000-1697731200@www.kommunale-koordinierung.com
SUMMARY:StuBo-Arbeitskreis der Gymnasien am 19.10.2023
DESCRIPTION:Wir laden alle Düsseldorfer Gymnasien herzlich zur nächsten StuBo-Arbeitskreissitzung ein. \nOrt:\nStiftung PRO AUSBILDUNG\nAchenbachstr. 28\n40237 Düsseldorf \nOffizielle Einladung \nBitte melden Sie sich unten zu der Veranstaltung an. \nBei Fragen wenden Sie sich bitte an:\nYasemin Kurre\nTelefon: 0211 6690834\nE-Mail: kurre@unternehmerschaft.de \nDer Arbeitskreis ist eine gemeinsame Veranstaltung der Kommunalen Koordinierung Düsseldorf und des Kompetenzzentrums Berufliche Orientierung mit der Schulaufsicht der Landeshauptstadt Düsseldorf. \n\n \n\n\n\nVorname *\n\n\nNachname *\n\n\n\n\nSchule/Institution *\n\n\n\n\nE-Mail Adresse *\n\n\n\n\nGDPR *Ja\, ich bin mit den Datenschutzbestimmungen einverstanden.\n\n\n \n\n\nNachricht senden
URL:https://www.kommunale-koordinierung.com/event/stubo-arbeitskreis-der-gymnasien-am-19-10/
LOCATION:Stiftung PRO AUSBILDUNG\, Achenbachstr. 28\, Düsseldorf\, 40237
CATEGORIES:StuBo-Arbeitskreis,StuBos
END:VEVENT
BEGIN:VEVENT
DTSTART;TZID=Europe/Berlin:20231021T100000
DTEND;TZID=Europe/Berlin:20231021T123000
DTSTAMP:20260422T175632
CREATED:20231016T121326Z
LAST-MODIFIED:20231016T122820Z
UID:46877-1697882400-1697891400@www.kommunale-koordinierung.com
SUMMARY:Berufsorientierungstag bei Henkel
DESCRIPTION:Du befindest dich gerade in der Berufsorientierungsphase? Du denkst über eine Berufsausbildung oder über ein Studium nach? Oder du weißt noch gar nicht\, wie du deine berufliche Zukunft gestalten möchtest? \nDann bist du bei uns genau richtig\, denn bei uns kannst du Berufsorientierung hautnah erleben! \nLass uns gemeinsam herausfinden\, wo deine Talente liegen. Wir nehmen dich mit in unsere Henkel-Welt und stellen dir unsere vielseitigen Ausbildungs- und Studienmöglichkeiten in den folgenden Bereichen vor: \n\nKaufmännischer Bereich\nNaturwissenschaftlicher Bereich\nProduktions- und Technikbereich\nGesundheits- und Sicherheitsbereich\nGastronomischer Bereich\n\nBitte melde dich für die Veranstaltung hier an:\nwww.henkel.de/karriere/schueler/berufsorientierungstag\n \nWichtig: Die Teilnahme von Minderjährigen ist nur in Begleitung eines Erwachsenen möglich. \nOrt der Veranstaltung: \nHenkel Ausbildung\nHenkelstraße 67 (Tor 1)\n40589 Düsseldorf
URL:https://www.kommunale-koordinierung.com/event/berufsorientierungstag-bei-henkel/
LOCATION:Henkel Ausbildung\, Henkelstr. 67 (TOR1)\, Düsseldorf\, 40589\, Deutschland
CATEGORIES:Ausbildung,Berufliche Orientierung,Eltern & Teens,Mit Anmeldung
END:VEVENT
BEGIN:VEVENT
DTSTART;TZID=Europe/Berlin:20231021T100000
DTEND;TZID=Europe/Berlin:20231021T130000
DTSTAMP:20260422T175632
CREATED:20230621T073943Z
LAST-MODIFIED:20230621T073943Z
UID:45309-1697882400-1697893200@www.kommunale-koordinierung.com
SUMMARY:Karriere in der Kita? Berufsbilder\, Entwicklungsmöglichkeiten und Job-Angebote
DESCRIPTION:Die Bildungsarbeit in Kitas ist vielfältig und schafft den Spagat\, Kinder in ihrer Entwicklung zu fördern\, aber auch den Interessen und Fähigkeiten der Mitarbeitenden Raum zu geben – also ein Job mit Sinn\, Potenzial und Zukunft. \nWer mehr über die Berufsbilder\, Entwicklungsmöglichkeiten und Job-Angebote erfahren möchte\, kann sich am 21. Oktober 2023 von 10 bis 13 Uhr in der Zentralbibliothek am Konrad-Adenauer-Platz 1 (KAP 1) informieren. Gemeinsam mit den freien Trägern der Kinder- und Jugendhilfe in Düsseldorf\, den Berufskollegs und dem Jobcenter wird eine Job- und Informationsbörse ausgerichtet.
URL:https://www.kommunale-koordinierung.com/event/karriere-in-der-kita-berufsbilder-entwicklungsmoeglichkeiten-und-job-angebote/
LOCATION:Zentralbibliothek\, Konrad-Adenauer-Platz 1\, Düsseldorf\, 40210
CATEGORIES:Ausbildung,Berufliche Orientierung,Eltern & Teens,Geflüchtete
END:VEVENT
BEGIN:VEVENT
DTSTART;TZID=Europe/Berlin:20231021T123000
DTEND;TZID=Europe/Berlin:20231021T150000
DTSTAMP:20260422T175632
CREATED:20231016T123117Z
LAST-MODIFIED:20231016T123117Z
UID:46888-1697891400-1697900400@www.kommunale-koordinierung.com
SUMMARY:Berufsorientierungstag bei Henkel
DESCRIPTION:Du befindest dich gerade in der Berufsorientierungsphase? Du denkst über eine Berufsausbildung oder über ein Studium nach? Oder du weißt noch gar nicht\, wie du deine berufliche Zukunft gestalten möchtest? \nDann bist du bei uns genau richtig\, denn bei uns kannst du Berufsorientierung hautnah erleben! \nLass uns gemeinsam herausfinden\, wo deine Talente liegen. Wir nehmen dich mit in unsere Henkel-Welt und stellen dir unsere vielseitigen Ausbildungs- und Studienmöglichkeiten in den folgenden Bereichen vor: \n\nKaufmännischer Bereich\nNaturwissenschaftlicher Bereich\nProduktions- und Technikbereich\nGesundheits- und Sicherheitsbereich\nGastronomischer Bereich\n\nBitte melde dich für die Veranstaltung hier an:\nwww.henkel.de/karriere/schueler/berufsorientierungstag \nWichtig: Die Teilnahme von Minderjährigen ist nur in Begleitung eines Erwachsenen möglich. \nOrt der Veranstaltung: \nHenkel Ausbildung\nHenkelstraße 67 (Tor 1)\n40589 Düsseldorf
URL:https://www.kommunale-koordinierung.com/event/berufsorientierungstag-bei-henkel-2/
LOCATION:Henkel Ausbildung\, Henkelstr. 67 (TOR1)\, Düsseldorf\, 40589\, Deutschland
CATEGORIES:Ausbildung,Berufliche Orientierung,Eltern & Teens,Mit Anmeldung
END:VEVENT
BEGIN:VEVENT
DTSTART;TZID=Europe/Berlin:20231025T170000
DTEND;TZID=Europe/Berlin:20231025T180000
DTSTAMP:20260422T175632
CREATED:20220819T113116Z
LAST-MODIFIED:20220819T113116Z
UID:37565-1698253200-1698256800@www.kommunale-koordinierung.com
SUMMARY:Online-Infoveranstaltung der Berufsberatung: Hilfe\, mein Kind weiß nicht\, was es werden soll – Infoveranstaltung für Eltern
DESCRIPTION:Die Berufsberatung der Agentur für Arbeit zeigt Tipps und Tricks wie Sie Ihr Kind unterstützen können. Wer kann bei der Berufswahl unterstützen? Wo finde ich Informationen zu Berufen? Welche Stärken meines Kindes passen zu welchem Beruf? \nDiese und weitere Fragen werden in der Online-Veranstaltung geklärt. Es besteht die Möglichkeit\, sich mit eigenen Fragen einzubringen. \nWeitere Informationen unter: https://www.arbeitsagentur.de/vor-ort/duesseldorf/berufsberatung
URL:https://www.kommunale-koordinierung.com/event/online-infoveranstaltung-der-berufsberatung-hilfe-mein-kind-weiss-nicht-was-es-werden-soll-infoveranstaltung-fuer-eltern-2/
LOCATION:Online
CATEGORIES:Berufliche Orientierung,Eltern & Teens
END:VEVENT
BEGIN:VEVENT
DTSTART;TZID=Europe/Berlin:20231026T090000
DTEND;TZID=Europe/Berlin:20231026T100000
DTSTAMP:20260422T175632
CREATED:20230913T132932Z
LAST-MODIFIED:20230913T132932Z
UID:46582-1698310800-1698314400@www.kommunale-koordinierung.com
SUMMARY:IHK-Sprechstunde Fachpraktikerausbildung
DESCRIPTION:Fachpraktiker-Ausbildung – was ist das? Unsere aktuelle Sprechstunde der Industrie- und Handelskammer Düsseldorf bietet die Chance\, ohne Stress persönliche Fragen zu besprechen und Antworten durch die Fachberaterin Gisela Kwiatek inklusive Bildung zu erhalten. Weitere Infos findest du hier. \nKontakt:\nGisela Kwiatek\nTel.-Nr.: 0211 3557-420
URL:https://www.kommunale-koordinierung.com/event/ihk-sprechstunde-fachpraktikerausbildung-3/
LOCATION:Telefonisch\, Düsseldorf
CATEGORIES:BO mit Förderbedarf,Eltern & Teens
END:VEVENT
BEGIN:VEVENT
DTSTART;TZID=Europe/Berlin:20231027T150000
DTEND;TZID=Europe/Berlin:20231027T170000
DTSTAMP:20260422T175632
CREATED:20231018T083933Z
LAST-MODIFIED:20231018T085051Z
UID:46897-1698418800-1698426000@www.kommunale-koordinierung.com
SUMMARY:Experience Lab am Max-Weber-Berufskolleg
DESCRIPTION:Interessierte Schülerinnen und Schüler haben in diesem Experience Lab die Möglichkeit\, sich mit wirtschaftlichen Fragestellungen sowie der Arbeitswelt von morgen auseinanderzusetzen. Das Thema des Workshops lautet „für einen Tag Unternehmer“. \nEs ist eine Anmeldung erforderlich unter: info@mwbk.nrw \nWeitere Informationen finden Sie unter:\nwww.max-weber-berufskolleg.de
URL:https://www.kommunale-koordinierung.com/event/experience-lab-am-max-weber-berufskolleg/
LOCATION:Max-Weber-Berufskolleg\, Suitbertusstraße 163-165\, Düsseldorf
CATEGORIES:Berufliche Orientierung,Berufskolleg,Eltern & Teens,Mit Anmeldung
END:VEVENT
END:VCALENDAR