BEGIN:VCALENDAR
VERSION:2.0
PRODID:-//Kommunale Koordinierung - ECPv6.15.20//NONSGML v1.0//EN
CALSCALE:GREGORIAN
METHOD:PUBLISH
X-ORIGINAL-URL:https://www.kommunale-koordinierung.com
X-WR-CALDESC:Veranstaltungen für Kommunale Koordinierung
REFRESH-INTERVAL;VALUE=DURATION:PT1H
X-Robots-Tag:noindex
X-PUBLISHED-TTL:PT1H
BEGIN:VTIMEZONE
TZID:Europe/Berlin
BEGIN:DAYLIGHT
TZOFFSETFROM:+0100
TZOFFSETTO:+0200
TZNAME:CEST
DTSTART:20220327T010000
END:DAYLIGHT
BEGIN:STANDARD
TZOFFSETFROM:+0200
TZOFFSETTO:+0100
TZNAME:CET
DTSTART:20221030T010000
END:STANDARD
BEGIN:DAYLIGHT
TZOFFSETFROM:+0100
TZOFFSETTO:+0200
TZNAME:CEST
DTSTART:20230326T010000
END:DAYLIGHT
BEGIN:STANDARD
TZOFFSETFROM:+0200
TZOFFSETTO:+0100
TZNAME:CET
DTSTART:20231029T010000
END:STANDARD
BEGIN:DAYLIGHT
TZOFFSETFROM:+0100
TZOFFSETTO:+0200
TZNAME:CEST
DTSTART:20240331T010000
END:DAYLIGHT
BEGIN:STANDARD
TZOFFSETFROM:+0200
TZOFFSETTO:+0100
TZNAME:CET
DTSTART:20241027T010000
END:STANDARD
END:VTIMEZONE
BEGIN:VEVENT
DTSTART;TZID=Europe/Berlin:20230703T130000
DTEND;TZID=Europe/Berlin:20230703T160000
DTSTAMP:20260422T225157
CREATED:20230605T095020Z
LAST-MODIFIED:20230605T095329Z
UID:45086-1688389200-1688400000@www.kommunale-koordinierung.com
SUMMARY:Sprechstunde für Mädchen der HWK
DESCRIPTION:Die Sprechstunde der Handwerkskammer Düsseldorf bietet Gelegenheit\, in Ruhe individuelle Fragen zu klären und persönliche Empfehlungen durch das Beratungspersonal zu erhalten.\nBitte melden Sie sich telefonisch oder per Mail an bei: \nNadine Rosenau\nTel.-Nr.: 0211-8795-607\nE-Mail: nadine.rosenau@hwk-duesseldorf.de \nDie Sprechstunde findet abhängig von den aktuellen Hygienevorschriften und Ihren Wünschen telefonisch\, per Zoom-Meeting oder vor Ort in der HWK statt. Zusätzlich zu den Sprechstunden können Sie selbstverständlich auch individuelle Termine vereinbaren.
URL:https://www.kommunale-koordinierung.com/event/sprechstunde-fuer-maedchen-der-hwk/
LOCATION:Handwerkskammer Düsseldorf\, Georg-Schulhoff-Platz 1\, Düsseldorf\, 40221\, Deutschland
CATEGORIES:Berufliche Orientierung,Eltern & Teens,Mit Anmeldung
END:VEVENT
BEGIN:VEVENT
DTSTART;TZID=Europe/Berlin:20230704T140000
DTEND;TZID=Europe/Berlin:20230704T153000
DTSTAMP:20260422T225157
CREATED:20230621T074239Z
LAST-MODIFIED:20230621T074239Z
UID:45313-1688479200-1688484600@www.kommunale-koordinierung.com
SUMMARY:Summer Special-Sprechstunde der HSD
DESCRIPTION:In den zusätzlichen Telefonsprechstunden berät die Hochschule Düsseldorf (HSD) Studieninteressierte von 14 – 15:30 Uhr unter der Nummer 0211/4351-2062. Wir freuen uns auf Ihren Anruf!
URL:https://www.kommunale-koordinierung.com/event/summer-special-sprechstunde-der-hsd-2/
LOCATION:Online
CATEGORIES:Berufliche Orientierung,Eltern & Teens,Studienorientierung
END:VEVENT
BEGIN:VEVENT
DTSTART;TZID=Europe/Berlin:20230705T100000
DTEND;TZID=Europe/Berlin:20230705T180000
DTSTAMP:20260422T225157
CREATED:20230605T100850Z
LAST-MODIFIED:20230605T100850Z
UID:45099-1688551200-1688580000@www.kommunale-koordinierung.com
SUMMARY:Sprechstunde für Abiturient*innen und Studienzweifelnde der HWK
DESCRIPTION:Die Sprechstunde der Handwerkskammer Düsseldorf bietet Gelegenheit\, in Ruhe individuelle Fragen zu klären und persönliche Empfehlungen durch das Beratungspersonal zu erhalten.\nBitte melden Sie sich telefonisch oder per Mail an bei: \nNadine Rosenau\nTel.-Nr.: 0211-8795-607\nE-Mail: nadine.rosenau@hwk-duesseldorf.de \nSpeziell zum Dualen/Trialen Studium: \nAnn-Katrin Lauf\nTel.-Nr.: 0211-8795-605\nE-Mail: ann-kathrin.lauf@hwk-duesseldorf.de \nDie Sprechstunde findet abhängig von den aktuellen Hygienevorschriften und Ihren Wünschen telefonisch\, per Zoom-Meeting oder vor Ort in der HWK statt. Zusätzlich zu den Sprechstunden können Sie selbstverständlich auch individuelle Termine vereinbaren.
URL:https://www.kommunale-koordinierung.com/event/sprechstunde-fuer-abiturientinnen-und-studienzweifelnde-der-hwk-2/
LOCATION:Handwerkskammer Düsseldorf\, Georg-Schulhoff-Platz 1\, Düsseldorf\, 40221\, Deutschland
CATEGORIES:Berufliche Orientierung,Eltern & Teens,Mit Anmeldung,Studienorientierung
END:VEVENT
BEGIN:VEVENT
DTSTART;TZID=Europe/Berlin:20230706T170000
DTEND;TZID=Europe/Berlin:20230706T183000
DTSTAMP:20260422T225157
CREATED:20230406T130233Z
LAST-MODIFIED:20230406T130233Z
UID:43915-1688662800-1688668200@www.kommunale-koordinierung.com
SUMMARY:digitale Sprechstunde der IHK für Eltern
DESCRIPTION:In der aktuellen Zeit sind Eltern besonders gefordert\, Ihre Kinder bei der Karriereplanung zu beraten. \nIn der kostenlosen Sprechstunde „Karriere mit Ausbildung – Was Eltern wissen müssen!“\nbeantwortet die IHK Düsseldorf typische Ausbildungsfragen. \nBeispiele sind:\n– Welcher Beruf passt zu den Interessen und Talenten meines Kindes?\n– Welche Chancen bietet der Ausbildungsmarkt?\n– Wie kann ich meinem Kind bei der Ausbildungssuche helfen? \nDie Sprechstunde findet immer am ersten Donnerstag eines Monats statt.\nTermine 2023: 04.05.\, 01.06.\, 06.07.\, 03.08.\, 05.10.\, 02.11. und 07.12. \nWeitere Informationen:\nInformation und Beratung für die Berufsorientierung und Ausbildungsplatzsuche. – IHK Düsseldorf
URL:https://www.kommunale-koordinierung.com/event/digitale-sprechstunde-der-ihk-fuer-eltern-3/
LOCATION:Online
CATEGORIES:Berufliche Orientierung,Eltern & Teens
END:VEVENT
BEGIN:VEVENT
DTSTART;TZID=Europe/Berlin:20230712T120000
DTEND;TZID=Europe/Berlin:20230712T160000
DTSTAMP:20260422T225157
CREATED:20230621T071202Z
LAST-MODIFIED:20230621T071202Z
UID:45281-1689163200-1689177600@www.kommunale-koordinierung.com
SUMMARY:Ausbildung to go in Ratingen
DESCRIPTION:Deine Zukunft ist dir nicht latte? Wir haben Ausbildungsplätze für dich herausgefiltert! Ab Anfang Juni ist das IHK-Matchingteam mit einem großen Angebot an frischen Ausbildungsplätzen in den Innenstädten von Düsseldorf und im Kreis Mettmann präsent. Wir informieren junge Leute und ihre Eltern über freie Ausbildungsplätze für dieses Ausbildungsjahr und beraten um alle Fragen rund um Ausbildung. \nWeitere Informationen:\nwww.ihk.de/duesseldorf/ausbildungklarmachen/artikel/veranstaltungen-4825984
URL:https://www.kommunale-koordinierung.com/event/ausbildung-to-go-in-ratingen/
LOCATION:Nähe Bürgerhaus am Marktplatz\, Marktplatz 1\, Ratingen\, 40878
CATEGORIES:Ausbildung,Berufliche Orientierung,Eltern & Teens
END:VEVENT
BEGIN:VEVENT
DTSTART;TZID=Europe/Berlin:20230712T160000
DTEND;TZID=Europe/Berlin:20230712T180000
DTSTAMP:20260422T225157
CREATED:20230406T125450Z
LAST-MODIFIED:20230406T125450Z
UID:43909-1689177600-1689184800@www.kommunale-koordinierung.com
SUMMARY:Telefonische Elternsprechstunde zu Schule\, Ausbildung & Studium
DESCRIPTION:Informationen der Agentur für Arbeit zu weiterführenden Schulen\, Ausbildungen\, Überbrückungsmöglichkeiten \nWeitere Informationen:\nAgentur für Arbeit
URL:https://www.kommunale-koordinierung.com/event/telefonische-elternsprechstunde-zu-schule-ausbildung-studium/
LOCATION:Online
CATEGORIES:Berufliche Orientierung,Eltern & Teens
END:VEVENT
BEGIN:VEVENT
DTSTART;TZID=Europe/Berlin:20230719T100000
DTEND;TZID=Europe/Berlin:20230719T150000
DTSTAMP:20260422T225157
CREATED:20230605T102302Z
LAST-MODIFIED:20230605T102302Z
UID:45111-1689760800-1689778800@www.kommunale-koordinierung.com
SUMMARY:Sprechstunde zu Berufswahl und Ausbildungsvermittlung der HWK
DESCRIPTION:Die Sprechstunde der Handwerkskammer Düsseldorf bietet Gelegenheit\, in Ruhe individuelle Fragen zu klären und persönliche Empfehlungen durch das Beratungspersonal zu erhalten.\nBitte melden Sie sich telefonisch oder per Mail an bei: \nThomas Pohl\nTel.-Nr.: 0211-8795-603\nE-Mail: thomas.pohl@hwk-duesseldorf.de \nDie Sprechstunde findet abhängig von den aktuellen Hygienevorschriften und Ihren Wünschen telefonisch\, per Zoom-Meeting oder vor Ort in der HWK statt. Zusätzlich zu den Sprechstunden können Sie selbstverständlich auch individuelle Termine vereinbaren.
URL:https://www.kommunale-koordinierung.com/event/sprechstunde-zu-berufswahl-und-ausbildungsvermittlung-der-hwk-2/
LOCATION:Handwerkskammer Düsseldorf\, Georg-Schulhoff-Platz 1\, Düsseldorf\, 40221\, Deutschland
CATEGORIES:Ausbildung,Berufliche Orientierung,Eltern & Teens,Mit Anmeldung
END:VEVENT
BEGIN:VEVENT
DTSTART;TZID=Europe/Berlin:20230719T120000
DTEND;TZID=Europe/Berlin:20230719T160000
DTSTAMP:20260422T225157
CREATED:20230621T071522Z
LAST-MODIFIED:20230621T071657Z
UID:45283-1689768000-1689782400@www.kommunale-koordinierung.com
SUMMARY:Ausbildung to go in Mettmann
DESCRIPTION:Deine Zukunft ist dir nicht latte? Wir haben Ausbildungsplätze für dich herausgefiltert! Ab Anfang Juni ist das IHK-Matchingteam mit einem großen Angebot an frischen Ausbildungsplätzen in den Innenstädten von Düsseldorf und im Kreis Mettmann präsent. Wir informieren junge Leute und ihre Eltern über freie Ausbildungsplätze für dieses Ausbildungsjahr und beraten um alle Fragen rund um Ausbildung. \nWeitere Informationen:\nwww.ihk.de/duesseldorf/ausbildungklarmachen/artikel/veranstaltungen-4825984
URL:https://www.kommunale-koordinierung.com/event/ausbildung-to-go-in-mettmann/
LOCATION:Königshofplatz Mettmann\, Am Königshof\, Mettmann\, 40822
CATEGORIES:Ausbildung,Berufliche Orientierung,Eltern & Teens
END:VEVENT
BEGIN:VEVENT
DTSTART;TZID=Europe/Berlin:20230726T120000
DTEND;TZID=Europe/Berlin:20230726T160000
DTSTAMP:20260422T225157
CREATED:20230621T071817Z
LAST-MODIFIED:20230621T071817Z
UID:45287-1690372800-1690387200@www.kommunale-koordinierung.com
SUMMARY:Ausbildung to go in Langenfeld
DESCRIPTION:Deine Zukunft ist dir nicht latte? Wir haben Ausbildungsplätze für dich herausgefiltert! Ab Anfang Juni ist das IHK-Matchingteam mit einem großen Angebot an frischen Ausbildungsplätzen in den Innenstädten von Düsseldorf und im Kreis Mettmann präsent. Wir informieren junge Leute und ihre Eltern über freie Ausbildungsplätze für dieses Ausbildungsjahr und beraten um alle Fragen rund um Ausbildung. \nWeitere Informationen:\nwww.ihk.de/duesseldorf/ausbildungklarmachen/artikel/veranstaltungen-4825984
URL:https://www.kommunale-koordinierung.com/event/ausbildung-to-go-in-langenfeld/
LOCATION:Vor der Stadthalle Langenfeld\, Hauptstraße 129\, Langenfeld\, 40764
CATEGORIES:Ausbildung,Berufliche Orientierung,Eltern & Teens
END:VEVENT
END:VCALENDAR