BEGIN:VCALENDAR
VERSION:2.0
PRODID:-//Kommunale Koordinierung - ECPv6.15.20//NONSGML v1.0//EN
CALSCALE:GREGORIAN
METHOD:PUBLISH
X-WR-CALNAME:Kommunale Koordinierung
X-ORIGINAL-URL:https://www.kommunale-koordinierung.com
X-WR-CALDESC:Veranstaltungen für Kommunale Koordinierung
REFRESH-INTERVAL;VALUE=DURATION:PT1H
X-Robots-Tag:noindex
X-PUBLISHED-TTL:PT1H
BEGIN:VTIMEZONE
TZID:Europe/Berlin
BEGIN:DAYLIGHT
TZOFFSETFROM:+0100
TZOFFSETTO:+0200
TZNAME:CEST
DTSTART:20220327T010000
END:DAYLIGHT
BEGIN:STANDARD
TZOFFSETFROM:+0200
TZOFFSETTO:+0100
TZNAME:CET
DTSTART:20221030T010000
END:STANDARD
BEGIN:DAYLIGHT
TZOFFSETFROM:+0100
TZOFFSETTO:+0200
TZNAME:CEST
DTSTART:20230326T010000
END:DAYLIGHT
BEGIN:STANDARD
TZOFFSETFROM:+0200
TZOFFSETTO:+0100
TZNAME:CET
DTSTART:20231029T010000
END:STANDARD
BEGIN:DAYLIGHT
TZOFFSETFROM:+0100
TZOFFSETTO:+0200
TZNAME:CEST
DTSTART:20240331T010000
END:DAYLIGHT
BEGIN:STANDARD
TZOFFSETFROM:+0200
TZOFFSETTO:+0100
TZNAME:CET
DTSTART:20241027T010000
END:STANDARD
END:VTIMEZONE
BEGIN:VEVENT
DTSTART;TZID=Europe/Berlin:20230601T140000
DTEND;TZID=Europe/Berlin:20230601T160000
DTSTAMP:20260423T001634
CREATED:20230424T115151Z
LAST-MODIFIED:20230424T115456Z
UID:44039-1685628000-1685635200@www.kommunale-koordinierung.com
SUMMARY:StuBo-Arbeitskreis der Berufskollegs am 01.06.
DESCRIPTION:Wir laden alle Düsseldorfer Berufskollegs herzlich zur nächsten StuBo-Arbeitskreissitzung der Berufskollegs ein. \nOrt:\nStiftung PRO AUSBILDUNG\nAchenbachstr. 28\n40237 Düsseldorf \nThemen der Sitzung werden u. a. sein: Ausweitung der Praktikumstage in den Anlagen A und B\, Übergänge nach dem BK\, Vorstellung Berufe-Karussell. \nOffizielle Einladung \nBitte melden Sie sich unten zu der Veranstaltung an. \nBei Fragen wenden Sie sich bitte an:\nChristiane Stedeler-Gabriel\nTelefon: 0211 8996513\nE-Mail: christiane.stedelergabriel@duesseldorf.de \nDer Arbeitskreis ist eine gemeinsame Veranstaltung der Kommunalen Koordinierung Düsseldorf und des Kompetenzzentrums Berufliche Orientierung mit der Schulaufsicht der Landeshauptstadt Düsseldorf. \n\n \n\n\n\nVorname *\n\n\nNachname *\n\n\n\n\nSchule/Institution *\n\n\n\n\nE-Mail Adresse *\n\n\n\n\nGDPR *Ja\, ich bin mit den Datenschutzbestimmungen einverstanden.\n\n\n \n\n\nNachricht senden
URL:https://www.kommunale-koordinierung.com/event/stubo-arbeitskreis-der-berufskollegs-am-01-06/
LOCATION:Online
CATEGORIES:Berufskolleg,StuBo-Arbeitskreis
END:VEVENT
BEGIN:VEVENT
DTSTART;TZID=Europe/Berlin:20230601T170000
DTEND;TZID=Europe/Berlin:20230601T183000
DTSTAMP:20260423T001636
CREATED:20230406T130128Z
LAST-MODIFIED:20230406T130128Z
UID:43913-1685638800-1685644200@www.kommunale-koordinierung.com
SUMMARY:digitale Sprechstunde der IHK für Eltern
DESCRIPTION:In der aktuellen Zeit sind Eltern besonders gefordert\, Ihre Kinder bei der Karriereplanung zu beraten. \nIn der kostenlosen Sprechstunde „Karriere mit Ausbildung – Was Eltern wissen müssen!“\nbeantwortet die IHK Düsseldorf typische Ausbildungsfragen. \nBeispiele sind:\n– Welcher Beruf passt zu den Interessen und Talenten meines Kindes?\n– Welche Chancen bietet der Ausbildungsmarkt?\n– Wie kann ich meinem Kind bei der Ausbildungssuche helfen? \nDie Sprechstunde findet immer am ersten Donnerstag eines Monats statt.\nTermine 2023: 04.05.\, 01.06.\, 06.07.\, 03.08.\, 05.10.\, 02.11. und 07.12. \nWeitere Informationen:\nInformation und Beratung für die Berufsorientierung und Ausbildungsplatzsuche. – IHK Düsseldorf
URL:https://www.kommunale-koordinierung.com/event/digitale-sprechstunde-der-ihk-fuer-eltern-2/
LOCATION:Online
CATEGORIES:Berufliche Orientierung,Eltern & Teens
END:VEVENT
BEGIN:VEVENT
DTSTART;TZID=Europe/Berlin:20230603T100000
DTEND;TZID=Europe/Berlin:20230603T150000
DTSTAMP:20260423T001636
CREATED:20230530T135557Z
LAST-MODIFIED:20230530T140538Z
UID:45039-1685786400-1685804400@www.kommunale-koordinierung.com
SUMMARY:HHU - Hochschulinformationstag
DESCRIPTION:Am Samstag\, dem 3. Juni 2023\, laden die Heinrich-Heine-Universität Düsseldorf und die Hochschule Düsseldorf zum Hochschulinformationstag (HIT) ein. \nZusammen mit weiteren Partnern informieren sie über die Studienmöglichkeiten in Düsseldorf und über alles Wissenswerte rund ums Studium: \n\nVorstellung der verschiedenen Studienfächer und der Berufsperspektiven nach dem Studium\,\nBewerbungsverfahren für Studienplätze\,\nGespräche mit Forschenden\, Lehrenden und Studierenden\,\nWissenswertes zur Studienfinanzierung und zum Auslandsstudium\,\nMitwirkungsmöglichkeiten für Studierende in Fachschaften\, im Studierendenparlament und im AStA\, dem Allgemeinen Studierendenausschuss\,\nEinblicke in das Campusleben: Hochschulsport\, Filmfest\, Hochschulradio und vieles mehr.\n\nEine Anmeldung ist nicht erforderlich. \nOrt der Veranstaltung: \nHeinrich-Heine-Universität Düsseldorf\nGebäude 22.01 | 23.01 und im Gebäude des Studierenden Service Center (SSC)\nUniversitätsstraße 1\n40225 Düsseldorf \nWeitere Infos finden Sie unter: www.hochschulinformationstag.de
URL:https://www.kommunale-koordinierung.com/event/hhu-hochschulinformationstag/
LOCATION:Heinrich-Heine-Universität Düsseldorf\, Hochschule Düsseldorf\, Hochschulen in ganz NRW\, Nordrhein-Westfalen
CATEGORIES:Eltern & Teens,Studienorientierung
END:VEVENT
BEGIN:VEVENT
DTSTART;TZID=Europe/Berlin:20230607T100000
DTEND;TZID=Europe/Berlin:20230607T160000
DTSTAMP:20260423T001636
CREATED:20230605T100357Z
LAST-MODIFIED:20230605T100503Z
UID:45096-1686132000-1686153600@www.kommunale-koordinierung.com
SUMMARY:Sprechstunde für Abiturient*innen und Studienzweifelnde der HWK
DESCRIPTION:Die Sprechstunde der Handwerkskammer Düsseldorf bietet Gelegenheit\, in Ruhe individuelle Fragen zu klären und persönliche Empfehlungen durch das Beratungspersonal zu erhalten.\nBitte melden Sie sich telefonisch oder per Mail an bei: \nNadine Rosenau\nTel.-Nr.: 0211-8795-607\nE-Mail: nadine.rosenau@hwk-duesseldorf.de \nSpeziell zum Dualen/Trialen Studium: \nAnn-Katrin Lauf\nTel.-Nr.: 0211-8795-605\nE-Mail: ann-kathrin.lauf@hwk-duesseldorf.de \nDie Sprechstunde findet abhängig von den aktuellen Hygienevorschriften und Ihren Wünschen telefonisch\, per Zoom-Meeting oder vor Ort in der HWK statt. Zusätzlich zu den Sprechstunden können Sie selbstverständlich auch individuelle Termine vereinbaren.
URL:https://www.kommunale-koordinierung.com/event/sprechstunde-fuer-abiturientinnen-und-studienzweifelnde-der-hwk/
LOCATION:Handwerkskammer Düsseldorf\, Georg-Schulhoff-Platz 1\, Düsseldorf\, 40221\, Deutschland
CATEGORIES:Berufliche Orientierung,Eltern & Teens,Mit Anmeldung,Studienorientierung
END:VEVENT
BEGIN:VEVENT
DTSTART;TZID=Europe/Berlin:20230607T140000
DTEND;TZID=Europe/Berlin:20230607T160000
DTSTAMP:20260423T001636
CREATED:20230515T095410Z
LAST-MODIFIED:20230515T110824Z
UID:44592-1686146400-1686153600@www.kommunale-koordinierung.com
SUMMARY:StuBo-Arbeitskreis der Realschulen am 07.06.23
DESCRIPTION:Wir laden alle Düsseldorfer Realschulen herzlich zur nächsten StuBo-Arbeitskreissitzung ein. \nOrt:\nStiftung PRO AUSBILDUNG\nAchenbachstr. 28\n40237 Düsseldorf \nBitte melden Sie sich unten zu der Veranstaltung an. \nOffizielle Einladung \nThemen der Sitzung werden u.a. sein: Rückblick DTBO\, Verantwortungskette\, Aktuelles aus KAoA. \nBei Fragen wenden Sie sich bitte an:\nEzgi Yildiz\nTelefon: 0211 6690822\nE-Mail: yildiz@unternehmerschaft.de \nDer Arbeitskreis ist eine gemeinsame Veranstaltung der Kommunalen Koordinierung Düsseldorf und des Kompetenzzentrums Berufliche Orientierung mit der Schulaufsicht der Landeshauptstadt Düsseldorf. \n\n \n\n\n\nVorname *\n\n\nNachname *\n\n\n\n\nSchule/Institution *\n\n\n\n\nE-Mail Adresse *\n\n\n\n\nGDPR *Ja\, ich bin mit den Datenschutzbestimmungen einverstanden.\n\n\n \n\n\nNachricht senden
URL:https://www.kommunale-koordinierung.com/event/stubo-arbeitskreis-der-realschulen-am-07-06-23/
LOCATION:Achenbachstr. 28\, 40237 Düsseldorf\, Achenbachstr. 28\, Düsseldorf\, 40237\, Deutschland
CATEGORIES:StuBo-Arbeitskreis,StuBos
END:VEVENT
BEGIN:VEVENT
DTSTART;TZID=Europe/Berlin:20230613T083000
DTEND;TZID=Europe/Berlin:20230613T150000
DTSTAMP:20260423T001638
CREATED:20220704T140659Z
LAST-MODIFIED:20220704T140800Z
UID:36125-1686645000-1686668400@www.kommunale-koordinierung.com
SUMMARY:Vocatium Düsseldorf
DESCRIPTION:Informiere dich über Ausbildung\, Studium\, Praktikum und vieles mehr bei der Vocatium 2023! \nDas vocatium-Profil im Überblick: \n\nPräsenzmesse mit angemeldeten Schüler*innen / terminierte Messegespräche\nVorträge von Ausstellern\n\nWeitere Informationen unter:\nhttps://www.vocatium.de
URL:https://www.kommunale-koordinierung.com/event/vocatium-duesseldorf-5/
LOCATION:Mitsubishi Electric Halle\, Siegburger Str. 15\, Düsseldorf\, 40591\, Deutschland
CATEGORIES:Berufliche Orientierung,Eltern & Teens,Studienorientierung
END:VEVENT
BEGIN:VEVENT
DTSTART;TZID=Europe/Berlin:20230614T083000
DTEND;TZID=Europe/Berlin:20230614T150000
DTSTAMP:20260423T001638
CREATED:20220704T140805Z
LAST-MODIFIED:20220704T140805Z
UID:36130-1686731400-1686754800@www.kommunale-koordinierung.com
SUMMARY:Vocatium Düsseldorf
DESCRIPTION:Informiere dich über Ausbildung\, Studium\, Praktikum und vieles mehr bei der Vocatium 2023! \nDas vocatium-Profil im Überblick: \n\nPräsenzmesse mit angemeldeten Schüler*innen / terminierte Messegespräche\nVorträge von Ausstellern\n\nWeitere Informationen unter:\nhttps://www.vocatium.de
URL:https://www.kommunale-koordinierung.com/event/vocatium-duesseldorf-6/
CATEGORIES:Berufliche Orientierung,Eltern & Teens,Studienorientierung
END:VEVENT
BEGIN:VEVENT
DTSTART;TZID=Europe/Berlin:20230614T093000
DTEND;TZID=Europe/Berlin:20230614T123000
DTSTAMP:20260423T001638
CREATED:20220819T092629Z
LAST-MODIFIED:20220819T092657Z
UID:37514-1686735000-1686745800@www.kommunale-koordinierung.com
SUMMARY:Offene Sprechstunde der Reha-Beratung am 14.06.
DESCRIPTION:Die Agentur für Arbeit Düsseldorf bietet für Jugendliche mit besonderem Förderbedarf\, zusätzlich zur bekannten allgemeinen Berufsberatung\, die Beratung durch speziell geschulte Reha-Berufsberater*innen an. \nDie offene Sprechstunde der Reha-Beratung findet jeden zweiten Mittwoch im Monat von 09:30-12:30 Uhr im Zentrum für Berufsorientierung und Übergänge statt. \nEltern\, Lehrkräfte und Schülerinnen und Schüler können ohne Anmeldung vorbeikommen und sich vom Reha-Beratungsteam der Agentur für Arbeit beraten lassen. Beim Besuch mit einer Schülergruppe ist eine Voranmeldung sinnvoll\, um im Vorfeld Themen abzusprechen. \nFür Rückfragen steht Ihnen Frau Scheid gern zur Verfügung! \nKontakt Reha-Beratung:\nAgentur für Arbeit Düsseldorf – Team Reha/SB\nDuesseldorf.261-Reha@arbeitsagentur.de
URL:https://www.kommunale-koordinierung.com/event/offene-sprechstunde-der-reha-beratung-am-10-05/
LOCATION:ZBÜ\, Willi-Becker-Allee 10\, Düsseldorf\, 40227\, Deutschland
CATEGORIES:Berufliche Orientierung,BO mit Förderbedarf
END:VEVENT
BEGIN:VEVENT
DTSTART;TZID=Europe/Berlin:20230615T120000
DTEND;TZID=Europe/Berlin:20230615T160000
DTSTAMP:20260423T001638
CREATED:20220204T114453Z
LAST-MODIFIED:20230116T121917Z
UID:28059-1686830400-1686844800@www.kommunale-koordinierung.com
SUMMARY:Azubi-Speed-Dating der IHK 15.06.
DESCRIPTION:2023 finden die Azubi-Speeddatings der IHK wieder wie gewohnt statt. \nWie funktioniert ein Azubi-Speed-Dating?\nBei den Azubi-Speed-Datings stellen sich Jugendliche in zehn Minuten bei einem Unternehmen ihrer Wahl vor und präsentieren ihre Stärken. Der persönliche Eindruck zählt mehr als Noten und Abschlüsse. So überzeugen sie den Ausbilder oder Personaler beim Azubi-Speed-Dating von ihrer Eignung. \nAktuelle Informationen und Hinweise zur Anmeldung gibt es unter: Azubi-Speed-Datings IHK 2023
URL:https://www.kommunale-koordinierung.com/event/azubi-speed-dating-der-ihk-15-6/
LOCATION:Stadthalle Hilden\, Fritz-Gressard-Platz 1\, Hilden\, 40721\, Deutschland
CATEGORIES:Berufliche Orientierung,Eltern & Teens,Schulen
END:VEVENT
BEGIN:VEVENT
DTSTART;TZID=Europe/Berlin:20230617T100000
DTEND;TZID=Europe/Berlin:20230617T130000
DTSTAMP:20260423T001638
CREATED:20230224T115228Z
LAST-MODIFIED:20230620T123419Z
UID:42640-1686996000-1687006800@www.kommunale-koordinierung.com
SUMMARY:SAZUBI - Ausbildungsberatung am Samstag
DESCRIPTION:An einem Samstag pro Quartal veranstaltet die Handwerkskammer Düsseldorf einen großen Beratungstag zum Thema Ausbildung. Ausbildungssuchende\, Azubis und Eltern haben die Möglichkeit\, halbstündige Beratungstermine in der Handwerkskammer zu vereinbaren. \nDie Handwerkskammer berät zu folgenden Themen: \n\nAusbildungsvermittlung (Nadine Rosenau\, Thomas Pohl)\nAusbildungsvermittlung für Geflüchtete (Rex Mähr)\nDuales/Triales Studium (Ann-Kathrin Lauf)\nAuslandsaufenthalte während und nach der Ausbildung (Rebecca Hof)\n\nBitte vereinbaren Sie hier einen Termin bei der entsprechenden Beraterin bzw. dem entsprechenden Berater.
URL:https://www.kommunale-koordinierung.com/event/sazubi-ausbildungsberatung-am-samstag-2/
LOCATION:Handwerkskammer Düsseldorf\, Georg-Schulhoff-Platz 1\, Düsseldorf\, 40221\, Deutschland
CATEGORIES:Ausbildung,Berufliche Orientierung,Eltern & Teens,Studienorientierung
END:VEVENT
BEGIN:VEVENT
DTSTART;TZID=Europe/Berlin:20230619T170000
DTEND;TZID=Europe/Berlin:20230619T190000
DTSTAMP:20260423T001638
CREATED:20230530T100242Z
LAST-MODIFIED:20230530T123400Z
UID:44994-1687194000-1687201200@www.kommunale-koordinierung.com
SUMMARY:Perspektiven nach dem Schulabschluss – Elternveranstaltung (Schwerpunkt Sekundarstufe I)
DESCRIPTION:Das Schuljahr ist beendet und Ihr Kind hat noch keine Anschlussperspektive? Dann ist dieser Elternabend genau die passende Veranstaltung für Sie! \nFolgende Themen werden besprochen:\n– der weiterführende Schulbesuch\n– die Suche und Aufnahme einer Ausbildung\n– mögliche Übergangsoptionen (Freiwilliges Jahr\, Berufsvorbereitung u.a.) \nDie Veranstaltung findet im Beratungscenter der Agentur für Arbeit statt. \nWeitere Informationen:\nhttps://web.arbeitsagentur.de/portal/metasuche/suche/veranstaltungen/10000-2000685370-V
URL:https://www.kommunale-koordinierung.com/event/perspektiven-nach-dem-schulabschluss-elternveranstaltung-schwerpunkt-sekundarstufe-i/
LOCATION:B.i.Z.\, Agentur für Arbeit Düsseldorf\, Grafenberger Allee 300\, Düsseldorf\, 40237\, Deutschland
CATEGORIES:Berufliche Orientierung,Eltern & Teens
END:VEVENT
BEGIN:VEVENT
DTSTART;TZID=Europe/Berlin:20230620T100000
DTEND;TZID=Europe/Berlin:20230620T140000
DTSTAMP:20260423T001638
CREATED:20230530T123600Z
LAST-MODIFIED:20230530T123600Z
UID:45027-1687255200-1687269600@www.kommunale-koordinierung.com
SUMMARY:Schule vorbei - was kommt jetzt? Beratungstag in der Arbeitsagentur
DESCRIPTION:Die Schule ist vorbei\, doch du hast noch keinen Plan für die Zeit nach den Ferien? Mit der Ausbildungssuche läuft es nicht wie erhofft? \nAm 20.06.2023 hast du von 10-14 Uhr die Möglichkeit\, dich im Beratungscenter der Arbeitsagentur Düsseldorf (Erdgeschoss) zu deinen Perspektiven nach dem Schulabschluss beraten zu lassen. \nOb Ausbildung\, weiterführender Schulbesuch oder Überbrückungsmöglichkeiten wie FSJ oder BvB – die Berufsberatung bespricht mit dir deine Möglichkeiten! \nEine vorherige Anmeldung ist nicht notwendig\, komm einfach zwischen 10-14 Uhr vorbei. Deine Eltern können natürlich auch mitkommen. \nBei Fragen und Anliegen ist die Berufsberatung für dich da: Duesseldorf.Berufsberatung@arbeitsagentur.de
URL:https://www.kommunale-koordinierung.com/event/schule-vorbei-was-kommt-jetzt-beratungstag-in-der-arbeitsagentur/
LOCATION:B.i.Z.\, Agentur für Arbeit Düsseldorf\, Grafenberger Allee 300\, Düsseldorf\, 40237\, Deutschland
CATEGORIES:Ausbildung,Berufliche Orientierung,Berufskolleg,Eltern & Teens
END:VEVENT
BEGIN:VEVENT
DTSTART;TZID=Europe/Berlin:20230621T100000
DTEND;TZID=Europe/Berlin:20230621T150000
DTSTAMP:20260423T001638
CREATED:20230605T102135Z
LAST-MODIFIED:20230605T102135Z
UID:45109-1687341600-1687359600@www.kommunale-koordinierung.com
SUMMARY:Sprechstunde zu Berufswahl und Ausbildungsvermittlung der HWK
DESCRIPTION:Die Sprechstunde der Handwerkskammer Düsseldorf bietet Gelegenheit\, in Ruhe individuelle Fragen zu klären und persönliche Empfehlungen durch das Beratungspersonal zu erhalten.\nBitte melden Sie sich telefonisch oder per Mail an bei: \nThomas Pohl\nTel.-Nr.: 0211-8795-603\nE-Mail: thomas.pohl@hwk-duesseldorf.de \nDie Sprechstunde findet abhängig von den aktuellen Hygienevorschriften und Ihren Wünschen telefonisch\, per Zoom-Meeting oder vor Ort in der HWK statt. Zusätzlich zu den Sprechstunden können Sie selbstverständlich auch individuelle Termine vereinbaren.
URL:https://www.kommunale-koordinierung.com/event/sprechstunde-zu-berufswahl-und-ausbildungsvermittlung-der-hwk/
LOCATION:Handwerkskammer Düsseldorf\, Georg-Schulhoff-Platz 1\, Düsseldorf\, 40221\, Deutschland
CATEGORIES:Ausbildung,Berufliche Orientierung,Eltern & Teens,Mit Anmeldung
END:VEVENT
BEGIN:VEVENT
DTSTART;TZID=Europe/Berlin:20230622T170000
DTEND;TZID=Europe/Berlin:20230622T184500
DTSTAMP:20260423T001638
CREATED:20230612T105655Z
LAST-MODIFIED:20230612T110119Z
UID:45141-1687453200-1687459500@www.kommunale-koordinierung.com
SUMMARY:Wege nach der Schule - was tun? Seminare rund um Studium\, Freiwilligenjahr\, Ausbildung und die Rolle der Eltern
DESCRIPTION:Es werden insgesamt vier Seminare angeboten\, diese sind folgende: \n\nRund ums Studium: Studiengänge und Studienfelder. Examen\, Bachelor oder Master? Fachhochschule oder Uni?\n…Und in der Zwischenzeit: Überbrückungsmöglichkeiten im In- und Ausland\nRolle der Eltern bei der Berufsfindung: Begleiter\, Ratgeber\, Seelsorger oder Lotse?\n…Mehr Praxis gewünscht? Informationen zum duales Studium oder einer Ausbildung\n\nFlyer \nWeitere Informationen:\nhttps://web.arbeitsagentur.de/portal/metasuche/suche/veranstaltungen/10000-2000755385-V
URL:https://www.kommunale-koordinierung.com/event/wege-nach-der-schule-was-tun-seminare-rund-um-studium-freiwilligenjahr-ausbildung-und-die-rolle-der-eltern/
LOCATION:B.i.Z.\, Agentur für Arbeit Düsseldorf\, Grafenberger Allee 300\, Düsseldorf\, 40237\, Deutschland
CATEGORIES:Berufliche Orientierung,Eltern & Teens,Studienorientierung
END:VEVENT
BEGIN:VEVENT
DTSTART;TZID=Europe/Berlin:20230622T183000
DTEND;TZID=Europe/Berlin:20230622T200000
DTSTAMP:20260423T001638
CREATED:20230224T114846Z
LAST-MODIFIED:20230224T114846Z
UID:42638-1687458600-1687464000@www.kommunale-koordinierung.com
SUMMARY:Infoveranstaltung zum Trialen Studium
DESCRIPTION:Triales Studium für Abiturientinnen und Abiturienten – Führungskraft im Handwerk werden! \nDas triale Studium verbindet eine Ausbildung im Handwerk mit einer Meisterfortbildung und einem betriebswirtschaftlichen Bachelorstudium. Studierende werden zu Spezialist*innen im Handwerk mit umfangreichem betriebswirtschaftlichem Know-How. Sie sind mit dem Abschluss nach 5 Jahren optimal auf Führungsaufgaben oder eine Selbstständigkeit vorbereitet. Auch Gesell*innen können das Triale Studium absolvieren. \nIn der Informationsveranstaltung der Hochschule Niederrhein erfahren Sie alles zum Ablauf\, den Inhalten und Voraussetzungen des Trialen Studiums. Die Veranstaltung findet online statt. \nAnmeldung per Mail unter rene.steinwartz@hs-niederrhein.de
URL:https://www.kommunale-koordinierung.com/event/infoveranstaltung-zum-trialen-studium-7/
LOCATION:Online
CATEGORIES:Ausbildung,Berufliche Orientierung,Eltern & Teens,Studienorientierung
END:VEVENT
BEGIN:VEVENT
DTSTART;TZID=Europe/Berlin:20230624T120000
DTEND;TZID=Europe/Berlin:20230624T160000
DTSTAMP:20260423T001638
CREATED:20230620T144226Z
LAST-MODIFIED:20230621T070853Z
UID:45271-1687608000-1687622400@www.kommunale-koordinierung.com
SUMMARY:Ausbildungsbus der IHK Düsseldorf
DESCRIPTION:Deine Zukunft ist dir nicht latte? Wir haben Ausbildungsplätze für dich herausgefiltert! Ab Anfang Juni ist das IHK-Matchingteam mit einem großen Angebot an frischen Ausbildungsplätzen in den Innenstädten von Düsseldorf und im Kreis Mettmann präsent. Wir informieren junge Leute und ihre Eltern über freie Ausbildungsplätze für dieses Ausbildungsjahr und beraten um alle Fragen rund um Ausbildung. \nWeitere Informationen:\nwww.ihk.de/duesseldorf/ausbildungklarmachen/artikel/veranstaltungen-4825984
URL:https://www.kommunale-koordinierung.com/event/ausbildungsbus-der-ihk-duesseldorf/
LOCATION:Schadowplatz/Ecke P&C\, Berliner Allee 1\, Düsseldorf
CATEGORIES:Ausbildung,Berufliche Orientierung,Eltern & Teens
END:VEVENT
BEGIN:VEVENT
DTSTART;TZID=Europe/Berlin:20230627T140000
DTEND;TZID=Europe/Berlin:20230627T153000
DTSTAMP:20260423T001638
CREATED:20230621T074148Z
LAST-MODIFIED:20230621T074246Z
UID:45311-1687874400-1687879800@www.kommunale-koordinierung.com
SUMMARY:Summer Special-Sprechstunde der HSD
DESCRIPTION:In den zusätzlichen Telefonsprechstunden berät die Hochschule Düsseldorf (HSD) Studieninteressierte von 14 – 15:30 Uhr unter der Nummer 0211/4351-2062. Wir freuen uns auf Ihren Anruf!
URL:https://www.kommunale-koordinierung.com/event/summer-special-sprechstunde-der-hsd/
LOCATION:Online
CATEGORIES:Berufliche Orientierung,Eltern & Teens,Studienorientierung
END:VEVENT
BEGIN:VEVENT
DTSTART;TZID=Europe/Berlin:20230628T120000
DTEND;TZID=Europe/Berlin:20230628T160000
DTSTAMP:20260423T001638
CREATED:20230620T144319Z
LAST-MODIFIED:20230621T071328Z
UID:45273-1687953600-1687968000@www.kommunale-koordinierung.com
SUMMARY:Ausbildung to go der IHK Düsseldorf
DESCRIPTION:Deine Zukunft ist dir nicht latte? Wir haben Ausbildungsplätze für dich herausgefiltert! Ab Anfang Juni ist das IHK-Matchingteam mit einem großen Angebot an frischen Ausbildungsplätzen in den Innenstädten von Düsseldorf und im Kreis Mettmann präsent. Wir informieren junge Leute und ihre Eltern über freie Ausbildungsplätze für dieses Ausbildungsjahr und beraten um alle Fragen rund um Ausbildung. \nWeitere Informationen:\nwww.ihk.de/duesseldorf/ausbildungklarmachen/artikel/veranstaltungen-4825984
URL:https://www.kommunale-koordinierung.com/event/ausbildungsbus-der-ihk-duesseldorf-2/
LOCATION:Schadowplatz/Ecke P&C\, Berliner Allee 1\, Düsseldorf
CATEGORIES:Ausbildung,Berufliche Orientierung,Eltern & Teens,Geflüchtete
END:VEVENT
BEGIN:VEVENT
DTSTART;TZID=Europe/Berlin:20230629T150000
DTEND;TZID=Europe/Berlin:20230629T180000
DTSTAMP:20260423T001638
CREATED:20230623T052641Z
LAST-MODIFIED:20230623T052641Z
UID:45332-1688050800-1688061600@www.kommunale-koordinierung.com
SUMMARY:"Ausbildung for Future" in der Stadtbücherei Flingern
DESCRIPTION:Die Bundessagentur für Arbeit Düsseldorf bietet am Donnerstag\, 29. Juni\, von 15 bis 18 Uhr eine kostenlose\, individuelle Beratung für Jugendliche und Eltern in der Stadtteilbücherei Flingern\, Hoffeldstraße 69\, an. \nDort werden unter anderem Fragen beantwortet wie „Wie kann es nach der Schule weitergehen?“ „Welcher Beruf passt zu Dir und wie erreicht man diesen?“ „Wie können Eltern ihre Kinder im vielfältigen Dschungel der Berufsorientierung bestmöglich unterstützen?“ \nEine Anmeldung ist nicht erforderlich.
URL:https://www.kommunale-koordinierung.com/event/ausbildung-for-future-in-der-stadtbuecherei-flingern/
LOCATION:Stadtbücherei Flingern\, Hoffeldstraße 69\, Düsseldorf\, 40235
CATEGORIES:Ausbildung,Berufliche Orientierung,Eltern & Teens,Studienorientierung
END:VEVENT
END:VCALENDAR