BEGIN:VCALENDAR
VERSION:2.0
PRODID:-//Kommunale Koordinierung - ECPv6.15.20//NONSGML v1.0//EN
CALSCALE:GREGORIAN
METHOD:PUBLISH
X-WR-CALNAME:Kommunale Koordinierung
X-ORIGINAL-URL:https://www.kommunale-koordinierung.com
X-WR-CALDESC:Veranstaltungen für Kommunale Koordinierung
REFRESH-INTERVAL;VALUE=DURATION:PT1H
X-Robots-Tag:noindex
X-PUBLISHED-TTL:PT1H
BEGIN:VTIMEZONE
TZID:Europe/Berlin
BEGIN:DAYLIGHT
TZOFFSETFROM:+0100
TZOFFSETTO:+0200
TZNAME:CEST
DTSTART:20220327T010000
END:DAYLIGHT
BEGIN:STANDARD
TZOFFSETFROM:+0200
TZOFFSETTO:+0100
TZNAME:CET
DTSTART:20221030T010000
END:STANDARD
BEGIN:DAYLIGHT
TZOFFSETFROM:+0100
TZOFFSETTO:+0200
TZNAME:CEST
DTSTART:20230326T010000
END:DAYLIGHT
BEGIN:STANDARD
TZOFFSETFROM:+0200
TZOFFSETTO:+0100
TZNAME:CET
DTSTART:20231029T010000
END:STANDARD
BEGIN:DAYLIGHT
TZOFFSETFROM:+0100
TZOFFSETTO:+0200
TZNAME:CEST
DTSTART:20240331T010000
END:DAYLIGHT
BEGIN:STANDARD
TZOFFSETFROM:+0200
TZOFFSETTO:+0100
TZNAME:CET
DTSTART:20241027T010000
END:STANDARD
END:VTIMEZONE
BEGIN:VEVENT
DTSTART;TZID=Europe/Berlin:20230502T093000
DTEND;TZID=Europe/Berlin:20230502T113000
DTSTAMP:20260423T015006
CREATED:20230424T091951Z
LAST-MODIFIED:20230424T092002Z
UID:44008-1683019800-1683027000@www.kommunale-koordinierung.com
SUMMARY:Online-Veranstaltung der Bundesagentur für Arbeit: Neue Berufe / Berufe der Zukunft
DESCRIPTION:Berufe mit Zukunft – Arbeiten im Rheinland!\nIn der Aktionswoche vom 02.05. bis 06.05. stellt die Bundesagentur für Arbeit jungen Menschen und Beschäftigten innovative und spannende Berufe und Arbeitsfelder mit Zukunft vor. \nNeue Berufe/Berufe der Zukunft\nDie zunehmende Digitalisierung und der Einsatz von neuen Informations- und Kommunikationstechnologien verändern sowohl die Wirtschaft als auch die Gesellschaft: Der Arbeitsmarkt ist im Wandel. Sie möchten erfahren\, wie und warum sich Berufe verändern und welche neuen Berufe durch den Wandel des Arbeitsmarktes entstehen?\nIn dieser Informationsveranstaltung erhalten Sie eine Übersicht über die Berufe der Zukunft. \nWeitere Informationen und Anmeldung
URL:https://www.kommunale-koordinierung.com/event/online-veranstaltung-der-bundesagentur-fuer-arbeit-neue-berufe-berufe-der-zukunft/
LOCATION:Online
CATEGORIES:Ausbildung,Berufliche Orientierung,Eltern & Teens,Lehrkräfte,Schulen
END:VEVENT
BEGIN:VEVENT
DTSTART;TZID=Europe/Berlin:20230502T150000
DTEND;TZID=Europe/Berlin:20230502T163000
DTSTAMP:20260423T015006
CREATED:20230424T092303Z
LAST-MODIFIED:20230424T092303Z
UID:44012-1683039600-1683045000@www.kommunale-koordinierung.com
SUMMARY:Online-Veranstaltung der Bundesagentur für Arbeit: Mein Weg in einen Beruf mit Zukunft
DESCRIPTION:Berufe mit Zukunft – Arbeiten im Rheinland!\nIn der Aktionswoche vom 02.05. bis 06.05. stellt die Bundesagentur für Arbeit jungen Menschen und Beschäftigten innovative und spannende Berufe und Arbeitsfelder mit Zukunft vor. \nSie suchen einen Beruf mit Perspektive und Zukunft? Wir zeigen Ihnen welche Berufe zukünftig gefragt sind und erklären Ihnen Wege\, wie man in den Beruf einsteigen kann. \nWeitere Informationen und Anmeldung
URL:https://www.kommunale-koordinierung.com/event/online-veranstaltung-der-bundesagentur-fuer-arbeit-mein-weg-in-einen-beruf-mit-zukunft/
LOCATION:Online
CATEGORIES:Ausbildung,Berufliche Orientierung,Eltern & Teens,Lehrkräfte,Mit Anmeldung,Schulen
END:VEVENT
BEGIN:VEVENT
DTSTART;TZID=Europe/Berlin:20230502T170000
DTEND;TZID=Europe/Berlin:20230502T183000
DTSTAMP:20260423T015006
CREATED:20230424T093233Z
LAST-MODIFIED:20230424T093233Z
UID:44019-1683046800-1683052200@www.kommunale-koordinierung.com
SUMMARY:Online-Veranstaltung der Bundesagentur für Arbeit: Fit für den beruflichen Wandel – Neue Jobanforderungen durch die Digitalisierung
DESCRIPTION:Berufe mit Zukunft – Arbeiten im Rheinland!\nIn der Aktionswoche vom 02.05. bis 06.05. stellt die Bundesagentur für Arbeit jungen Menschen und Beschäftigten innovative und spannende Berufe und Arbeitsfelder mit Zukunft vor. \nIn der Veranstaltung informieren wir Sie über den Wandel in der Arbeitswelt und stellen Ihnen neue und veränderte Berufsbilder vor. \nWeitere Informationen und Anmeldung
URL:https://www.kommunale-koordinierung.com/event/online-veranstaltung-der-bundesagentur-fuer-arbeit-fit-fuer-den-beruflichen-wandel-neue-jobanforderungen-durch-die-digitalisierung/
LOCATION:Online
CATEGORIES:Ausbildung,Berufliche Orientierung,Eltern & Teens,Lehrkräfte,Schulen,StuBos,Studienorientierung
END:VEVENT
BEGIN:VEVENT
DTSTART;TZID=Europe/Berlin:20230503T110000
DTEND;TZID=Europe/Berlin:20230503T120000
DTSTAMP:20260423T015006
CREATED:20230424T093833Z
LAST-MODIFIED:20230424T093833Z
UID:44024-1683111600-1683115200@www.kommunale-koordinierung.com
SUMMARY:Online Veranstaltung: AIM HIGH-FLY HIGHER die Epotronic GmbH stellt sich vor
DESCRIPTION:Eine Veranstaltung des Arbeitgeber-Service Düsseldorf. \nKurzbeschreibung:\nErobern Sie Zukunftsmärkte und lernen neue Technologien kennen. Nehmen Sie teil an der nächsten Stufe der Digitalisierung\, der Digitalisierung der Welt. Das Unternehmen Epotronic stellt sich vor und gewährt Ihnen einen Einblick in die Zukunft.\nIn dieser Veranstaltung erhalten Sie einen Blick in die Zukunft. Die Grundlage um künstliche Intelligenzen mit den vom Menschen immer schon gesehenen und erfassten Daten zu füttern. Gedanken\, Informationen und Visionen werden in einer noch nicht vorstellbaren Geschwindigkeit und Effizienz ausgetauscht oder sogar verbessert und fortgeführt\, um auch komplexe Sachverhalte schnell und visuell verständlich zu machen – ohne dabei einen hohen ökologischen Fußabdruck zu hinterlassen.\nEine Voranmeldung ist nicht notwendig. \nWeitere Informationen zum Unternehmen. \n An Skype-Besprechung teilnehmen
URL:https://www.kommunale-koordinierung.com/event/online-veranstaltung-aim-high-fly-higher-die-epotronic-gmbh-stellt-sich-vor/
LOCATION:Online
CATEGORIES:Ausbildung,Berufliche Orientierung,Eltern & Teens,Kommunale Koordinierungsstellen,Lehrkräfte,Schulen,StuBos,Studienorientierung
END:VEVENT
BEGIN:VEVENT
DTSTART;TZID=Europe/Berlin:20230503T140000
DTEND;TZID=Europe/Berlin:20230503T153000
DTSTAMP:20260423T015006
CREATED:20230424T094131Z
LAST-MODIFIED:20230424T094131Z
UID:44027-1683122400-1683127800@www.kommunale-koordinierung.com
SUMMARY:Online-Veranstaltung: Bundesagentur für Arbeit als moderne Arbeitgeberin am Arbeitsmarkt
DESCRIPTION:Eine Veranstaltung des Internen Service und der Berufsberatung im Erwerbsleben Köln. \nKurzbeschreibung:\nDu denkst\, Du bist im falschen Film oder konntest bisher die Regie für Deine eigene Karriere noch nicht übernehmen? Du fragst Dich\, wer bei der Entwicklung Deines eigenen Blockbusters professionelle Unterstützung bietet? Werde Hauptdarsteller bei einer Arbeitgeberin\, bei der kulturelle Vielfalt und Inklusion gelebt wird\, Chancengleichheit und faire Bezahlung unabhängig vom Geschlecht gilt. \nWeitere Informationen und Einwahl.
URL:https://www.kommunale-koordinierung.com/event/online-veranstaltung-bundesagentur-fuer-arbeit-als-moderne-arbeitgeberin-am-arbeitsmarkt/
LOCATION:Online
CATEGORIES:Ausbildung,Berufliche Orientierung,Eltern & Teens,Lehrkräfte,Schulen,StuBos,Studienorientierung
END:VEVENT
BEGIN:VEVENT
DTSTART;TZID=Europe/Berlin:20230503T160000
DTEND;TZID=Europe/Berlin:20230503T170000
DTSTAMP:20260423T015006
CREATED:20230424T094401Z
LAST-MODIFIED:20230424T094401Z
UID:44030-1683129600-1683133200@www.kommunale-koordinierung.com
SUMMARY:Online-Veranstaltung: Akademisierung der Pflegeberufe
DESCRIPTION:Eine Veranstaltung der Berufsberatung vor dem Erwerbsleben Düsseldorf \nKurzbeschreibung:\nIn der Online-Veranstaltung werden Jugendlichen und jungen Erwachsenen die sich wandelnden Anforderungen an einer beruflichen Ausbildung in der Pflege näher gebracht\, beispielsweise die Akademisierung des Hebammenberufes\, oder die Vereinheitlichung des Pflegeberufes. Außerdem sollen Studienmöglichkeiten im Gesundheitssektor abseits eines Medizinstudiums vorgestellt werden. \nWeitere Informationen. \nMicrosoft Teams-Besprechung\nNehmen Sie auf dem Computer\, in der mobilen App oder im Raumgerät teil.\nHier klicken\, um an der Besprechung teilzunehmen \nBesprechungs-ID: 371 359 883 853\nPasscode: cLmYsn
URL:https://www.kommunale-koordinierung.com/event/online-veranstaltung-akademisierung-der-pflegeberufe/
LOCATION:Online
CATEGORIES:Ausbildung,Berufliche Orientierung,Eltern & Teens,Kommunale Koordinierungsstellen,Lehrkräfte,Schulen,StuBos
END:VEVENT
BEGIN:VEVENT
DTSTART;TZID=Europe/Berlin:20230503T170000
DTEND;TZID=Europe/Berlin:20230503T183000
DTSTAMP:20260423T015006
CREATED:20230424T094543Z
LAST-MODIFIED:20251022T092027Z
UID:44033-1683133200-1683138600@www.kommunale-koordinierung.com
SUMMARY:Online-Veranstaltung: Nachhaltigkeit studieren: Studiengänge für die Zukunft
DESCRIPTION:Eine Veranstaltung der Studien- und Berufsberatung Bonn\nReferent: Erik vom Hövel \nKurzbeschreibung:\nDie Zukunft ist nachhaltig und immer stärker wird auch im Studium darauf eingegangen. „\nIm Vortrag „Nachhaltigkeit studieren: Jobs for Future“ wird das Team Berufs- und Studienberatung der Agentur für Arbeit Bonn Orientierung geben. \nWeitere Informationen und Einwahl.
URL:https://www.kommunale-koordinierung.com/event/online-veranstaltung-nachhaltigkeit-studieren-studiengaenge-fuer-die-zukunft/
LOCATION:Online
CATEGORIES:Ausbildung,Berufliche Orientierung,Eltern & Teens,Lehrkräfte,StuBos,Studienorientierung
END:VEVENT
BEGIN:VEVENT
DTSTART;TZID=Europe/Berlin:20230504T170000
DTEND;TZID=Europe/Berlin:20230504T183000
DTSTAMP:20260423T015006
CREATED:20230406T125835Z
LAST-MODIFIED:20230406T125835Z
UID:43911-1683219600-1683225000@www.kommunale-koordinierung.com
SUMMARY:digitale Sprechstunde der IHK für Eltern
DESCRIPTION:In der aktuellen Zeit sind Eltern besonders gefordert\, Ihre Kinder bei der Karriereplanung zu beraten. \nIn der kostenlosen Sprechstunde „Karriere mit Ausbildung – Was Eltern wissen müssen!“\nbeantwortet die IHK Düsseldorf typische Ausbildungsfragen. \nBeispiele sind:\n– Welcher Beruf passt zu den Interessen und Talenten meines Kindes?\n– Welche Chancen bietet der Ausbildungsmarkt?\n– Wie kann ich meinem Kind bei der Ausbildungssuche helfen? \nDie Sprechstunde findet immer am ersten Donnerstag eines Monats statt.\nTermine 2023: 04.05.\, 01.06.\, 06.07.\, 03.08.\, 05.10.\, 02.11. und 07.12. \nWeitere Informationen:\nInformation und Beratung für die Berufsorientierung und Ausbildungsplatzsuche. – IHK Düsseldorf
URL:https://www.kommunale-koordinierung.com/event/digitale-sprechstunde-der-ihk-fuer-eltern/
LOCATION:Online
CATEGORIES:Berufliche Orientierung,Eltern & Teens
END:VEVENT
BEGIN:VEVENT
DTSTART;TZID=Europe/Berlin:20230504T180000
DTEND;TZID=Europe/Berlin:20230504T193000
DTSTAMP:20260423T015006
CREATED:20230424T094735Z
LAST-MODIFIED:20230424T094735Z
UID:44036-1683223200-1683228600@www.kommunale-koordinierung.com
SUMMARY:Online-Veranstaltung: Berufliche Karriere\, aber nachhaltig bitte! Wandel\, Chancen und Wege am Arbeitsmarkt der Zukunft
DESCRIPTION:Eine Veranstaltung der Berufsberatung im Erwerbsleben Aachen-Düren/ Brühl und Düsseldorf. \nKurzbeschreibung:\nDie Themen Nachhaltigkeit und ökologische Transformation haben den Arbeitsmarkt längst erreicht. Wir zeigen in unserer Online-Veranstaltung\, wie und wo sich ganze Berufsfelder und einzelne Berufe verändern\, informieren über Chancen und Wege in einem wachsenden Arbeitsmarkt den Einstieg zu finden oder auch den Anschluss nicht zu verlieren. \nWeitere Informationen und Einwahl.
URL:https://www.kommunale-koordinierung.com/event/online-veranstaltung-berufliche-karriere-aber-nachhaltig-bitte-wandel-chancen-und-wege-am-arbeitsmarkt-der-zukunft/
LOCATION:Online
CATEGORIES:Ausbildung,Berufliche Orientierung,Eltern & Teens,Lehrkräfte,Schulen,StuBos,Studienorientierung
END:VEVENT
BEGIN:VEVENT
DTSTART;TZID=Europe/Berlin:20230510T093000
DTEND;TZID=Europe/Berlin:20230510T123000
DTSTAMP:20260423T015006
CREATED:20220819T092753Z
LAST-MODIFIED:20220819T092753Z
UID:37517-1683711000-1683721800@www.kommunale-koordinierung.com
SUMMARY:Offene Sprechstunde der Reha-Beratung am 10.05.
DESCRIPTION:Die Agentur für Arbeit Düsseldorf bietet für Jugendliche mit besonderem Förderbedarf\, zusätzlich zur bekannten allgemeinen Berufsberatung\, die Beratung durch speziell geschulte Reha-Berufsberater*innen an. \nDie offene Sprechstunde der Reha-Beratung findet jeden zweiten Mittwoch im Monat von 09:30-12:30 Uhr im Zentrum für Berufsorientierung und Übergänge statt. \nEltern\, Lehrkräfte und Schülerinnen und Schüler können ohne Anmeldung vorbeikommen und sich vom Reha-Beratungsteam der Agentur für Arbeit beraten lassen. Beim Besuch mit einer Schülergruppe ist eine Voranmeldung sinnvoll\, um im Vorfeld Themen abzusprechen. \nFür Rückfragen steht Ihnen Frau Scheid gern zur Verfügung! \nKontakt Reha-Beratung:\nAgentur für Arbeit Düsseldorf – Team Reha/SB\nDuesseldorf.261-Reha@arbeitsagentur.de
URL:https://www.kommunale-koordinierung.com/event/offene-sprechstunde-der-reha-beratung-am-10-05-2/
LOCATION:ZBÜ\, Willi-Becker-Allee 10\, Düsseldorf\, 40227\, Deutschland
CATEGORIES:Berufliche Orientierung,BO mit Förderbedarf
END:VEVENT
BEGIN:VEVENT
DTSTART;TZID=Europe/Berlin:20230511T120000
DTEND;TZID=Europe/Berlin:20230511T160000
DTSTAMP:20260423T015006
CREATED:20230116T122041Z
LAST-MODIFIED:20230116T122041Z
UID:42171-1683806400-1683820800@www.kommunale-koordinierung.com
SUMMARY:Azubi-Speed-Dating der IHK 11.05.
DESCRIPTION:2023 finden die Azubi-Speeddatings der IHK wieder wie gewohnt statt. \nWie funktioniert ein Azubi-Speed-Dating?\nBei den Azubi-Speed-Datings stellen sich Jugendliche in zehn Minuten bei einem Unternehmen ihrer Wahl vor und präsentieren ihre Stärken. Der persönliche Eindruck zählt mehr als Noten und Abschlüsse. So überzeugen sie den Ausbilder oder Personaler beim Azubi-Speed-Dating von ihrer Eignung. \nAktuelle Informationen und Hinweise zur Anmeldung gibt es unter: Azubi-Speed-Datings IHK 2023
URL:https://www.kommunale-koordinierung.com/event/azubi-speed-dating-der-ihk-11-05/
LOCATION:CCD Stadthalle\, Rotterdamer Straße 141\, Düsseldorf\, 40474\, Deutschland
CATEGORIES:Berufliche Orientierung,Eltern & Teens,Schulen
END:VEVENT
BEGIN:VEVENT
DTSTART;TZID=Europe/Berlin:20230511T140000
DTEND;TZID=Europe/Berlin:20230511T160000
DTSTAMP:20260423T015006
CREATED:20230411T103020Z
LAST-MODIFIED:20230411T103746Z
UID:43931-1683813600-1683820800@www.kommunale-koordinierung.com
SUMMARY:StuBo-Arbeitskreis der Gymnasien
DESCRIPTION:Wir laden alle Düsseldorfer Gymnasien herzlich zur nächsten StuBo-Arbeitskreissitzung ein. \nOrt:\nStiftung PRO AUSBILDUNG\nAchenbachstr. 28\n40237 Düsseldorf \nOffizielle Einladung \nBitte melden Sie sich unten zu der Veranstaltung an. \nBei Fragen wenden Sie sich bitte an:\nEzgi Yildiz\nTelefon: 0211 6690822\nE-Mail: yildiz@unternehmerschaft.de \nDer Arbeitskreis ist eine gemeinsame Veranstaltung der Kommunalen Koordinierung Düsseldorf und des Kompetenzzentrums Berufliche Orientierung mit der Schulaufsicht der Landeshauptstadt Düsseldorf. \n\n \n\n\n\nVorname *\n\n\nNachname *\n\n\n\n\nSchule/Institution *\n\n\n\n\nE-Mail Adresse *\n\n\n\n\nGDPR *Ja\, ich bin mit den Datenschutzbestimmungen einverstanden.\n\n\n \n\n\nNachricht senden
URL:https://www.kommunale-koordinierung.com/event/stubo-arbeitskreis-der-gymnasien/
LOCATION:Stiftung PRO AUSBILDUNG\, Achenbachstr. 28\, Düsseldorf\, 40237
END:VEVENT
BEGIN:VEVENT
DTSTART;TZID=Europe/Berlin:20230515T150000
DTEND;TZID=Europe/Berlin:20230515T180000
DTSTAMP:20260423T015008
CREATED:20230508T103814Z
LAST-MODIFIED:20230508T103940Z
UID:44328-1684162800-1684173600@www.kommunale-koordinierung.com
SUMMARY:Ausbildung for future - Beratung für Jugendliche & Eltern
DESCRIPTION:Die Arbeitsagentur berät in der Zentralbibliothek Jugendliche und Eltern zu folgenden Themen: \n\nWie kann es nach der Schule weitergehen?\nAusbildung\, weiterführende Schule\, Studium…\nWelcher Beruf passt zu Dir/Ihrem Nachwuchs?\nWie können Eltern ihre Kinder im vielfältigen Dschungel der Berufsorientierung bestmöglich unterstützen?\n\nDer Eintritt ist frei. Eine Anmeldung ist nicht erforderlich! \nOrt:\nZentralbibliothek\, Lernbox 9\, Konrad-Adenauer-Platz 1
URL:https://www.kommunale-koordinierung.com/event/ausbildung-for-future-beratung-fuer-jugendliche-eltern/
LOCATION:Zentralbibliothek\, Konrad-Adenauer-Platz 1\, Düsseldorf\, 40210
CATEGORIES:Ausbildung,Eltern & Teens
END:VEVENT
BEGIN:VEVENT
DTSTART;TZID=Europe/Berlin:20230517T140000
DTEND;TZID=Europe/Berlin:20230517T160000
DTSTAMP:20260423T015008
CREATED:20230428T125623Z
LAST-MODIFIED:20230428T125842Z
UID:44082-1684332000-1684339200@www.kommunale-koordinierung.com
SUMMARY:StuBo-AK der Förderschulen am 17.05.
DESCRIPTION:Die nächste Sitzung des StuBo-Arbeitskreises der Förderschulen findet in Präsenz statt: \nStiftung Pro Ausbildung\nAchenbachstraße 28\n40237 Düsseldorf \nBitte melden Sie sich unten zu der Veranstaltung an. \nBei Fragen oder Anmerkungen wenden Sie sich bitte an:\nUte Scheid\nTelefon: 0211 8921947\nE-Mail: ute.scheid@duesseldorf.de \nDer Arbeitskreis ist eine gemeinsame Veranstaltung der Kommunalen Koordinierung Düsseldorf und der Schulaufsicht der Landeshauptstadt Düsseldorf. \nDie offizielle Einladung für den Arbeitskeis der Förderschulen finden Sie hier: Einladung AK FS
URL:https://www.kommunale-koordinierung.com/event/stubo-ak-der-foerderschulen-am-17-05/
LOCATION:Stiftung PRO AUSBILDUNG\, Achenbachstr. 28\, Düsseldorf\, 40237
CATEGORIES:Mit Anmeldung,StuBo-Arbeitskreis,StuBos
END:VEVENT
BEGIN:VEVENT
DTSTART;TZID=Europe/Berlin:20230524T183000
DTEND;TZID=Europe/Berlin:20230524T200000
DTSTAMP:20260423T015008
CREATED:20230405T123356Z
LAST-MODIFIED:20230405T123517Z
UID:43893-1684953000-1684958400@www.kommunale-koordinierung.com
SUMMARY:Eltern-Informationsabend zum Erlebnisparcours "komm auf Tour"
DESCRIPTION:Der Erlebnisparcours „komm auf Tour – meine Stärken\, meine Zukunft“ bietet Schülerinnen und Schülern die Möglichkeit\, ihre individuellen Stärken\, Interessen und Talente auf spielerische Art und Weise zu entdecken und weiterzuentwickeln. \nDabei beschäftigen sich die Jugendlichen auch mit ersten Vorstellungen für ihren Ausbildungsweg und ihre Lebensplanung. Zudem erfahren sie\, wie sie ihre Stärken im späteren Berufsleben einsetzen können. \nBeim Eltern-Informationsabend zu „komm auf Tour“ erhalten die Erziehungsberechtigten der angemeldeten Schüler*innen einen Einblick in die Stationen und Ziele des Parcours. \nDarüber hinaus informieren Institutionen und Beratungsstellen aus Düsseldorf über Möglichkeiten\, wie Eltern ihre Kinder bei der Berufswahl und im Leben unterstützen können. \nWeitere Informationen zum Parcours:\nhttps://komm-auf-tour.de
URL:https://www.kommunale-koordinierung.com/event/eltern-informationsabend-zum-erlebnisparcours-komm-auf-tour/
LOCATION:Mercedes-Benz-Werk\, Rather Str. 51\, Düsseldorf
CATEGORIES:Berufliche Orientierung,Eltern & Teens
END:VEVENT
BEGIN:VEVENT
DTSTART;TZID=Europe/Berlin:20230525T140000
DTEND;TZID=Europe/Berlin:20230525T160000
DTSTAMP:20260423T015008
CREATED:20230428T131312Z
LAST-MODIFIED:20230428T131717Z
UID:44096-1685023200-1685030400@www.kommunale-koordinierung.com
SUMMARY:StuBo-Arbeitskreis der Gesamtschulen am 25.05. (digital)
DESCRIPTION:Wir laden alle Düsseldorfer Gesamtschulen herzlich zur nächsten StuBo-Arbeitskreissitzung ein. Die Arbeitskreissitzung findet digital statt. Den Einwahllink erhalten Sie mit der Anmeldung. \nBitte melden Sie sich unten zu der Veranstaltung an. \nOffizielle Einladung \nBei Fragen wenden Sie sich bitte an:\nUte Scheid\nTelefon: 0211 892194\nE-Mail: ute.scheid@duesseldorf.de \nDer Arbeitskreis ist eine gemeinsame Veranstaltung der Kommunalen Koordinierung Düsseldorf und des Kompetenzzentrums Berufliche Orientierung mit der Schulaufsicht der Landeshauptstadt Düsseldorf. \n\n \n\n\n\nVorname *\n\n\nNachname *\n\n\n\n\nSchule/Institution *\n\n\n\n\nE-Mail Adresse *\n\n\n\n\nGDPR *Ja\, ich bin mit den Datenschutzbestimmungen einverstanden.\n\n\n \n\n\nNachricht senden
URL:https://www.kommunale-koordinierung.com/event/stubo-arbeitskreis-der-gesamtschulen-am-25-05-digital/
LOCATION:Online
CATEGORIES:Mit Anmeldung,StuBo-Arbeitskreis,StuBos
END:VEVENT
BEGIN:VEVENT
DTSTART;TZID=Europe/Berlin:20230525T180000
DTEND;TZID=Europe/Berlin:20230525T193000
DTSTAMP:20260423T015010
CREATED:20230508T104718Z
LAST-MODIFIED:20230620T124208Z
UID:44333-1685037600-1685043000@www.kommunale-koordinierung.com
SUMMARY:virtueller Elternabend "Eltern als Berufs- und Studienberater - wie geht das eigentlich?"
DESCRIPTION:Wie bringt man sein pubertierendes\, vielleicht auch unmotiviertes Teenie-Kind dazu\, sich mit Berufs- und Studienorientierung auseinanderzusetzen? Wie begleitet man den Prozess seines Kindes in genau dem richtigen Maß\, weder zu wenig noch zu viel? \nMit diesen und weiteren Fragen rund um das Thema wollen wir uns auseinandersetzen\, beim ersten virtuellen Elternabend von TechTalents\, in Kooperation mit SchuleWirtschaft\, der Berufsberatung der BA und BerufswahlSIEGEL. Der Abend gibt nicht nur wertvolle Einblicke aus Wissenschaft und Praxis\, sondern bietet auch die Möglichkeit zum Erfahrungsaustausch mit anderen Eltern\, in derselben Situation. \nAlle Eltern und sonstigen Interessierten sind herzlich eingeladen. \nFlyer und Anmeldung
URL:https://www.kommunale-koordinierung.com/event/virtueller-elternabend-eltern-als-berufs-und-studienberater-wie-geht-das-eigentlich/
LOCATION:Online
CATEGORIES:Ausbildung,Berufliche Orientierung,Eltern & Teens,Studienorientierung
END:VEVENT
BEGIN:VEVENT
DTSTART;TZID=Europe/Berlin:20230525T183000
DTEND;TZID=Europe/Berlin:20230525T200000
DTSTAMP:20260423T015010
CREATED:20230224T114719Z
LAST-MODIFIED:20230224T114719Z
UID:42636-1685039400-1685044800@www.kommunale-koordinierung.com
SUMMARY:Infoveranstaltung zum Trialen Studium
DESCRIPTION:Triales Studium für Abiturientinnen und Abiturienten – Führungskraft im Handwerk werden! \nDas triale Studium verbindet eine Ausbildung im Handwerk mit einer Meisterfortbildung und einem betriebswirtschaftlichen Bachelorstudium. Studierende werden zu Spezialist*innen im Handwerk mit umfangreichem betriebswirtschaftlichem Know-How. Sie sind mit dem Abschluss nach 5 Jahren optimal auf Führungsaufgaben oder eine Selbstständigkeit vorbereitet. Auch Gesell*innen können das Triale Studium absolvieren. \nIn der Informationsveranstaltung der Hochschule Niederrhein erfahren Sie alles zum Ablauf\, den Inhalten und Voraussetzungen des Trialen Studiums. Die Veranstaltung findet online statt. \nAnmeldung per Mail unter rene.steinwartz@hs-niederrhein.de
URL:https://www.kommunale-koordinierung.com/event/infoveranstaltung-zum-trialen-studium-6/
LOCATION:Online
CATEGORIES:Ausbildung,Berufliche Orientierung,Eltern & Teens,Studienorientierung
END:VEVENT
BEGIN:VEVENT
DTSTART;VALUE=DATE:20230531
DTEND;VALUE=DATE:20230601
DTSTAMP:20260423T015010
CREATED:20230508T105907Z
LAST-MODIFIED:20240614T104733Z
UID:44336-1685491200-1685577599@www.kommunale-koordinierung.com
SUMMARY:HS Niederrhein - Tag der offenen Tür
DESCRIPTION:Besuchen Sie uns am 31.05.23 ab 9 Uhr und erleben Sie einen spannenden und interaktiven Tag z. B. mit: \n\nWORKSHOPS zum Workflow von der eigenen Designidee über die Bildverarbeitung bis hin zu einem nachhaltig bedruckten T-Shirt am FB Textil- und Bekleidungstechnik\nPROJEKTPRÄSENTATIONEN unserer Studierenden zum Thema Sport und Ernährung inkl. Probieraktionen sowie Messungen der eigenen Muskelmasse am FB Oecotrophologie\nFACHLICHER AUSTAUSCH zum Projekt „Soziale Teilhabe und Alltagsbewältigung von Menschen mit Behinderungen“ am FB Sozialwesen\nSCHNUPPERVORLESUNGEN am FB Wirtschaftswissenschaften\nCAMPUS- UND FACHBEREICHSFÜHRUNGEN\n\nWir würden uns freuen Sie zu sehen – bei Fragen können Sie sich gerne an uns wenden. \nEine Anmeldung unter studienberatung@hs-niederrhein.de wäre prima\, wenn Sie mit einer ganzen Klasse oder einem Kurs kommen möchten.
URL:https://www.kommunale-koordinierung.com/event/hs-niederrhein-tag-der-offenen-tuer/
LOCATION:HS Niederrhein\, Webschulstraße 41-43\, Mönchengladbach\, 41065
CATEGORIES:Eltern & Teens,Studienorientierung
END:VEVENT
BEGIN:VEVENT
DTSTART;TZID=Europe/Berlin:20230531T140000
DTEND;TZID=Europe/Berlin:20230531T160000
DTSTAMP:20260423T015010
CREATED:20230428T130434Z
LAST-MODIFIED:20230428T130617Z
UID:44089-1685541600-1685548800@www.kommunale-koordinierung.com
SUMMARY:StuBo-Arbeitskreis der Hauptschulen am 31.05.
DESCRIPTION:Alle Düsseldorfer Hauptschulen sind herzlich zum nächsten StuBo-Arbeitskreis der Hauptschulen eingeladen! \nVeranstaltungsort:\nZentrum für Berufsorientierung und Übergänge\nu. Kommunale Koordinierung\nBertha-von-Suttner-Platz 3\n(Eingang Richtung Ludwig-Erhard-Allee)\n40227 Düsseldorf \nOffizielle Einladung \nBitte melden Sie sich unten für die Veranstaltung an. \nBei Fragen oder Anmerkungen wenden Sie sich bitte an:\nUte Scheid\nTelefon: 0211 8921947\nE-Mail: ute.scheid@duesseldorf.de \nDer Arbeitskreis ist eine gemeinsame Veranstaltung der Kommunalen Koordinierung Düsseldorf und der Schulaufsicht der Landeshauptstadt Düsseldorf. \n\n \n\n\n\nVorname *\n\n\nNachname *\n\n\n\n\nSchule/Institution *\n\n\n\n\nE-Mail Adresse *\n\n\n\n\nGDPR *Ja\, ich bin mit den Datenschutzbestimmungen einverstanden.\n\n\n \n\n\nNachricht senden
URL:https://www.kommunale-koordinierung.com/event/stubo-arbeitskreis-der-hauptschulen-am-31-05/
LOCATION:ZBÜ\, Willi-Becker-Allee 10\, Düsseldorf\, 40227\, Deutschland
CATEGORIES:Mit Anmeldung,StuBo-Arbeitskreis,StuBos
END:VEVENT
END:VCALENDAR