BEGIN:VCALENDAR
VERSION:2.0
PRODID:-//Kommunale Koordinierung - ECPv6.15.20//NONSGML v1.0//EN
CALSCALE:GREGORIAN
METHOD:PUBLISH
X-WR-CALNAME:Kommunale Koordinierung
X-ORIGINAL-URL:https://www.kommunale-koordinierung.com
X-WR-CALDESC:Veranstaltungen für Kommunale Koordinierung
REFRESH-INTERVAL;VALUE=DURATION:PT1H
X-Robots-Tag:noindex
X-PUBLISHED-TTL:PT1H
BEGIN:VTIMEZONE
TZID:Europe/Berlin
BEGIN:DAYLIGHT
TZOFFSETFROM:+0100
TZOFFSETTO:+0200
TZNAME:CEST
DTSTART:20210328T010000
END:DAYLIGHT
BEGIN:STANDARD
TZOFFSETFROM:+0200
TZOFFSETTO:+0100
TZNAME:CET
DTSTART:20211031T010000
END:STANDARD
BEGIN:DAYLIGHT
TZOFFSETFROM:+0100
TZOFFSETTO:+0200
TZNAME:CEST
DTSTART:20220327T010000
END:DAYLIGHT
BEGIN:STANDARD
TZOFFSETFROM:+0200
TZOFFSETTO:+0100
TZNAME:CET
DTSTART:20221030T010000
END:STANDARD
BEGIN:DAYLIGHT
TZOFFSETFROM:+0100
TZOFFSETTO:+0200
TZNAME:CEST
DTSTART:20230326T010000
END:DAYLIGHT
BEGIN:STANDARD
TZOFFSETFROM:+0200
TZOFFSETTO:+0100
TZNAME:CET
DTSTART:20231029T010000
END:STANDARD
END:VTIMEZONE
BEGIN:VEVENT
DTSTART;TZID=Europe/Berlin:20221202T160000
DTEND;TZID=Europe/Berlin:20221202T190000
DTSTAMP:20260423T123718
CREATED:20221026T085849Z
LAST-MODIFIED:20250813T093947Z
UID:41069-1669996800-1670007600@www.kommunale-koordinierung.com
SUMMARY:Studieren mit einer (nicht-)sichtbaren Behinderung / chronischen Erkrankung. Allgemeine Informationen und Erfahrung aus der Praxis
DESCRIPTION:Das kombabb-Kompetenzzentrum NRW lädt zu einer kostenfreien Informationsveranstaltung im digitalen Format zum Thema „Studieren mit einer (nicht-)sichtbaren Behinderung / chronischen Erkrankung. Allgemeine Informationen und Erfahrung aus der Praxis“ ein! \nDie Veranstaltung richtet sich insbesondere an Schüler*innen sowie Studierende mit (nicht-)sichtbaren Behinderungen / chronischen Erkrankungen\, wie z.B. mit Mobilitätseinschränkungen\, Seh- oder Hörbehinderungen\, Diabetes\, Epilepsie\, einer Autismus-Spektrum-Störung oder psychischen Erkrankung. Aber auch Familienangehörige und all jene\, denen dieses Thema im Beruf begegnet\, können teilnehmen. \nWichtiger Hinweis zur Barrierefreiheit:\nDie Veranstaltung wird begleitet von Schriftdolmetschung. Falls Sie Gebärdensprachdolmetscher*innen benötigen\, so bittet kombabb (kontakt@kombabb.de) um Rückmeldung bis zum 29.11.\, 14 Uhr. \nTechnische Hinweise und weitere Informationen zu Inhalten\, Anmeldung\, Barrierefreiheit etc. finden Sie unter:
URL:https://www.kommunale-koordinierung.com/event/studieren-mit-einer-nicht-sichtbaren-behinderung-chronischen-erkrankung-allgemeine-informationen-und-erfahrung-aus-der-praxis-2/
LOCATION:Online
CATEGORIES:Berufliche Orientierung,BO mit Förderbedarf,Eltern & Teens
END:VEVENT
BEGIN:VEVENT
DTSTART;TZID=Europe/Berlin:20221205T140000
DTEND;TZID=Europe/Berlin:20221205T160000
DTSTAMP:20260423T123718
CREATED:20221107T093311Z
LAST-MODIFIED:20221107T093311Z
UID:41211-1670248800-1670256000@www.kommunale-koordinierung.com
SUMMARY:Umsetzung der Verantwortungskette in der Landeshauptstadt Düsseldorf
DESCRIPTION:Bitte melden Sie sich hier zu der Veranstaltung an: \nVorname *Nachname *Schule/Institution *E-Mail Adresse *GDPR *Ja\, ich bin mit den Datenschutzbestimmungen einverstanden.Nachricht senden
URL:https://www.kommunale-koordinierung.com/event/umsetzung-der-verantwortungskette-in-der-landeshauptstadt-duesseldorf/
LOCATION:Handwerkskammer Düsseldorf\, Georg-Schulhoff-Platz 1\, Düsseldorf\, 40221\, Deutschland
CATEGORIES:Berufliche Orientierung,Lehrkräfte,Schulen,StuBos
END:VEVENT
BEGIN:VEVENT
DTSTART;TZID=Europe/Berlin:20221208T140000
DTEND;TZID=Europe/Berlin:20221208T153000
DTSTAMP:20260423T123719
CREATED:20221114T083410Z
LAST-MODIFIED:20221114T083410Z
UID:41276-1670508000-1670513400@www.kommunale-koordinierung.com
SUMMARY:Info-Veranstaltung "MINT-Schule-NRW" - digital
DESCRIPTION:In der digitalen Info-Veranstaltung sollen interessierte Schulen über das Bewerbung- und Zertifizierungsverfahren der „MINT-Schule-NRW“ informiert werden. \n„Sehr geehrte\, liebe Kolleginnen und Kollegen in der Jury MINT SCHULE NRW\,\nsehr geehrte Lehrkräfte\, \num möglichst vielen interessierten Lehrkräften und Jury-Mitgliedern aus den verschiedenen Regionen NRWs einen einfachen Zugang zu ermöglichen\, findet auch die diesjährige Informationsveranstaltung für MINT SCHULE NRW digital statt. \nNach einem Grußwort von Staatssekretär Dr. Urban Mauer\, Ministerium für Schule und Bildung des Landes Nordrhein-Westfalen\, werden das Bewerbungs- und Zertifizierungsverfahren sowie beispielhafte Förderangebote für das Exzellenz-Netzwerk MINT SCHULE NRW interessierten Schulen vorgestellt. Zudem erläutert eine Schule aus dem Netzwerk MINT SCHULE NRW exemplarisch ihre schulspezifische MINT-Profilentwicklung.\n\nWir laden Sie herzlich zur Teilnahme ein:  \nDigitale Informationsveranstaltung MINT SCHULE NRW\nüber das Format GoToMeeting\n 08. Dezember 2022; 14:00 bis 15:30 Uhr \nWir würden uns freuen\, Sie im Rahmen der digitalen Informationsveranstaltung als Teilnehmende begrüßen zu dürfen. Sofern Sie teilnehmen möchten\, bitten wir um Ihre Anmeldung mit dem Rückmeldebogen bis zum 26.11.2022. Den Einwahllink erhalten Sie rechtzeitig per E-Mail vor der Veranstaltung.\n \nHerzliche Grüße\, Heike Hunecke „ \nMINT-Schule-NRW“ ist ein Kooperationsprojekt der Landesvereinigung der Unternehmensverbände NRW\, unternehmer nrw\, in Zusammenarbeit mit MINT-Experten aus Schulen\, Unternehmen\, Hochschulen und Ministerien.
URL:https://www.kommunale-koordinierung.com/event/info-veranstaltung-mint-schule-nrw-digital/
CATEGORIES:Berufliche Orientierung,Berufskolleg,Lehrkräfte,Mit Anmeldung,Schulen,StuBo-Arbeitskreis,StuBos
END:VEVENT
BEGIN:VEVENT
DTSTART;VALUE=DATE:20221209
DTEND;VALUE=DATE:20221210
DTSTAMP:20260423T123719
CREATED:20220708T105307Z
LAST-MODIFIED:20240826T083805Z
UID:36281-1670544000-1670630399@www.kommunale-koordinierung.com
SUMMARY:Sprechstunde der HWK für Geflüchtete am 09.12.
DESCRIPTION:Sie möchten eine Ausbildung in Deutschland machen? Sie haben Fragen zu den Handwerksberufen? Sie benötigen Hilfe beim Schreiben der Bewerbung? \nDie Handwerkskammer Düsseldorf unterstützt Sie bei der Suche nach einem Ausbildungsplatz. Das Handwerk bietet gute Perspektiven für geflüchtete Menschen. \nAnmeldung zur Sprechstunde:\nhier oder bei Rex Mähr\, Telefon 0211 8795-604\, E-Mail: rex.maehr@hwk-duesseldorf.de
URL:https://www.kommunale-koordinierung.com/event/sprechstunde-der-hwk-fuer-gefluechtete-am-09-12/
CATEGORIES:Berufliche Orientierung,Geflüchtete
END:VEVENT
BEGIN:VEVENT
DTSTART;TZID=Europe/Berlin:20221209T140000
DTEND;TZID=Europe/Berlin:20221209T173000
DTSTAMP:20260423T123719
CREATED:20221026T071517Z
LAST-MODIFIED:20221026T071517Z
UID:41046-1670594400-1670607000@www.kommunale-koordinierung.com
SUMMARY:Informationsnachmittag am Semper-Berufskolleg
DESCRIPTION:Weitere Informationen zum Semper-Berufskolleg gibt es unter:\nwww.semper-schulen.de/berufsbildende-schulen/semper-berufskolleg-fuer-kosmetik-und-gestaltung-duesseldorf/unser-erfolgskonzept
URL:https://www.kommunale-koordinierung.com/event/informationsnachmittag-am-semper-berufskolleg/
LOCATION:Semper Berufskolleg für Kosmetik und Gestatung\, Am Seestern 18\, Lörick
CATEGORIES:Berufliche Orientierung,Berufskolleg,Eltern & Teens
END:VEVENT
BEGIN:VEVENT
DTSTART;TZID=Europe/Berlin:20221212T140000
DTEND;TZID=Europe/Berlin:20221212T160000
DTSTAMP:20260423T123719
CREATED:20220708T104636Z
LAST-MODIFIED:20221216T080721Z
UID:36275-1670853600-1670860800@www.kommunale-koordinierung.com
SUMMARY:Sprechstunde der HWK für Abiturient*innen 12.12.
DESCRIPTION:Die Handwerkskammer Düsseldorf bietet eine Sprechstunde speziell für Abiturient*innen an. Sie können sich zu allen Fragen der handwerklichen Ausbildung\, Ausbildungsverkürzung\, Auslandsaufenthalten und zum trialen Studium (Ausbildung + Meisterfortbildung + BWL-Bachelorstudium) beraten lassen. Die Sprechstunde findet telefonisch statt.
URL:https://www.kommunale-koordinierung.com/event/sprechstunde-der-hwk-fuer-abiturientinnen-12-12/
CATEGORIES:Berufliche Orientierung,Eltern & Teens
END:VEVENT
BEGIN:VEVENT
DTSTART;TZID=Europe/Berlin:20221214T093000
DTEND;TZID=Europe/Berlin:20221214T123000
DTSTAMP:20260423T123719
CREATED:20220819T092010Z
LAST-MODIFIED:20220819T092010Z
UID:37504-1671010200-1671021000@www.kommunale-koordinierung.com
SUMMARY:Offene Sprechstunde der Reha-Beratung am 14.12.
DESCRIPTION:Die Agentur für Arbeit Düsseldorf bietet für Jugendliche mit besonderem Förderbedarf\, zusätzlich zur bekannten allgemeinen Berufsberatung\, die Beratung durch speziell geschulte Reha-Berufsberater*innen an. \nDie offene Sprechstunde der Reha-Beratung findet jeden zweiten Mittwoch im Monat von 09:30-12:30 Uhr im Zentrum für Berufsorientierung und Übergänge statt. \nEltern\, Lehrkräfte und Schülerinnen und Schüler können ohne Anmeldung vorbeikommen und sich vom Reha-Beratungsteam der Agentur für Arbeit beraten lassen. Beim Besuch mit einer Schülergruppe ist eine Voranmeldung sinnvoll\, um im Vorfeld Themen abzusprechen. \nFür Rückfragen steht Ihnen Frau Scheid gern zur Verfügung! \nKontakt Reha-Beratung:\nAgentur für Arbeit Düsseldorf – Team Reha/SB\nDuesseldorf.261-Reha@arbeitsagentur.de
URL:https://www.kommunale-koordinierung.com/event/offene-sprechstunde-der-reha-beratung-am-14-12/
LOCATION:ZBÜ\, Willi-Becker-Allee 10\, Düsseldorf\, 40227\, Deutschland
CATEGORIES:Berufliche Orientierung,BO mit Förderbedarf
END:VEVENT
BEGIN:VEVENT
DTSTART;TZID=Europe/Berlin:20221214T160000
DTEND;TZID=Europe/Berlin:20221214T190000
DTSTAMP:20260423T123719
CREATED:20221130T150319Z
LAST-MODIFIED:20221130T150515Z
UID:41487-1671033600-1671044400@www.kommunale-koordinierung.com
SUMMARY:Digitales Event ‚IT@Bayer‘
DESCRIPTION:Die Bayer AG bietet dieses virtuelle Event insbesondere für IT-begeisterten Schüler*innen an\, die kurz vor ihrem (Fach-)Abitur stehen. \nDas sind die Inhalte der Veranstaltung: \n\nSpannende Einblicke in die Anwendungsgebiete der Wirtschaftsinformatik\nAustausch mit dualen Studenten\nPraktische Beispiele aus der IT\nVorträge von Experten\nDie Möglichkeit auf einen dualen Studienplatz bei Bayer!\nFLYER zum EVENT\n\nWer Spaß an Innovation\, Sprachen\, IT und Vernetzung hat\, kann sich einfach per Mail bewerben bis zum 10.12.2022 unter ausbildungsmarketing@bayer.com \nDen Zugangslink für den virtuellen Workshop via MS Teams wird allen Teilnehmer*innen vorab per Mail zugesendet.\n \n 
URL:https://www.kommunale-koordinierung.com/event/digitales-event-itbayer/
LOCATION:Online
CATEGORIES:Berufliche Orientierung,Eltern & Teens,Schulen,Studienorientierung
END:VEVENT
BEGIN:VEVENT
DTSTART;TZID=Europe/Berlin:20221216T140000
DTEND;TZID=Europe/Berlin:20221216T150000
DTSTAMP:20260423T123719
CREATED:20221018T103947Z
LAST-MODIFIED:20230707T111824Z
UID:40887-1671199200-1671202800@www.kommunale-koordinierung.com
SUMMARY:Veranstaltungsreihe für Studieninteressierte „Möge die ZSB mit dir sein“
DESCRIPTION:Im Rahmen dieser Veranstaltungsreihe bietet die Hochschule Düsseldorf digitale Vorträge und Voträge in Präsenz\, Campus-Führung\, Fragerunden und Interviews mit unseren Studierenden an. Termine und weitere Informationen finden Sie unter dem Link. \n16. Dezember 2022\, 14 – 15 Uhr: Vortrag und offene Fragerunde „Studienwahl und Studienorientierung“\, vor Ort in Präsenz\, Raum wird zu einem späteren Zeitpunkt bzw. nach Anmeldung bekanntgegeben. Eine Anmeldung ist erforderlich\, bitte melden Sie sich ab dem 1. November hier an.
URL:https://www.kommunale-koordinierung.com/event/veranstaltungsreihe-fuer-studieninteressierte-moege-die-zsb-mit-dir-sein-4/
CATEGORIES:Berufliche Orientierung,Eltern & Teens,Lehrkräfte,Schulen,StuBos,Studienorientierung
END:VEVENT
BEGIN:VEVENT
DTSTART;VALUE=DATE:20221217
DTEND;VALUE=DATE:20221218
DTSTAMP:20260423T123719
CREATED:20221018T105623Z
LAST-MODIFIED:20221018T105623Z
UID:40901-1671235200-1671321599@www.kommunale-koordinierung.com
SUMMARY:Interessiert am Design-Studium an der HSD?
DESCRIPTION:Zwischen Oktober 2022 und Januar 2023 bietet die Fachschaft Design wieder sogenannte Mappenberatung an. Diese Beratung kann als Vorbereitung auf die Eignungsprüfung genutzt werden. Teilnahme ist nicht verpflichtend\, aber sinnvoll und empfehlenswert! Die Termine sind 29.10.\, 12.11.\, 26.11.\, 10.12.\, 17.12. und 21.01. Anmeldung wird demnächst unter fachschaftdesign.de/mappenberatung/ möglich sein.
URL:https://www.kommunale-koordinierung.com/event/interessiert-am-design-studium-an-der-hsd-4/
CATEGORIES:Berufliche Orientierung,Berufskolleg,Kommunale Koordinierungsstellen,Lehrkräfte,StuBo-Arbeitskreis,StuBos,Studienorientierung
END:VEVENT
END:VCALENDAR