BEGIN:VCALENDAR
VERSION:2.0
PRODID:-//Kommunale Koordinierung - ECPv6.15.20//NONSGML v1.0//EN
CALSCALE:GREGORIAN
METHOD:PUBLISH
X-WR-CALNAME:Kommunale Koordinierung
X-ORIGINAL-URL:https://www.kommunale-koordinierung.com
X-WR-CALDESC:Veranstaltungen für Kommunale Koordinierung
REFRESH-INTERVAL;VALUE=DURATION:PT1H
X-Robots-Tag:noindex
X-PUBLISHED-TTL:PT1H
BEGIN:VTIMEZONE
TZID:Europe/Berlin
BEGIN:DAYLIGHT
TZOFFSETFROM:+0100
TZOFFSETTO:+0200
TZNAME:CEST
DTSTART:20210328T010000
END:DAYLIGHT
BEGIN:STANDARD
TZOFFSETFROM:+0200
TZOFFSETTO:+0100
TZNAME:CET
DTSTART:20211031T010000
END:STANDARD
BEGIN:DAYLIGHT
TZOFFSETFROM:+0100
TZOFFSETTO:+0200
TZNAME:CEST
DTSTART:20220327T010000
END:DAYLIGHT
BEGIN:STANDARD
TZOFFSETFROM:+0200
TZOFFSETTO:+0100
TZNAME:CET
DTSTART:20221030T010000
END:STANDARD
BEGIN:DAYLIGHT
TZOFFSETFROM:+0100
TZOFFSETTO:+0200
TZNAME:CEST
DTSTART:20230326T010000
END:DAYLIGHT
BEGIN:STANDARD
TZOFFSETFROM:+0200
TZOFFSETTO:+0100
TZNAME:CET
DTSTART:20231029T010000
END:STANDARD
END:VTIMEZONE
BEGIN:VEVENT
DTSTART;TZID=Europe/Berlin:20221010T140000
DTEND;TZID=Europe/Berlin:20221010T160000
DTSTAMP:20260423T155210
CREATED:20220708T104106Z
LAST-MODIFIED:20221026T064700Z
UID:36268-1665410400-1665417600@www.kommunale-koordinierung.com
SUMMARY:Sprechstunde der HWK für Abiturient*innen 10.10.
DESCRIPTION:Die Handwerkskammer Düsseldorf bietet eine Sprechstunde speziell für Abiturient*innen an. Sie können sich zu allen Fragen der handwerklichen Ausbildung\, Ausbildungsverkürzung\, Auslandsaufenthalten und zum trialen Studium (Ausbildung + Meisterfortbildung + BWL-Bachelorstudium) beraten lassen. Die Sprechstunde findet telefonisch statt.
URL:https://www.kommunale-koordinierung.com/event/sprechstunde-der-hwk-fuer-abiturientinnen-10-10/
CATEGORIES:Berufliche Orientierung,Eltern & Teens
END:VEVENT
BEGIN:VEVENT
DTSTART;TZID=Europe/Berlin:20221012T170000
DTEND;TZID=Europe/Berlin:20221012T180000
DTSTAMP:20260423T155210
CREATED:20220819T112009Z
LAST-MODIFIED:20220819T112009Z
UID:37546-1665594000-1665597600@www.kommunale-koordinierung.com
SUMMARY:Online-Infoveranstaltung der Berufsberatung: Hilfe\, mein Kind weiß nicht\, was es werden soll – Infoveranstaltung für Eltern
DESCRIPTION:Die Berufsberatung der Agentur für Arbeit zeigt Tipps und Tricks wie Sie Ihr Kind unterstützen können. Wer kann bei der Berufswahl unterstützen? Wo finde ich Informationen zu Berufen? Welche Stärken meines Kindes passen zu welchem Beruf? \nDiese und weitere Fragen werden in der Online-Veranstaltung geklärt. Es besteht die Möglichkeit\, sich mit eigenen Fragen einzubringen. \nWeitere Informationen unter: https://www.arbeitsagentur.de/vor-ort/duesseldorf/berufsberatung
URL:https://www.kommunale-koordinierung.com/event/online-infoveranstaltung-der-berufsberatung-hilfe-mein-kind-weiss-nicht-was-es-werden-soll-infoveranstaltung-fuer-eltern/
LOCATION:Online
CATEGORIES:Berufliche Orientierung
END:VEVENT
BEGIN:VEVENT
DTSTART;VALUE=DATE:20221014
DTEND;VALUE=DATE:20221015
DTSTAMP:20260423T155210
CREATED:20220708T105005Z
LAST-MODIFIED:20240827T072353Z
UID:36277-1665705600-1665791999@www.kommunale-koordinierung.com
SUMMARY:Sprechstunde der HWK für Geflüchtete am 14.10.
DESCRIPTION:Sie möchten eine Ausbildung in Deutschland machen? Sie haben Fragen zu den Handwerksberufen? Sie benötigen Hilfe beim Schreiben der Bewerbung? \nDie Handwerkskammer Düsseldorf unterstützt Sie bei der Suche nach einem Ausbildungsplatz. Das Handwerk bietet gute Perspektiven für geflüchtete Menschen. \nAnmeldung zur Sprechstunde:\nhier oder bei Rex Mähr\, Telefon 0211 8795-604\, E-Mail: rex.maehr@hwk-duesseldorf.de
URL:https://www.kommunale-koordinierung.com/event/sprechstunde-der-hwk-fuer-gefluechtete-am-14-10/
CATEGORIES:Berufliche Orientierung,Geflüchtete
END:VEVENT
BEGIN:VEVENT
DTSTART;TZID=Europe/Berlin:20221014T093000
DTEND;TZID=Europe/Berlin:20221014T123000
DTSTAMP:20260423T155210
CREATED:20220819T091618Z
LAST-MODIFIED:20220819T091618Z
UID:37500-1665739800-1665750600@www.kommunale-koordinierung.com
SUMMARY:Offene Sprechstunde der Reha-Beratung am 14.10.
DESCRIPTION:Die Agentur für Arbeit Düsseldorf bietet für Jugendliche mit besonderem Förderbedarf\, zusätzlich zur bekannten allgemeinen Berufsberatung\, die Beratung durch speziell geschulte Reha-Berufsberater*innen an. \nDie offene Sprechstunde der Reha-Beratung findet jeden zweiten Mittwoch im Monat von 09:30-12:30 Uhr im Zentrum für Berufsorientierung und Übergänge statt. \nEltern\, Lehrkräfte und Schülerinnen und Schüler können ohne Anmeldung vorbeikommen und sich vom Reha-Beratungsteam der Agentur für Arbeit beraten lassen. Beim Besuch mit einer Schülergruppe ist eine Voranmeldung sinnvoll\, um im Vorfeld Themen abzusprechen. \nFür Rückfragen steht Ihnen Frau Scheid gern zur Verfügung! \nKontakt Reha-Beratung:\nAgentur für Arbeit Düsseldorf – Team Reha/SB\nDuesseldorf.261-Reha@arbeitsagentur.de
URL:https://www.kommunale-koordinierung.com/event/offene-sprechstunde-der-reha-beratung-am-14-10/
LOCATION:ZBÜ\, Willi-Becker-Allee 10\, Düsseldorf\, 40227\, Deutschland
CATEGORIES:Berufliche Orientierung,BO mit Förderbedarf
END:VEVENT
BEGIN:VEVENT
DTSTART;TZID=Europe/Berlin:20221019T100000
DTEND;TZID=Europe/Berlin:20221019T150000
DTSTAMP:20260423T155210
CREATED:20220708T110249Z
LAST-MODIFIED:20221026T064754Z
UID:36286-1666173600-1666191600@www.kommunale-koordinierung.com
SUMMARY:Sprechstunde der HWK zur Ausbildungsvermittlung 19.10.
DESCRIPTION:Die HWK unterstützt sowohl Betriebe bei der Suche nach geeigneten Azubis als auch Schüler*innen bei der Berufswahl und Ausbildungssuche. Das Beratungsangebot ist kostenlos. \nAnmeldung hier oder telefonisch/per Mail bei\nThomas Pohl\, 0211 8795-603\, thomas.pohl@hwk-duesseldorf.de
URL:https://www.kommunale-koordinierung.com/event/sprechstunde-der-hwk-zur-ausbildungsvermittlung-19-10/
CATEGORIES:Berufliche Orientierung,Eltern & Teens,Unternehmen
END:VEVENT
BEGIN:VEVENT
DTSTART;TZID=Europe/Berlin:20221020T170000
DTEND;TZID=Europe/Berlin:20221020T180000
DTSTAMP:20260423T155210
CREATED:20221018T102035Z
LAST-MODIFIED:20230710T072443Z
UID:40873-1666285200-1666288800@www.kommunale-koordinierung.com
SUMMARY:Veranstaltungsreihe für Studieninteressierte "Möge die ZSB mit dir sein"
DESCRIPTION:Im Rahmen dieser Veranstaltungsreihe bietet die Hochschule Düsseldorf digitale Vorträge und Voträge in Präsenz\, Campus-Führung\, Fragerunden und Interviews mit unseren Studierenden an. Termine und weitere Informationen finden Sie unter dem Link. \n20. Oktober 2022\, 17 – 18 Uhr: Vortrag „Studieren an der Hochschule Düsseldorf – Unser Studienangebot“\, digital über MS Teams. Eine Anmeldung ist nicht erforderlich. Zur Teilnahme klicken Sie bitte hier.
URL:https://www.kommunale-koordinierung.com/event/veranstaltungsreihe-fuer-studieninteressierte-moege-die-zsb-mit-dir-sein/
CATEGORIES:Berufliche Orientierung,Schulen,Studienorientierung
END:VEVENT
BEGIN:VEVENT
DTSTART;TZID=Europe/Berlin:20221021T100000
DTEND;TZID=Europe/Berlin:20221021T113000
DTSTAMP:20260423T155210
CREATED:20220907T090211Z
LAST-MODIFIED:20220907T090211Z
UID:37909-1666346400-1666351800@www.kommunale-koordinierung.com
SUMMARY:BIWENAV-Austauschtreffen 21.10. (intern für beteiligte KoKos)
DESCRIPTION:Bitte melden Sie sich hier zu dem nächsten internen Austauschtreffen zur 2. BIWENAV-Erweiterungsrunde an: \nVorname *Nachname *Kommunale Koordinierungsstelle *E-Mail Adresse *GDPR *Ja\, ich bin mit den Datenschutzbestimmungen einverstanden.Nachricht senden
URL:https://www.kommunale-koordinierung.com/event/biwenav-austauschtreffen-21-10-intern-fuer-beteiligte-kokos/
LOCATION:Online
CATEGORIES:Kommunale Koordinierungsstellen,Mit Anmeldung
END:VEVENT
BEGIN:VEVENT
DTSTART;TZID=Europe/Berlin:20221026T090000
DTEND;TZID=Europe/Berlin:20221026T150000
DTSTAMP:20260423T155212
CREATED:20220926T094832Z
LAST-MODIFIED:20220926T094832Z
UID:40390-1666774800-1666796400@www.kommunale-koordinierung.com
SUMMARY:Traumberuf Schülermesse MINT und Medien
DESCRIPTION:Finde deinen Studiengang oder Ausbildungsplatz bei der Traumberuf-Messe in Köln! \nWeitere Informationen unter:\nhttps://traumberuf-messe.de/koeln
URL:https://www.kommunale-koordinierung.com/event/traumberuf-schuelermesse-mint-und-medien/
LOCATION:Motorworld\, Butzweilerstr. 35-39\, Köln
CATEGORIES:Berufliche Orientierung,Eltern & Teens,Studienorientierung
END:VEVENT
BEGIN:VEVENT
DTSTART;TZID=Europe/Berlin:20221026T140000
DTEND;TZID=Europe/Berlin:20221026T160000
DTSTAMP:20260423T155212
CREATED:20220920T110218Z
LAST-MODIFIED:20220920T124626Z
UID:40156-1666792800-1666800000@www.kommunale-koordinierung.com
SUMMARY:StuBo-Arbeitskreissitzung der Gymnasien am 26.10.22 (Präsenz)
DESCRIPTION:Die nächste Sitzung des StuBo-Arbeitskreises der Gymnasien findet in Präsenz in der Stiftung Pro Ausbildung (Achenbachstr 28\, 40237 Düsseldorf) statt. \nThemenschwerpunkte: Blitzlichtrunde Schulen & Aktuelles aus KAoA\, Übergangsstatistik\, BO-Projekte & Termine (DIGI-DOP\, MINT-Projekttage\, Berufswahl-Siegel\, DTBO…) \nDie offizielle Einladung finden Sie hier: 2022-10-26 Einladung StuBo-AK Gym \nBitte melden Sie sich unten zu der Veranstaltung an. \nBei Fragen wenden Sie sich bitte an:\nRenate Kiszkiel\nTelefon: 0211 66908 34\nE-Mail: kiszkiel@unternehmerschaft.de \nDer Arbeitskreis ist eine gemeinsame Veranstaltung der Kommunalen Koordinierung Düsseldorf und des Kompetenzzentrums Berufliche Orientierung mit der Schulaufsicht der Landeshauptstadt Düsseldorf. \nVorname *Nachname *Schule/Institution *E-Mail Adresse *GDPR *Ja\, ich bin mit den Datenschutzbestimmungen einverstanden.Nachricht senden
URL:https://www.kommunale-koordinierung.com/event/stubo-arbeitskreissitzung-der-gymnasien-am-26-10-22-praesenz/
LOCATION:Stiftung PRO AUSBILDUNG\, Achenbachstr. 28\, Düsseldorf\, 40237
CATEGORIES:Berufliche Orientierung,Kommunale Koordinierungsstellen,Lehrkräfte,Mit Anmeldung,Schulen,StuBo-Arbeitskreis,StuBos
END:VEVENT
BEGIN:VEVENT
DTSTART;TZID=Europe/Berlin:20221027T183000
DTEND;TZID=Europe/Berlin:20221027T193000
DTSTAMP:20260423T155214
CREATED:20220929T080540Z
LAST-MODIFIED:20220929T080540Z
UID:40480-1666895400-1666899000@www.kommunale-koordinierung.com
SUMMARY:Virtuelle Betriebserkundung für Eltern und Jugendliche - die Agentur für Arbeit Düsseldorf und die AWO Düsseldorf stellen sich vor!
DESCRIPTION:Mit dieser digitalen\, abendlichen Veranstaltungsreihe\, in der Düsseldorfer Unternehmen und ihre Nachwuchskräfte die eigenen Ausbildungsmöglichkeiten anschaulich und kurzweilig vorstellen\, möchten wir Sie als Eltern oder interessierte Jugendliche mit hilfreichen Informationen zum Thema Berufsorientierung unterstützen. \nSie möchten sich bequem von zu Hause aus über die Ausbildungsmöglichkeiten Düsseldorfer Unternehmen informieren? \nDann sind Sie herzlich zu folgender kostenfreien Veranstaltung eingeladen! \nModeriert und begleitet wird die Veranstaltung von dem Team Kompetenzzentrum Berufliche Orientierung & der Kommunalen Koordinierung Düsseldorf. \nDen entsprechenden Link zur Veranstaltung erhalten Sie nach Ihrer Anmeldung. \nDie Veranstaltungen finden virtuell über Microsoft Teams statt. Sie benötigen lediglich einen Computer oder ein mobiles Endgerät. \nVorname *Nachname *Schule/Institution *E-Mail Adresse *Wie sind Sie auf diese Veranstaltung aufmerksam geworden: *über die eigene Schule/Institutionüber Medien (z.B. Presse oder WhatsApp Newsgroup)über Empfehlungen anderer PersonenSonstigesDGSVO *Ja\, ich stimme den Datenschutzbestimmungen zu. Nachricht senden
URL:https://www.kommunale-koordinierung.com/event/virtuelle-betriebserkundung-fuer-eltern-und-jugendliche-die-agentur-fuer-arbeit-duesseldorf-und-die-awo-duesseldorf-stellen-sich-vor/
LOCATION:Online
CATEGORIES:Berufliche Orientierung,Eltern & Teens,Mit Anmeldung
END:VEVENT
BEGIN:VEVENT
DTSTART;TZID=Europe/Berlin:20221028T140000
DTEND;TZID=Europe/Berlin:20221028T150000
DTSTAMP:20260423T155215
CREATED:20221018T102520Z
LAST-MODIFIED:20230707T111824Z
UID:40878-1666965600-1666969200@www.kommunale-koordinierung.com
SUMMARY:Veranstaltungsreihe für Studieninteressierte „Möge die ZSB mit dir sein“
DESCRIPTION:Im Rahmen dieser Veranstaltungsreihe bietet die Hochschule Düsseldorf digitale Vorträge und Voträge in Präsenz\, Campus-Führung\, Fragerunden und Interviews mit unseren Studierenden an. Termine und weitere Informationen finden Sie unter dem Link. \n28. Oktober 2022\, 14 – 15 Uhr: Vortrag und offene Fragerunde „Bewerben an der Hochschule Düsseldorf“\, vor Ort in Präsenz\, Raum wird zu einem späteren Zeitpunkt bzw. nach Anmeldung bekanntgegeben. Eine Anmeldung ist erforderlich\, bitte melden Sie sich hier an.
URL:https://www.kommunale-koordinierung.com/event/veranstaltungsreihe-fuer-studieninteressierte-moege-die-zsb-mit-dir-sein-2/
CATEGORIES:Berufliche Orientierung,Lehrkräfte,Schulen,Studienorientierung
END:VEVENT
BEGIN:VEVENT
DTSTART;VALUE=DATE:20221029
DTEND;VALUE=DATE:20221030
DTSTAMP:20260423T155215
CREATED:20221018T104454Z
LAST-MODIFIED:20221018T104623Z
UID:40890-1667001600-1667087999@www.kommunale-koordinierung.com
SUMMARY:Interessiert am Design-Studium an der HSD?
DESCRIPTION:Zwischen Oktober 2022 und Januar 2023 bietet die Fachschaft Design wieder sogenannte Mappenberatung an. Diese Beratung kann als Vorbereitung auf die Eignungsprüfung genutzt werden. Teilnahme ist nicht verpflichtend\, aber sinnvoll und empfehlenswert! Die Termine sind 29.10.\, 12.11.\, 26.11.\, 10.12.\, 17.12. und 21.01. Anmeldung wird demnächst unter fachschaftdesign.de/mappenberatung/ möglich sein.
URL:https://www.kommunale-koordinierung.com/event/interessiert-am-design-studium-an-der-hsd/
CATEGORIES:Berufliche Orientierung,Lehrkräfte,Schulen,StuBos,Studienorientierung
END:VEVENT
BEGIN:VEVENT
DTSTART;TZID=Europe/Berlin:20221029T100000
DTEND;TZID=Europe/Berlin:20221029T130000
DTSTAMP:20260423T155215
CREATED:20220708T110658Z
LAST-MODIFIED:20220708T110658Z
UID:36291-1667037600-1667048400@www.kommunale-koordinierung.com
SUMMARY:SAZUBI - Sprechstunde am Samstag zur Ausbildung im Handwerk 29.10.
DESCRIPTION:Du weißt nicht\, was du samstags nach dem Aufstehen machen kannst? Komm zur Beratung in die Handwerkskammer Düsseldorf! Wir beraten dich und deine Angehörigen zu allen Themen rund um die Ausbildung im Handwerk – von der Orientierung in den mehr als 130 Ausbildungsberufen bis zu Bewerbungstipps und Karrierechancen im Handwerk. Die Beratung kann in der Handwerkskammer Düsseldorf oder online per Zoom stattfinden. \n+++ Jeden letzten Samstag im Monat zwischen 10 und 13 Uhr +++ \nAnmeldung unter: \nHotline: 0211 8795-888\nWhatsApp: 01575 6426795\nE-Mail: passgenaue-besetzung@hwk-duesseldorf.de \n\n\n\n\nWann: 29.10.2022 um 10:00 Uhr bis 13:00 Uhr
URL:https://www.kommunale-koordinierung.com/event/sazubi-sprechstunde-am-samstag-zur-ausbildung-im-handwerk-29-10/
LOCATION:Handwerkskammer Düsseldorf\, Georg-Schulhoff-Platz 1\, Düsseldorf\, 40221\, Deutschland
CATEGORIES:Berufliche Orientierung,Eltern & Teens
END:VEVENT
END:VCALENDAR