BEGIN:VCALENDAR
VERSION:2.0
PRODID:-//Kommunale Koordinierung - ECPv6.15.20//NONSGML v1.0//EN
CALSCALE:GREGORIAN
METHOD:PUBLISH
X-ORIGINAL-URL:https://www.kommunale-koordinierung.com
X-WR-CALDESC:Veranstaltungen für Kommunale Koordinierung
REFRESH-INTERVAL;VALUE=DURATION:PT1H
X-Robots-Tag:noindex
X-PUBLISHED-TTL:PT1H
BEGIN:VTIMEZONE
TZID:Europe/Berlin
BEGIN:DAYLIGHT
TZOFFSETFROM:+0100
TZOFFSETTO:+0200
TZNAME:CEST
DTSTART:20210328T010000
END:DAYLIGHT
BEGIN:STANDARD
TZOFFSETFROM:+0200
TZOFFSETTO:+0100
TZNAME:CET
DTSTART:20211031T010000
END:STANDARD
BEGIN:DAYLIGHT
TZOFFSETFROM:+0100
TZOFFSETTO:+0200
TZNAME:CEST
DTSTART:20220327T010000
END:DAYLIGHT
BEGIN:STANDARD
TZOFFSETFROM:+0200
TZOFFSETTO:+0100
TZNAME:CET
DTSTART:20221030T010000
END:STANDARD
BEGIN:DAYLIGHT
TZOFFSETFROM:+0100
TZOFFSETTO:+0200
TZNAME:CEST
DTSTART:20230326T010000
END:DAYLIGHT
BEGIN:STANDARD
TZOFFSETFROM:+0200
TZOFFSETTO:+0100
TZNAME:CET
DTSTART:20231029T010000
END:STANDARD
END:VTIMEZONE
BEGIN:VEVENT
DTSTART;VALUE=DATE:20220530
DTEND;VALUE=DATE:20220604
DTSTAMP:20260423T215156
CREATED:20220512T110743Z
LAST-MODIFIED:20230522T075920Z
UID:31000-1653868800-1654300799@www.kommunale-koordinierung.com
SUMMARY:Nachhaltige Berufe für morgen - Arbeiten im Rheinland. Digitale Informationsveranstaltungen über nachhaltige Berufe & Studiengänge
DESCRIPTION:In der Woche vom 30. Mai – 03. Juni veranstalten die Agenturen für Arbeit des Rheinlands eine Aktionswoche zum Thema „Nachhaltige Berufe für morgen – Arbeiten im Rheinland.“\nIn verschiedensten Online-Informationsveranstaltungen werden Themen wie nachhaltige Studiengänge & Ausbildungsberufe\, E-Mobilität und Umweltschutz im Kontext der Berufsorientierung behandelt. \nFür alle\, denen bei ihrer beruflichen Orientierung das Thema Nachhaltigkeit am Herzen liegt!
URL:https://www.kommunale-koordinierung.com/event/nachhaltige-berufe-fuer-morgen-arbeiten-im-rheinland-digitale-informationsveranstaltungen-ueber-nachhaltige-berufe-studiengaenge/
LOCATION:Online
CATEGORIES:Berufliche Orientierung,Eltern & Teens
END:VEVENT
BEGIN:VEVENT
DTSTART;TZID=Europe/Berlin:20220602T140000
DTEND;TZID=Europe/Berlin:20220602T160000
DTSTAMP:20260423T215156
CREATED:20220510T130016Z
LAST-MODIFIED:20220510T130016Z
UID:30875-1654178400-1654185600@www.kommunale-koordinierung.com
SUMMARY:StuBo-Arbeitskreis der Gymnasien am 02.06.22 (Präsenz)
DESCRIPTION:Die nächste Sitzung des StuBo-Arbeitskreises der Gymnasien findet in Präsenz in der Stiftung Pro Ausbildung (Achenbachstr 28\, 40237 Düsseldorf) statt: \nBitte melden Sie sich unten zu der Veranstaltung an. \nBei Fragen wenden Sie sich bitte an:\nRenate Kiszkiel\nTelefon: 0211 66908 34\nE-Mail: kiszkiel@unternehmerschaft.de \nDer Arbeitskreis ist eine gemeinsame Veranstaltung der Kommunalen Koordinierung Düsseldorf und des Kompetenzzentrums Berufliche Orientierung mit der Schulaufsicht der Landeshauptstadt Düsseldorf. \nVorname *Nachname *Schule/Institution *E-Mail Adresse *GDPR *Ja\, ich bin mit den Datenschutzbestimmungen einverstanden.Nachricht senden
URL:https://www.kommunale-koordinierung.com/event/stubo-arbeitskreis-der-gymnasien-am-02-06-22-praesenz/
LOCATION:Achenbachstr. 28\, 40237 Düsseldorf\, Achenbachstr. 28\, Düsseldorf\, 40237\, Deutschland
CATEGORIES:Berufliche Orientierung,Lehrkräfte,Mit Anmeldung,StuBo-Arbeitskreis,StuBos
END:VEVENT
BEGIN:VEVENT
DTSTART;TZID=Europe/Berlin:20220606T140000
DTEND;TZID=Europe/Berlin:20220606T160000
DTSTAMP:20260423T215157
CREATED:20211004T090919Z
LAST-MODIFIED:20220609T064455Z
UID:25431-1654524000-1654531200@www.kommunale-koordinierung.com
SUMMARY:Sprechstunde der HWK für Abiturient*innen 06.06.
DESCRIPTION:Die Handwerkskammer Düsseldorf bietet eine Sprechstunde speziell für Abiturient*innen an. Sie können sich zu allen Fragen der handwerklichen Ausbildung\, Ausbildungsverkürzung\, Auslandsaufenthalten und zum trialen Studium (Ausbildung + Meisterfortbildung + BWL-Bachelorstudium) beraten lassen. Abhängig von den aktuellen Kontaktbeschränkungen findet die Sprechstunde telefonisch und/oder vor Ort in der Handwerkskammer Düsseldorf statt. \nAnmeldung unter: 0211 8795-605 oder ann-kathrin.heim@hwk-duesseldorf.de
URL:https://www.kommunale-koordinierung.com/event/sprechstunde-der-hwk-fuer-abiturientinnen-06-06/
CATEGORIES:Berufliche Orientierung,Eltern & Teens
END:VEVENT
BEGIN:VEVENT
DTSTART;VALUE=DATE:20220607
DTEND;VALUE=DATE:20220612
DTSTAMP:20260423T215157
CREATED:20211014T100017Z
LAST-MODIFIED:20220203T071737Z
UID:25794-1654560000-1654991999@www.kommunale-koordinierung.com
SUMMARY:didacta - die Bildungsmesse in Köln
DESCRIPTION:Einblick\, Überblick\, Ausblick – die didacta ist führende Fachmesse und Weiterbildungsveranstaltung für das gesamte Bildungswesen. Von der frühkindlichen Entwicklung\, über die berufliche Bildung bis hin zum lebenslangen Lernen: die Bildungsplattform vereint wie keine andere die gesamte Bandbreite moderner Bildungs- und Lernangebote. \nFreuen Sie sich auf den Austausch mit einem Fachpublikum aus Politik\, Wirtschaft\, Wissenschaft und Gesellschaft. \nWeitere Informationen gibt es unter:\nwww.didacta-koeln.de
URL:https://www.kommunale-koordinierung.com/event/didacta-die-bildungsmesse-in-koeln/
LOCATION:Kölnmesse\, Messeplatz 1\, Köln\, Deutschland
CATEGORIES:Berufliche Orientierung,Eltern & Teens,Lehrkräfte,Messe,Schulen,StuBos
END:VEVENT
BEGIN:VEVENT
DTSTART;TZID=Europe/Berlin:20220608T160000
DTEND;TZID=Europe/Berlin:20220608T190000
DTSTAMP:20260423T215157
CREATED:20220425T134117Z
LAST-MODIFIED:20220428T074234Z
UID:30290-1654704000-1654714800@www.kommunale-koordinierung.com
SUMMARY:Berufswahl-SIEGEL Verleihung 2022
DESCRIPTION:Das Berufswahl-SIEGEL wird in der Runde 2021 an 8 Schulen aus Düsseldorf und dem Südkreis Mettmann verliehen. Diese sind: \n\nAlfred-Herrhausen-Schule\nBerufskolleg Hilden des Kreises Mettmann\nBettine-von-Arnim-Gesamtschule Langenfeld\nCecilien Gymnasium\nFreie-Christliche-Gesamtschule\nJoseph-Beuys-Gesamtschule\nPrismaschule- Städtische Gesamtschule Langenfeld\nRealschule Hochdahl\n\nDie Auszeichnung als SIEGEL-Schule möchten wir in diesem Jahr wieder in Präsenz gemeinsam feiern! Bitte melden Sie sich bis zum 27.05.2022 an:  \nBei Fragen melden Sie sich gerne bei: Frau Yildiz\, E-Mail: yildiz@unternehmerschaft.de \n  \n 
URL:https://www.kommunale-koordinierung.com/event/berufswahl-siegel-verleihung-2022/
LOCATION:Savoy Theater Düsseldorf\, Graf-Adolf-Straße 47\, Düsseldorf\, 40210\, Deutschland
END:VEVENT
BEGIN:VEVENT
DTSTART;VALUE=DATE:20220611
DTEND;VALUE=DATE:20220613
DTSTAMP:20260423T215157
CREATED:20220310T115859Z
LAST-MODIFIED:20230406T064044Z
UID:28684-1654905600-1655078399@www.kommunale-koordinierung.com
SUMMARY:Jobmesse Düsseldorf
DESCRIPTION:2022 findet wieder die beliebte Jobmesse in der Mitsubishi Electric Arena statt. Mit vielen spannenden Vorträgen zur Beruflichen Orientierung und zahlreichen namhaften Aussteller*innen. \nWeitere Informationen gibt es unter:\nhttps://jobmessen.de
URL:https://www.kommunale-koordinierung.com/event/jobmesse-duesseldorf/
LOCATION:Mitsubishi Electric Halle\, Siegburger Str. 15\, Düsseldorf\, 40591\, Deutschland
CATEGORIES:Berufliche Orientierung,Eltern & Teens,Geflüchtete,Messe,StuBos,Studienorientierung
END:VEVENT
BEGIN:VEVENT
DTSTART;TZID=Europe/Berlin:20220611T100000
DTEND;TZID=Europe/Berlin:20220611T150000
DTSTAMP:20260423T215157
CREATED:20220204T091416Z
LAST-MODIFIED:20220204T091416Z
UID:28042-1654941600-1654959600@www.kommunale-koordinierung.com
SUMMARY:Hochschulinformationstag (HIT)
DESCRIPTION:Die Heinrich-Heine-Universität Düsseldorf und die Fachhochschule Düsseldorf informieren zusammen mit weiteren Partnern über die  Studienmöglichkeiten in Düsseldorf und über alles Wissenswerte rund ums Studium. Hierzu gehören u.a. \n\ndie Vorstellung der verschiedenen Studienfächer\nund der Berufsperspektiven nach dem Studium\,\nein Überblick über Forschung und Lehre in Düsseldorf\,\nWissenswertes zur Studienfinanzierung\, Auslandsstudium\, zum Wohnen und Leben am Studienort Düsseldorf\,\ndie Mitwirkungsmöglichkeiten für Studierende in Fachschaften\, im Studierendenparlament und im AStA\, dem Allgemeinen Studierendenausschuss\,\ndie vielfältigen Aktivitäten an Universität und Hochschule Düsseldorf\, die sich rund ums Studium bieten\, vom Hochschulsport über Musik bis hin zum Hochschulradio sowie\nInformationen über die Angebote\, die die Landeshauptstadt Düsseldorf für ihre Studierenden bereit stellt.\n\nEine Anmeldung ist nicht erforderlich. \nDer Hochschulinformationstag (HIT) 2022 findet am 11. Juni 2022 (10 bis 15 Uhr) statt \nAuf dem Campus der Heinrich-Heine-Universität Düsseldorf\nGebäude 22.01 | 23.01 und im Gebäude des Studierenden Service Center (SSC)\nUniversitätsstraße 1\n40225 Düsseldorf
URL:https://www.kommunale-koordinierung.com/event/hochschulinformationstag-hit/
CATEGORIES:Berufliche Orientierung,Eltern & Teens,Messe,Schulen,Studienorientierung
END:VEVENT
BEGIN:VEVENT
DTSTART;TZID=Europe/Berlin:20220613T163000
DTEND;TZID=Europe/Berlin:20220613T183000
DTSTAMP:20260423T215157
CREATED:20220607T123657Z
LAST-MODIFIED:20220607T123822Z
UID:34512-1655137800-1655145000@www.kommunale-koordinierung.com
SUMMARY:Elternveranstaltung zur Studien- und Berufsberatung
DESCRIPTION:Im Beratungscenter (B.I.Z.) der Agentur für Arbeit finden am 13.06. ab 16:30 Uhr verschiedene Infoveranstaltungen für Eltern statt\, unter anderem zur Rolle der Eltern bei der Berufsfindung ihrer Kinder\, zur Berufsausbildung als oftmals unterschätztem Weg zur Fachkraft\, zu Praktikum & FSJ\, zu Vergünstigungen & Studienfinanzierungsmöglichkeiten bzw. finanziellen Unterstützungsmöglichkeiten während der Ausbildung und zu Auslandsaufenthalten und vieles mehr. \nReinschauen lohnt sich! \nWeitere Informationen:\nFlyer Elternveranstaltung
URL:https://www.kommunale-koordinierung.com/event/elternveranstaltung-zur-studien-und-berufsberatung/
LOCATION:Agentur für Arbeit Düsseldorf\, Grafenberger Allee 300\, Düsseldorf\, 40237
CATEGORIES:Berufliche Orientierung,Eltern & Teens
END:VEVENT
BEGIN:VEVENT
DTSTART;TZID=Europe/Berlin:20220615T140000
DTEND;TZID=Europe/Berlin:20220615T160000
DTSTAMP:20260423T215157
CREATED:20220510T131542Z
LAST-MODIFIED:20220613T064336Z
UID:30885-1655301600-1655308800@www.kommunale-koordinierung.com
SUMMARY:StuBo-Arbeitskreis der Realschulen am 15.06.22 (Präsenz)
DESCRIPTION:Die nächste Sitzung des StuBo-Arbeitskreises der Realschulen findet in Präsenz in der Achenbachstraße 28\, 40237 Düsseldorf statt. \nEinladung StuBo-Arbeitskreis der Realschulen \nBitte melden Sie sich unten zu der Veranstaltung an. \nBei Fragen wenden Sie sich bitte an:\nEzgi Yildiz\nTelefon: 0211 66908 11\nE-Mail: yildiz@unternehmerschaft.de \nDer Arbeitskreis ist eine gemeinsame Veranstaltung der Kommunalen Koordinierung Düsseldorf und des Kompetenzzentrums Berufliche Orientierung mit der Schulaufsicht der Landeshauptstadt Düsseldorf. \nVorname *Nachname *Schule/Institution *E-Mail Adresse *GDPR *Ja\, ich bin mit den Datenschutzbestimmungen einverstanden.Nachricht senden
URL:https://www.kommunale-koordinierung.com/event/stubo-arbeitskreis-der-realschulen-am-15-06-22-praesenz/
LOCATION:Achenbachstr. 28\, 40237 Düsseldorf\, Achenbachstr. 28\, Düsseldorf\, 40237\, Deutschland
END:VEVENT
BEGIN:VEVENT
DTSTART;TZID=Europe/Berlin:20220623T160000
DTEND;TZID=Europe/Berlin:20220623T200000
DTSTAMP:20260423T215159
CREATED:20220414T123456Z
LAST-MODIFIED:20220414T135912Z
UID:30255-1656000000-1656014400@www.kommunale-koordinierung.com
SUMMARY:Der digitale "Lange Abend der Studienberatung" - Hochschule Niederrhein
DESCRIPTION:Der „Lange Abend der Studienberatung“ ist eine jährliche und landesweite Veranstaltung der Zentralen Studienberatungen in NRW. \nDie Hochschule Niederrhein wird wie immer kurz vor Ende der Bewerbungsphase\, Euch zu Themen rund ums Studium informieren! Auch dieses Jahr findet unser Programm online statt\, so dass Ihr bequem von zu Hause teilnehmen könnt. Ob alleine\, mit den Elterm oder als Gruppe ganz egal 🙂 \nIm Folgenden könnt Ihr vorab einen Eindruck erhalten\, was Euch so erwarten wird: \n\nInteraktive Vorträge der Fachbereiche und von Studierenden\nPräsentation der Zentralen Studienberatung mit allen Informationen und Zugangsbedingungen zu den Studiengängen der Hochschule Niederrhein\nMeetings und Chaträume mit den Fachbereichen\nInteraktiver Workshop „Neuland Studium“\nTipps zur Studienfinanzierung durch ArbeiterKind.de\nBeratung der Bundesagentur für Arbeit zum Thema Praktikum und Berufsperspektiven\n\nÄnderungen sind vorbehalten! \nDas Programm wird ab Anfang Mai hier zu finden sein.
URL:https://www.kommunale-koordinierung.com/event/der-digitale-lange-abend-der-studienberatung-hochschule-niederrhein/
CATEGORIES:Berufliche Orientierung,Eltern & Teens,Schulen,Studienorientierung
END:VEVENT
BEGIN:VEVENT
DTSTART;TZID=Europe/Berlin:20220624T100000
DTEND;TZID=Europe/Berlin:20220624T150000
DTSTAMP:20260423T215159
CREATED:20220110T123750Z
LAST-MODIFIED:20220711T045725Z
UID:27596-1656064800-1656082800@www.kommunale-koordinierung.com
SUMMARY:Sprechstunde der HWK für Geflüchtete am 24.06.
DESCRIPTION:Sie möchten eine Ausbildung in Deutschland machen? Sie haben Fragen zu den Handwerksberufen? Sie benötigen Hilfe beim Schreiben der Bewerbung? \nDie Handwerkskammer Düsseldorf unterstützt Sie bei der Suche nach einem Ausbildungsplatz. Das Handwerk bietet gute Perspektiven für geflüchtete Menschen. \nAnmeldung zur Sprechstunde:\nbei Rex Mähr\, Telefon 0211 8795-604\, E-Mail: rex.maehr@hwk-duesseldorf.de
URL:https://www.kommunale-koordinierung.com/event/sprechstunde-der-hwk-fuer-gefluechtete-am-24-06/
LOCATION:Handwerkskammer Düsseldorf\, Georg-Schulhoff-Platz 1\, Düsseldorf\, 40221\, Deutschland
CATEGORIES:Berufliche Orientierung,Geflüchtete
END:VEVENT
BEGIN:VEVENT
DTSTART;TZID=Europe/Berlin:20220625T100000
DTEND;TZID=Europe/Berlin:20220625T130000
DTSTAMP:20260423T215159
CREATED:20211001T113344Z
LAST-MODIFIED:20220627T074510Z
UID:25228-1656151200-1656162000@www.kommunale-koordinierung.com
SUMMARY:SAZUBI - Sprechstunde am Samstag zur Ausbildung im Handwerk
DESCRIPTION:Du weißt nicht\, was du samstags nach dem Aufstehen machen kannst? Komm zur Beratung in die Handwerkskammer Düsseldorf! Wir beraten dich und deine Angehörigen zu allen Themen rund um die Ausbildung im Handwerk – von der Orientierung in den mehr als 130 Ausbildungsberufen bis zu Bewerbungstipps und Karrierechancen im Handwerk. Die Beratung kann in der Handwerkskammer Düsseldorf oder online per Zoom stattfinden. \n+++ Jeden letzten Samstag im Monat zwischen 10 und 13 Uhr +++ \nAufgrund von Covid-19 kontaktiere uns bitte im Vorfeld zur Anmeldung.
URL:https://www.kommunale-koordinierung.com/event/sazubi-sprechstunde-am-samstag-zur-ausbildung-im-handwerk-10/
LOCATION:Handwerkskammer Düsseldorf\, Georg-Schulhoff-Platz 1\, Düsseldorf\, 40221\, Deutschland
CATEGORIES:Berufliche Orientierung,Eltern & Teens,Messe,Schulen
END:VEVENT
BEGIN:VEVENT
DTSTART;TZID=Europe/Berlin:20220625T140000
DTEND;TZID=Europe/Berlin:20220625T160000
DTSTAMP:20260423T215159
CREATED:20211004T092002Z
LAST-MODIFIED:20220711T045654Z
UID:25443-1656165600-1656172800@www.kommunale-koordinierung.com
SUMMARY:Infoveranstaltung Triales Studium am 25.06.
DESCRIPTION:Das triale Studium verbindet eine Ausbildung im Handwerk mit einer Meisterfortbildung und einem betriebswirtschaftlichen Bachelorstudium. Studierende werden zu Spezialist*innen im Handwerk mit umfangreichem betriebswirtschaftlichen Know-How. Sie sind mit dem Abschluss nach 5 Jahren optimal auf Führungsaufgaben oder eine Selbstständigkeit vorbereitet. In der Informationsveranstaltung der Hochschule Niederrhein erfahren Sie alles zum Ablauf\, den Inhalten und Voraussetzungen des Trialen Studiums. \nAnmeldung per Mail unter:\nrene.steinwartz@hs-niederrhein.de \nMehr Infos unter:\nwww.triales-studium.nrw
URL:https://www.kommunale-koordinierung.com/event/infoveranstaltung-triales-studium-am-25-06/
LOCATION:Online
CATEGORIES:Berufliche Orientierung,Eltern & Teens
END:VEVENT
END:VCALENDAR