BEGIN:VCALENDAR
VERSION:2.0
PRODID:-//Kommunale Koordinierung - ECPv6.15.20//NONSGML v1.0//EN
CALSCALE:GREGORIAN
METHOD:PUBLISH
X-WR-CALNAME:Kommunale Koordinierung
X-ORIGINAL-URL:https://www.kommunale-koordinierung.com
X-WR-CALDESC:Veranstaltungen für Kommunale Koordinierung
REFRESH-INTERVAL;VALUE=DURATION:PT1H
X-Robots-Tag:noindex
X-PUBLISHED-TTL:PT1H
BEGIN:VTIMEZONE
TZID:Europe/Berlin
BEGIN:DAYLIGHT
TZOFFSETFROM:+0100
TZOFFSETTO:+0200
TZNAME:CEST
DTSTART:20210328T010000
END:DAYLIGHT
BEGIN:STANDARD
TZOFFSETFROM:+0200
TZOFFSETTO:+0100
TZNAME:CET
DTSTART:20211031T010000
END:STANDARD
BEGIN:DAYLIGHT
TZOFFSETFROM:+0100
TZOFFSETTO:+0200
TZNAME:CEST
DTSTART:20220327T010000
END:DAYLIGHT
BEGIN:STANDARD
TZOFFSETFROM:+0200
TZOFFSETTO:+0100
TZNAME:CET
DTSTART:20221030T010000
END:STANDARD
BEGIN:DAYLIGHT
TZOFFSETFROM:+0100
TZOFFSETTO:+0200
TZNAME:CEST
DTSTART:20230326T010000
END:DAYLIGHT
BEGIN:STANDARD
TZOFFSETFROM:+0200
TZOFFSETTO:+0100
TZNAME:CET
DTSTART:20231029T010000
END:STANDARD
END:VTIMEZONE
BEGIN:VEVENT
DTSTART;TZID=Europe/Berlin:20220503T140000
DTEND;TZID=Europe/Berlin:20220503T160000
DTSTAMP:20260425T200123
CREATED:20220330T132704Z
LAST-MODIFIED:20220330T143314Z
UID:29957-1651586400-1651593600@www.kommunale-koordinierung.com
SUMMARY:Berufswahl-SIEGEL: Juroren Schulung. 03. Mai\, 14-16 Uhr
DESCRIPTION:Nach einer Pause von einem dreiviertel Jahr seit den letzten Audits möchten wir alle Jurymitglieder zur Schulung einladen! \nReferent der Veranstaltung ist Herr Prof. Dr. Bührmann\, Professor für Sozialwissenschaften und Forschungsmethodik\, Medical School Hamburg.\nModeriert und begleitet wird die Veranstaltung von dem Team der Stiftung Pro Ausbildung.  \nDie Veranstaltung richtet sich nur an Jury-Mitglieder. \nVorname *Nachname *Unternehmen/Institution *E-Mail Adresse *DGSVO *Ja\, ich stimme den Datenschutzbestimmungen zu. Nachricht senden
URL:https://www.kommunale-koordinierung.com/event/berufswahl-siegel-juroren-schulung-03-mai-14-16-uhr/
LOCATION:Rathaus\, Marktplatz 1\, Düsseldorf\, Deutschland
CATEGORIES:Berufliche Orientierung,Unternehmen
END:VEVENT
BEGIN:VEVENT
DTSTART;TZID=Europe/Berlin:20220509T093000
DTEND;TZID=Europe/Berlin:20220509T153000
DTSTAMP:20260425T200125
CREATED:20220301T071711Z
LAST-MODIFIED:20220518T070504Z
UID:28449-1652088600-1652110200@www.kommunale-koordinierung.com
SUMMARY:Schulcontest der Handwerkskammer Düsseldorf
DESCRIPTION:Beim jährlichen Schulcontest der Handwerkskammer Düsseldorf treten vier Schulklassen der 8. Jahrgangsstufe gegeneinander an. Jede Klasse wird durch 5 Schüler*innen und eine Lehrkraft vertreten. Der Gewinnerschule winken 300€ und die Teilnahme am landesweiten Schulcontest am 17. September im Bildungszentrum BGZ Simmerath. \nSo läuft es ab:\nAm 9. Mai kommt ihr zu fünft mit einer Lehrkraft in die Handwerkskammer Düsseldorf. Nach einer kurzen Einführung absolviert ihr 4 Stationen. In jeder Werkstatt bekommt ihr von einem/einer Dozent*in der Meisterschule die Räumlichkeiten und Maschinen gezeigt und absolviert eine handwerkliche Aufgabe. Eure Lehrkraft darf euch dabei helfen. Die Dozent*innen bewerten eure Leistung. Danach wechselt ihr zur nächsten Station. So lernt ihr die Berufe Maler*in\, Anlagenmechaniker*in SHK\, Metallbauer*in und Elektroniker*in kennen. Zwischendurch lädt die Handwerkskammer zu einer Pause in unserer Kantine ein. Am Ende des Tages werden die Ergebnisse ausgewertet und die Gewinnerschule wird prämiert. \nDie Anmeldung läuft über die Lehrkräfte und ist noch bis zum 04. April möglich!
URL:https://www.kommunale-koordinierung.com/event/schulcontest-der-handwerkskammer-duesseldorf/
LOCATION:Handwerkskammer Düsseldorf\, Georg-Schulhoff-Platz 1\, Düsseldorf\, 40221\, Deutschland
CATEGORIES:Berufliche Orientierung,Lehrkräfte,Schulen
END:VEVENT
BEGIN:VEVENT
DTSTART;TZID=Europe/Berlin:20220510T170000
DTEND;TZID=Europe/Berlin:20220510T183000
DTSTAMP:20260425T200125
CREATED:20220420T074259Z
LAST-MODIFIED:20240305T112959Z
UID:30270-1652202000-1652207400@www.kommunale-koordinierung.com
SUMMARY:Vodafone Webinar: Starte Deine Ausbildung / Dein Duales Studium im Bereich IT & Digital bei Vodafone 10.05.22\, 17-18:30 Uhr
DESCRIPTION:Du bist im Abschlussjahr in der Schule und suchst den passenden Berufseinstieg? Du begeisterst Dich für Technologie? Dann sei bei dem Online-Webinar dabei und erfahr mehr über die Ausbildung und das Duale Studium im Bereich IT & Digital bei Vodafone. \nSchreibe eine Mail mit dem Betreff „Webinar Vodafone“ an employer.branding@vodafone.com mit deinem Namen und wir werden Dir die Einwahldaten schicken. Das Webinar wird in Microsoft Teams stattfindet. \nDer Schutz Deiner persönlichen Daten ist uns wichtig! Deine Daten (E-Mail-Adresse und Name) werden nur für die Anmeldung des Events gespeichert und danach unwiderruflich gelöscht. \nWeitere Informationen auch im Flyer: Flyer Vodafone
URL:https://www.kommunale-koordinierung.com/event/vodafone-webinar-starte-deine-ausbildung-dein-duales-studium-im-bereich-it-digital-bei-vodafone-10-05-22-17-18-uhr/
LOCATION:Online
CATEGORIES:Berufliche Orientierung,Eltern & Teens,Schulen,Studienorientierung,Unternehmen
END:VEVENT
BEGIN:VEVENT
DTSTART;TZID=Europe/Berlin:20220512T163000
DTEND;TZID=Europe/Berlin:20220512T173000
DTSTAMP:20260425T200125
CREATED:20220325T110138Z
LAST-MODIFIED:20220601T072532Z
UID:29907-1652373000-1652376600@www.kommunale-koordinierung.com
SUMMARY:12. Mai 2022\, 16:30 – 17:30 Uhr | Webinar im Rahmen der SIEGEL-Akademie
DESCRIPTION:Schulen erhalten von externen Anbietern eine Fülle von Angeboten zur Berufsorientierung. \nMit der neuen Checkliste www.bo-einschätzung.de zur Einschätzung von Berufsorientierungsangeboten stellen SCHULEWIRTSCHAFT und Bundesagentur für Arbeit Schulen dafür eine Bewertungs- und Entscheidungshilfe bereit. Anhand der Liste können sie prüfen und beurteilen\, was gut zum Schulprofil passt. Für Unternehmen gibt es eine eigene Checkliste\, damit sie ihre Angebote so ausrichten und darstellen\, dass die Schulen das Angebot passgenau einschätzen können
URL:https://www.kommunale-koordinierung.com/event/12-mai-2022-1630-1730-uhr-webinar-im-rahmen-der-siegel-akademie/
LOCATION:Online
CATEGORIES:Berufliche Orientierung,Lehrkräfte,Mit Anmeldung,Schulen,StuBos
END:VEVENT
BEGIN:VEVENT
DTSTART;TZID=Europe/Berlin:20220514T100000
DTEND;TZID=Europe/Berlin:20220514T160000
DTSTAMP:20260425T200125
CREATED:20220427T114404Z
LAST-MODIFIED:20220427T114404Z
UID:30336-1652522400-1652544000@www.kommunale-koordinierung.com
SUMMARY:Karrieretag bei der Feuerwehr Düsseldorf
DESCRIPTION:Im Rahmen des 150. Jubiläum der Berufsfeuerwehr Düsseldorf bietet der Karrieretag unter dem Motto: „Vom Traum zum Job“ im Arena-Sportpark Schüler*innen die Möglichkeit\, sich über das Berufsbild des/der Brandmeisters*in bzw. des/der Brandoberinspektor*in zu informieren. \nAn diesem Tag sind Mitarbeitende der Ausbildungsentwicklung\, der Feuerwehrschule sowie Auszubildende der laufenden Grundausbildung vor Ort\, um Fragen rund um die Feuerwehr Düsseldorf zu beantworten. \n„Bin ich wirklich fit genug für die Feuerwehr?“ Diese Frage können sich die Jugendlichen selbst beantworten\, indem sie vor Ort einen altersgestaffelten Fitnessparcours durchlaufen und ihre Höhentauglichkeit an einer ausgefahrenen Drehleiter in 30m Höhe unter Beweis stellen. \nBei erfolgreicher Teilnahme an allen Disziplinen des Fitnessparcours erhalten die Schüler*innen ein Zertifikat\, welches für eine direkte Bewerbung bei der Feuerwehr Düsseldorf genutzt werden kann! \nKlingt gut? Dann bitte unbedingt vorab anmelden unter: www.duesseldorf.de/feuerwehr
URL:https://www.kommunale-koordinierung.com/event/karrieretag-bei-der-feuerwehr-duesseldorf/
LOCATION:Arena-Sportpark\, Am Staad 11\, Düsseldorf\, 40474\, Deutschland
CATEGORIES:Berufliche Orientierung,Eltern & Teens,Studienorientierung
END:VEVENT
BEGIN:VEVENT
DTSTART;TZID=Europe/Berlin:20220517T183000
DTEND;TZID=Europe/Berlin:20220517T191500
DTSTAMP:20260425T200125
CREATED:20220408T105455Z
LAST-MODIFIED:20220512T070429Z
UID:30136-1652812200-1652814900@www.kommunale-koordinierung.com
SUMMARY:Virtuelle Betriebserkundung für Eltern und Jugendliche - Vodafone stellt sich vor!
DESCRIPTION:Mit dieser digitalen\, abendlichen Veranstaltungsreihe\, in der Düsseldorfer Unternehmen und ihre Nachwuchskräfte die eigenen Ausbildungsmöglichkeiten anschaulich und kurzweilig vorstellen\, möchten wir Sie als Eltern oder interessierte Jugendliche mit hilfreichen Informationen zum Thema Berufsorientierung unterstützen. \nSie möchten sich bequem von zu Hause aus über die Ausbildungsmöglichkeiten Düsseldorfer Unternehmen informieren? \nDann sind Sie herzlich zu folgender kostenfreien Veranstaltung eingeladen! \nModeriert und begleitet wird die Veranstaltung von dem Team Kompetenzzentrum Berufliche Orientierung & der Kommunalen Koordinierung Düsseldorf. \nDen entsprechenden Link zur Veranstaltung erhalten Sie nach Ihrer Anmeldung. \nDie Veranstaltungen finden virtuell über Microsoft Teams statt. Sie benötigen lediglich einen Computer oder ein mobiles Endgerät. \nVorname *Nachname *Schule/Institution *E-Mail Adresse *Wie sind Sie auf diese Veranstaltung aufmerksam geworden: *über die eigene Schule/Institutionüber Medien (z.B. Presse oder WhatsApp Newsgroup)über Empfehlungen anderer PersonenSonstigesDGSVO *Ja\, ich stimme den Datenschutzbestimmungen zu. Nachricht senden
URL:https://www.kommunale-koordinierung.com/event/virtuelle-betriebserkundung-fuer-eltern-und-jugendliche-die-vodafone-stellt-sich-vor/
CATEGORIES:Berufliche Orientierung,Eltern & Teens,Mit Anmeldung,Schulen,Unternehmen
END:VEVENT
BEGIN:VEVENT
DTSTART;TZID=Europe/Berlin:20220519T140000
DTEND;TZID=Europe/Berlin:20220519T161500
DTSTAMP:20260425T200127
CREATED:20220428T092523Z
LAST-MODIFIED:20220428T103312Z
UID:30344-1652968800-1652976900@www.kommunale-koordinierung.com
SUMMARY:StuBo-Arbeitskreis der Berufskollegs am 19.05. (Präsenz)
DESCRIPTION:Die nächste Sitzung des StuBo-Arbeitskreises der Berufskollegs findet in Präsenz im Rathaus (Sitzungssaal „Rheinturm“\, Eingang über den Burgplatz 2) statt. \nAlle Düsseldorfer Berufskollegs sind herzlich zu dem StuBo-Arbeitskreis eingeladen. \nBitte melden Sie sich unten zu der Veranstaltung an. \nNeben einer Vorstellung der Studienangebote der Hochschule Düsseldorf und der Heinrich-Heine-Universität steht das Thema „Sek-II-Workshops“ im Mittelpunkt des Arbeitskreises. Gemeinsam möchten wir uns über die organisatorische und inhaltliche Durchführung der Workshops austauschen. Bitte bringen Sie dazu relevante Unterlagen\, zum Beispiel Ihre didaktische Jahresplanung oder besonders bewährte Methoden aus den Workshops\, mit zu der Veranstaltung. \nBei Fragen wenden Sie sich bitte an:\nChristiane Stedeler-Gabriel\nTelefon: 0211 8996513\nE-Mail: christiane.stedelergabriel@duesseldorf.de \nDer Arbeitskreis ist eine gemeinsame Veranstaltung der Kommunalen Koordinierung Düsseldorf und des Kompetenzzentrums Berufliche Orientierung mit der Schulaufsicht der Landeshauptstadt Düsseldorf. \nVorname *Nachname *Schule/Institution *E-Mail Adresse *GDPR *Ja\, ich bin mit den Datenschutzbestimmungen einverstanden.Nachricht senden
URL:https://www.kommunale-koordinierung.com/event/stubo-arbeitskreis-der-berufskollegs-am-19-05-praesenz/
LOCATION:Sitzungssaal Rheinturm\, Rathaus\, Burgplatz 2\, Düsseldorf\, 40213
CATEGORIES:Mit Anmeldung,StuBo-Arbeitskreis,StuBos
END:VEVENT
BEGIN:VEVENT
DTSTART;TZID=Europe/Berlin:20220524T083000
DTEND;TZID=Europe/Berlin:20220524T150000
DTSTAMP:20260425T200129
CREATED:20211004T102101Z
LAST-MODIFIED:20220523T063040Z
UID:25452-1653381000-1653404400@www.kommunale-koordinierung.com
SUMMARY:Vocatium Düsseldorf
DESCRIPTION:Informiere dich über Ausbildung\, Studium\, Praktikum und vieles mehr bei der Vocatium 2022! \nDas vocatium-Profil im Überblick: \n\nPräsenzmesse mit angemeldeten Schüler*innen / terminierte Messegespräche\nVorträge von Ausstellern\n\nWeitere Informationen unter:\nhttps://www.vocatium.de
URL:https://www.kommunale-koordinierung.com/event/vocatium-duesseldorf-3/
LOCATION:Mitsubishi Electric Halle\, Siegburger Str. 15\, Düsseldorf\, 40591\, Deutschland
CATEGORIES:Berufliche Orientierung,Eltern & Teens,Lehrkräfte,Messe,Schulen
END:VEVENT
BEGIN:VEVENT
DTSTART;TZID=Europe/Berlin:20220525T083000
DTEND;TZID=Europe/Berlin:20220525T150000
DTSTAMP:20260425T200129
CREATED:20211004T102207Z
LAST-MODIFIED:20220704T141654Z
UID:25457-1653467400-1653490800@www.kommunale-koordinierung.com
SUMMARY:Vocatium Düsseldorf
DESCRIPTION:Informiere dich über Ausbildung\, Studium\, Praktikum und vieles mehr bei der Vocatium 2022! \nDas vocatium-Profil im Überblick: \n\nPräsenzmesse mit angemeldeten Schüler*innen / terminierte Messegespräche\nVorträge von Ausstellern\n\nWeitere Informationen unter:\nhttps://www.vocatium.de
URL:https://www.kommunale-koordinierung.com/event/vocatium-duesseldorf-4/
LOCATION:Mitsubishi Electric Halle\, Siegburger Str. 15\, Düsseldorf\, 40591\, Deutschland
CATEGORIES:Berufliche Orientierung,Eltern & Teens,Lehrkräfte,Messe,Schulen
END:VEVENT
BEGIN:VEVENT
DTSTART;TZID=Europe/Berlin:20220527T100000
DTEND;TZID=Europe/Berlin:20220527T150000
DTSTAMP:20260425T200129
CREATED:20220110T123622Z
LAST-MODIFIED:20220601T072436Z
UID:27594-1653645600-1653663600@www.kommunale-koordinierung.com
SUMMARY:Sprechstunde der HWK für Geflüchtete am 27.05.
DESCRIPTION:Sie möchten eine Ausbildung in Deutschland machen? Sie haben Fragen zu den Handwerksberufen? Sie benötigen Hilfe beim Schreiben der Bewerbung? \nDie Handwerkskammer Düsseldorf unterstützt Sie bei der Suche nach einem Ausbildungsplatz. Das Handwerk bietet gute Perspektiven für geflüchtete Menschen. \nAnmeldung zur Sprechstunde:\nRex Mähr\, Telefon 0211 8795-604\, E-Mail: rex.maehr@hwk-duesseldorf.de
URL:https://www.kommunale-koordinierung.com/event/sprechstunde-der-hwk-fuer-gefluechtete-am-27-05/
LOCATION:Handwerkskammer Düsseldorf\, Georg-Schulhoff-Platz 1\, Düsseldorf\, 40221\, Deutschland
CATEGORIES:Berufliche Orientierung,Geflüchtete
END:VEVENT
BEGIN:VEVENT
DTSTART;TZID=Europe/Berlin:20220528T100000
DTEND;TZID=Europe/Berlin:20220528T130000
DTSTAMP:20260425T200129
CREATED:20211001T113322Z
LAST-MODIFIED:20220602T073026Z
UID:25229-1653732000-1653742800@www.kommunale-koordinierung.com
SUMMARY:SAZUBI - Sprechstunde am Samstag zur Ausbildung im Handwerk
DESCRIPTION:Du weißt nicht\, was du samstags nach dem Aufstehen machen kannst? Komm zur Beratung in die Handwerkskammer Düsseldorf! Wir beraten dich und deine Angehörigen zu allen Themen rund um die Ausbildung im Handwerk – von der Orientierung in den mehr als 130 Ausbildungsberufen bis zu Bewerbungstipps und Karrierechancen im Handwerk. Die Beratung kann in der Handwerkskammer Düsseldorf oder online per Zoom stattfinden. \n+++ Jeden letzten Samstag im Monat zwischen 10 und 13 Uhr +++ \nAufgrund von Covid-19 kontaktiere uns bitte im Vorfeld zur Anmeldung.
URL:https://www.kommunale-koordinierung.com/event/sazubi-sprechstunde-am-samstag-zur-ausbildung-im-handwerk-9/
LOCATION:Handwerkskammer Düsseldorf\, Georg-Schulhoff-Platz 1\, Düsseldorf\, 40221\, Deutschland
CATEGORIES:Berufliche Orientierung,Eltern & Teens,Messe,Schulen
END:VEVENT
BEGIN:VEVENT
DTSTART;TZID=Europe/Berlin:20220528T140000
DTEND;TZID=Europe/Berlin:20220528T160000
DTSTAMP:20260425T200129
CREATED:20211004T091851Z
LAST-MODIFIED:20220603T064616Z
UID:25441-1653746400-1653753600@www.kommunale-koordinierung.com
SUMMARY:Infoveranstaltung Triales Studium am 28.05.
DESCRIPTION:Das triale Studium verbindet eine Ausbildung im Handwerk mit einer Meisterfortbildung und einem betriebswirtschaftlichen Bachelorstudium. Studierende werden zu Spezialist*innen im Handwerk mit umfangreichem betriebswirtschaftlichen Know-How. Sie sind mit dem Abschluss nach 5 Jahren optimal auf Führungsaufgaben oder eine Selbstständigkeit vorbereitet. In der Informationsveranstaltung der Hochschule Niederrhein erfahren Sie alles zum Ablauf\, den Inhalten und Voraussetzungen des Trialen Studiums. \nAnmeldung per Mail unter:\nrene.steinwartz@hs-niederrhein.de
URL:https://www.kommunale-koordinierung.com/event/infoveranstaltung-triales-studium-am-28-05/
LOCATION:Online
CATEGORIES:Berufliche Orientierung,Eltern & Teens
END:VEVENT
BEGIN:VEVENT
DTSTART;VALUE=DATE:20220530
DTEND;VALUE=DATE:20220604
DTSTAMP:20260425T200129
CREATED:20220512T110743Z
LAST-MODIFIED:20230522T075920Z
UID:31000-1653868800-1654300799@www.kommunale-koordinierung.com
SUMMARY:Nachhaltige Berufe für morgen - Arbeiten im Rheinland. Digitale Informationsveranstaltungen über nachhaltige Berufe & Studiengänge
DESCRIPTION:In der Woche vom 30. Mai – 03. Juni veranstalten die Agenturen für Arbeit des Rheinlands eine Aktionswoche zum Thema „Nachhaltige Berufe für morgen – Arbeiten im Rheinland.“\nIn verschiedensten Online-Informationsveranstaltungen werden Themen wie nachhaltige Studiengänge & Ausbildungsberufe\, E-Mobilität und Umweltschutz im Kontext der Berufsorientierung behandelt. \nFür alle\, denen bei ihrer beruflichen Orientierung das Thema Nachhaltigkeit am Herzen liegt!
URL:https://www.kommunale-koordinierung.com/event/nachhaltige-berufe-fuer-morgen-arbeiten-im-rheinland-digitale-informationsveranstaltungen-ueber-nachhaltige-berufe-studiengaenge/
LOCATION:Online
CATEGORIES:Berufliche Orientierung,Eltern & Teens
END:VEVENT
END:VCALENDAR