BEGIN:VCALENDAR
VERSION:2.0
PRODID:-//Kommunale Koordinierung - ECPv6.15.20//NONSGML v1.0//EN
CALSCALE:GREGORIAN
METHOD:PUBLISH
X-WR-CALNAME:Kommunale Koordinierung
X-ORIGINAL-URL:https://www.kommunale-koordinierung.com
X-WR-CALDESC:Veranstaltungen für Kommunale Koordinierung
REFRESH-INTERVAL;VALUE=DURATION:PT1H
X-Robots-Tag:noindex
X-PUBLISHED-TTL:PT1H
BEGIN:VTIMEZONE
TZID:Europe/Berlin
BEGIN:DAYLIGHT
TZOFFSETFROM:+0100
TZOFFSETTO:+0200
TZNAME:CEST
DTSTART:20210328T010000
END:DAYLIGHT
BEGIN:STANDARD
TZOFFSETFROM:+0200
TZOFFSETTO:+0100
TZNAME:CET
DTSTART:20211031T010000
END:STANDARD
BEGIN:DAYLIGHT
TZOFFSETFROM:+0100
TZOFFSETTO:+0200
TZNAME:CEST
DTSTART:20220327T010000
END:DAYLIGHT
BEGIN:STANDARD
TZOFFSETFROM:+0200
TZOFFSETTO:+0100
TZNAME:CET
DTSTART:20221030T010000
END:STANDARD
BEGIN:DAYLIGHT
TZOFFSETFROM:+0100
TZOFFSETTO:+0200
TZNAME:CEST
DTSTART:20230326T010000
END:DAYLIGHT
BEGIN:STANDARD
TZOFFSETFROM:+0200
TZOFFSETTO:+0100
TZNAME:CET
DTSTART:20231029T010000
END:STANDARD
END:VTIMEZONE
BEGIN:VEVENT
DTSTART;TZID=Europe/Berlin:20220302T140000
DTEND;TZID=Europe/Berlin:20220302T153000
DTSTAMP:20260425T233152
CREATED:20220202T140042Z
LAST-MODIFIED:20220209T082231Z
UID:27987-1646229600-1646235000@www.kommunale-koordinierung.com
SUMMARY:Informationsveranstaltung zur 2. BIWENAV-Erweiterungsrunde
DESCRIPTION:Ab April 2022 ist eine zweite Erweiterungsrunde zum Bildungswegenavigator BIWENAV (www.biwenav.de) geplant. Die Info-Veranstaltung richtet sich an Kommunale Koordinierungsstellen in NRW\, die sich für den BIWENAV interessieren und überlegen\, ob der BIWENAV auch für ihre Stadt/ihren Kreis interessant sein könnte. \nIn der Veranstaltung erfahren Sie alles über die Inhalte und Funktionen im BIWENAV\, Arbeitsaufwand und Kosten\, Erfahrungen der Kommunen aus der ersten Erweiterungsrunde und vieles mehr. Zudem ist genügend Zeit\, eigene Fragen zu stellen. \nDie Veranstaltung wird moderiert vom BIWENAV-Team Düsseldorf\, zusammen mit dem Programmierer des BIWENAVs und KoKos aus der ersten Erweiterungsrunde. Sie findet online über Microsoft Teams statt. Die Zugangsdaten erhalten Sie mit der Anmeldung zu der Veranstaltung. \nBitte melden Sie sich hier zu der Veranstaltung an: \nVorname *Nachname *Institution *E-Mail Adresse *Fragen\, Wünsche an die Veranstaltung (optional)DSGVO *Ja\, ich bin mit den Datenschutzbestimmungen einverstanden.Nachricht senden
URL:https://www.kommunale-koordinierung.com/event/informationsveranstaltung-zur-2-biwenav-erweiterungsrunde/
LOCATION:Online
CATEGORIES:Kommunale Koordinierungsstellen,Mit Anmeldung
END:VEVENT
BEGIN:VEVENT
DTSTART;TZID=Europe/Berlin:20220303T133000
DTEND;TZID=Europe/Berlin:20220303T143000
DTSTAMP:20260425T233153
CREATED:20220228T120306Z
LAST-MODIFIED:20250321T115411Z
UID:28441-1646314200-1646317800@www.kommunale-koordinierung.com
SUMMARY:Girls'Day/Boys'Day - Vorbereitung für Lehrkräfte
DESCRIPTION:Im Rahmen des einstündigen Info-Termins stellt die Bundeskoordinierungsstelle des Girls’Days/Boys’Days die beiden Aktionstage vor und geht auf die organisatorischen Rahmenbedingungen ein. \nEin Großteil der Veranstaltung widmet sich zudem der Einführung in das neue Unterrichtsmaterial\, damit dieses ohne großen Zeitaufwand im Unterricht eingesetzt werden kann.
URL:https://www.kommunale-koordinierung.com/event/girlsday-boysday-vorbereitung-fuer-lehrkraefte/
LOCATION:Online
CATEGORIES:Berufliche Orientierung,Lehrkräfte
END:VEVENT
BEGIN:VEVENT
DTSTART;TZID=Europe/Berlin:20220304T100000
DTEND;TZID=Europe/Berlin:20220304T150000
DTSTAMP:20260425T233153
CREATED:20220110T123131Z
LAST-MODIFIED:20220314T084109Z
UID:27588-1646388000-1646406000@www.kommunale-koordinierung.com
SUMMARY:Sprechstunde der HWK für Geflüchtete am 04.03.
DESCRIPTION:Sie möchten eine Ausbildung in Deutschland machen? Sie haben Fragen zu den Handwerksberufen? Sie benötigen Hilfe beim Schreiben der Bewerbung? \nDie Handwerkskammer Düsseldorf unterstützt Sie bei der Suche nach einem Ausbildungsplatz. Das Handwerk bietet gute Perspektiven für geflüchtete Menschen. \nAnmeldung zur Sprechstunde:\nbei Rex Mähr\, Telefon 0211 8795-604\, E-Mail: rex.maehr@hwk-duesseldorf.de
URL:https://www.kommunale-koordinierung.com/event/sprechstunde-der-hwk-fuer-gefluechtete-am-04-03/
LOCATION:Handwerkskammer Düsseldorf\, Georg-Schulhoff-Platz 1\, Düsseldorf\, 40221\, Deutschland
CATEGORIES:Berufliche Orientierung,Geflüchtete
END:VEVENT
BEGIN:VEVENT
DTSTART;TZID=Europe/Berlin:20220307T190000
DTEND;TZID=Europe/Berlin:20220307T203000
DTSTAMP:20260425T233153
CREATED:20220214T090303Z
LAST-MODIFIED:20220214T090435Z
UID:28166-1646679600-1646685000@www.kommunale-koordinierung.com
SUMMARY:Elternveranstaltung: Die duale Berufsausbildung als Chance für eine berufliche Karriere
DESCRIPTION:Im Rahmen der Beruflichen Orientierung lädt Frau Ministerin Yvonne Gebauer die Eltern der Schülerinnen und Schüler der Abgangsklassen\, aber natürlich auch interessierte Schülerinnen und Schüler und weitere interessierte Eltern zu einer digitalen Informationsveranstaltung zu den Karrierechancen im dualen System ein. \nGemeinsam mit hochrangigen Vertreterinnen und Vertretern von Kammerorganisationen\, Unternehmer nrw\, dem Deutschen Gewerkschaftsbund und der Regionaldirektion NRW der Bundesagentur für Arbeit wird in dieser Veranstaltung über das System der dualen Ausbildung\, den damit verbundenen vielfältigen Möglichkeiten und vieles mehr informiert. \nExpertinnen und Experten beantworten Fragen\, welche die Zuschauer in einem Chat stellen können. \nFlyer und Zugangsdaten
URL:https://www.kommunale-koordinierung.com/event/elternveranstaltung-die-duale-berufsausbildung-als-chance-fuer-eine-berufliche-karriere/
LOCATION:Online
CATEGORIES:Berufliche Orientierung,Eltern & Teens
END:VEVENT
BEGIN:VEVENT
DTSTART;TZID=Europe/Berlin:20220314T140000
DTEND;TZID=Europe/Berlin:20220314T160000
DTSTAMP:20260425T233153
CREATED:20211004T090519Z
LAST-MODIFIED:20220316T113859Z
UID:25425-1647266400-1647273600@www.kommunale-koordinierung.com
SUMMARY:Sprechstunde der HWK für Abiturient*innen 14.03.
DESCRIPTION:Die Handwerkskammer Düsseldorf bietet eine Sprechstunde speziell für Abiturient*innen an. Sie können sich zu allen Fragen der handwerklichen Ausbildung\, Ausbildungsverkürzung\, Auslandsaufenthalten und zum trialen Studium (Ausbildung + Meisterfortbildung + BWL-Bachelorstudium) beraten lassen. Abhängig von den aktuellen Kontaktbeschränkungen findet die Sprechstunde telefonisch und/oder vor Ort in der Handwerkskammer Düsseldorf statt. \nAnmeldung unter: 0211 8795-605 oder ann-kathrin.heim@hwk-duesseldorf.de
URL:https://www.kommunale-koordinierung.com/event/sprechstunde-der-hwk-fuer-abiturientinnen-14-03/
CATEGORIES:Berufliche Orientierung,Eltern & Teens
END:VEVENT
BEGIN:VEVENT
DTSTART;TZID=Europe/Berlin:20220314T160000
DTEND;TZID=Europe/Berlin:20220314T173000
DTSTAMP:20260425T233153
CREATED:20220304T080224Z
LAST-MODIFIED:20241114T131246Z
UID:28538-1647273600-1647279000@www.kommunale-koordinierung.com
SUMMARY:Deine Zukunft im Hotel - vielseitig und erfolgreich - Woche der Ausbildung!
DESCRIPTION:Bei der Agentur für Arbeit Düsseldorf dreht sich in der Woche vom 14.-18. März alles rund um Ausbildung. \nDu willst eine abwechslungsreiche Ausbildung\, Events und Internationalität? Dann ist eine Ausbildung in der Hotellerie genau das Richtige für dich!\nAls Gast begrüßen wir Personalvertreter*innen vom Hotel Van der Valk. Gemeinsam mit der Berufsberatung und dem Arbeitgeber-Service der Agentur für Arbeit und des Jobcenters geben wir dir einen Einblick in die Möglichkeiten und Berufschancen in der Hotellerie. \n\nDie Online-Veranstaltung findet am 14.03.2022 um 16 Uhr statt. Gerne könnt ihr euch mit eigenen Fragen via Chat einbringen. \nEine Anmeldung ist nicht erforderlich! \nAnsprechpartner:\nHerr Eichelberg\nDuesseldorf.Berufsberatung@arbeitsagentur.de \nWeitere Informationen gibt es unter:\nwww.arbeitsagentur.de/vor-ort/duesseldorf/woche-der-ausbildung
URL:https://www.kommunale-koordinierung.com/event/deine-zukunft-im-hotel-vielseitig-und-erfolgreich-woche-der-ausbildung/
LOCATION:Online
CATEGORIES:Berufliche Orientierung,Eltern & Teens
END:VEVENT
BEGIN:VEVENT
DTSTART;TZID=Europe/Berlin:20220315T140000
DTEND;TZID=Europe/Berlin:20220315T150000
DTSTAMP:20260425T233153
CREATED:20220304T083544Z
LAST-MODIFIED:20241114T131246Z
UID:28544-1647352800-1647356400@www.kommunale-koordinierung.com
SUMMARY:Praxisnah studieren: Duales Studium bei der Bundesagentur für Arbeit - jetzt informieren!
DESCRIPTION:Werde auch du Teil des größten Netzwerkes am Arbeitsmarkt\, der Bundesagentur für Arbeit und bringe Menschen weiter! \nVereine Theorie und Praxis und sichere dir eine attraktive monatliche Vergütung\, Jahressonderzahlungen\, ein Auslandspraktikum und vieles mehr. \nGewinne tiefere Einblicke in unsere dualen Studiengänge und finde mit uns gemeinsam heraus\, ob unsere Studiengänge die passenden für deine Zukunft sind! Als Ehrengäste begrüßen wir drei aktuell Studierende\, die dir aus erster Hand aus der Praxis berichten können. \nDie Online-Veranstaltung findet am 15.03.2022 von 14:00 Uhr bis 15:00 Uhr statt. \nHinweise zur Anmeldung:\nDie Teilnahme an der Veranstaltung ist kostenlos\, eine Anmeldung ist unter: Duesseldorf.Personalentwicklung@Arbeitsagentur.de erforderlich. Die Einwahldaten erhältst du im Anschluss per E-Mail von uns. Ansprechpartnerin: Frau Hannah Merkel\, Tel.: 0211-692 1244 \nWeitere Informationen gibt es unter:\nwww.arbeitsagentur.de/vor-ort/duesseldorf/woche-der-ausbildung
URL:https://www.kommunale-koordinierung.com/event/praxisnah-studieren-duales-studium-bei-der-bundesagentur-fuer-arbeit-jetzt-informieren/
LOCATION:Online
CATEGORIES:Berufliche Orientierung,Eltern & Teens
END:VEVENT
BEGIN:VEVENT
DTSTART;TZID=Europe/Berlin:20220316T140000
DTEND;TZID=Europe/Berlin:20220316T160000
DTSTAMP:20260425T233153
CREATED:20220301T072537Z
LAST-MODIFIED:20220301T073146Z
UID:28399-1647439200-1647446400@www.kommunale-koordinierung.com
SUMMARY:Infoveranstaltung (DIGI-)DOP - digital
DESCRIPTION:Das Kompetenzzentrum\, die Hochschule Düsseldorf und die Heinrich-Heine-Universität lädt Schüler*innen der Abgangsklassen zur Informationsveranstaltung des (DIGI-)DOP\, das (digitale) Duale Orientierungspraktikum\, ein: \nInfoveranstaltung (DIGI-)DOP\, am 16.03.22 um 14:00-16:00 Uhr \nDieser Termin ist für bestimmte Schulen ausgerichtet\, die das (Digi-) DOP im Juni (20.06.2022-23.06.2022) durchlaufen. Sie erfahren dort in Kurzvorträgen den Ablauf und die Voraussetzungen für die Teilnahme am Programm. Ebenso wird ein Überblick über die Fakultäten und Studiengänge gegeben sowie die (DIGI-)DOP-Lernplattform vorgestellt. \nDen Teilnahmelink zur Veranstaltung erhalten Sie nach erfolgreicher Anmeldung per Mail. \nAlle Schüler*innen und Lehrkärfte melden sich bitte über untenstehendes Formular für die Infoveranstaltung an! \nVorname *Nachname *Schule *Ich bin *LehrkraftSchüler*inE-Mail Adresse *Fragen\, Wünsche an die Veranstaltung (optional)DSGVO *Ja\, ich bin mit den Datenschutzbestimmungen einverstanden.Nachricht senden
URL:https://www.kommunale-koordinierung.com/event/inforveranstaltung-digi-dop-am-16-03-22-um-1400-uhr-digital/
END:VEVENT
BEGIN:VEVENT
DTSTART;TZID=Europe/Berlin:20220316T140000
DTEND;TZID=Europe/Berlin:20220316T160000
DTSTAMP:20260425T233155
CREATED:20220304T084522Z
LAST-MODIFIED:20220413T062048Z
UID:28547-1647439200-1647446400@www.kommunale-koordinierung.com
SUMMARY:She can do IT! - Woche der Ausbildung
DESCRIPTION:Du bist gern kreativ und digital unterwegs? Du hast dich schon immer gefragt\, wie der Algorithmus hinter Insta funktioniert oder wie eine Webseite programmiert wird? \nDie Tech-Branche ist eine der Branchen der Zukunft und befindet sich auf Wachstumskurs. Doch es gibt noch nicht genug Newcomer in der Branche! Bei unserem Infoevent für Schülerinnen in der Woche der Ausbildung erhältst du Infos zu Job-\, Ausbildungs- und Einstiegsmöglichkeiten. Wir zeigen dir\, dass IT viel mehr als nur Zahlen in den Computer tippen ist und wie du deinen Einstieg in die Digitalwirtschaft meistern kannst.
URL:https://www.kommunale-koordinierung.com/event/she-can-do-it-woche-der-ausbildung/
LOCATION:Online
CATEGORIES:Berufliche Orientierung,Eltern & Teens
END:VEVENT
BEGIN:VEVENT
DTSTART;TZID=Europe/Berlin:20220317T100000
DTEND;TZID=Europe/Berlin:20220317T113000
DTSTAMP:20260425T233155
CREATED:20220304T090000Z
LAST-MODIFIED:20220304T090000Z
UID:28553-1647511200-1647516600@www.kommunale-koordinierung.com
SUMMARY:Teilzeit-Berufsausbildung - Wir sind für Sie da!
DESCRIPTION:Was ist eine Teilzeitberufsausbildung?\nWelche Vorteile hat eine Ausbildung in Teilzeit für Sie? \nWir beantworten Ihnen diese Fragen und unterstützen Sie bei der Suche nach einem geeigneten Ausbildungsplatz. \nHier geht es direkt zur Veranstaltung:\nhttps://bit.ly/3uVTy38 \nFragen beantwortet Gabriele Schmitz unter gabriele.schmitz@awo-duesseldorf.de \nDies ist eine gemeinsame Veranstaltung der Agenturen für Arbeit Mettmann und Düsseldorf\, der Jobcenter Mettmann und Düsseldorf sowie der Bildungsträger WIPA für Mettmann und AWO für Düsseldorf.
URL:https://www.kommunale-koordinierung.com/event/teilzeit-berufsausbildung-wir-sind-fuer-sie-da/
LOCATION:Online
CATEGORIES:Berufliche Orientierung,Eltern & Teens
END:VEVENT
BEGIN:VEVENT
DTSTART;TZID=Europe/Berlin:20220317T160000
DTEND;TZID=Europe/Berlin:20220317T173000
DTSTAMP:20260425T233155
CREATED:20220304T084917Z
LAST-MODIFIED:20220304T084917Z
UID:28550-1647532800-1647538200@www.kommunale-koordinierung.com
SUMMARY:Ausbildung heute - Herausforderungen erfolgreich meistern - Info-Veranstaltung
DESCRIPTION:Einblicke ins Paralleluniversum: Wir beleuchten die Erfahrungen\, Erwartungen und Anforderungen aus Sicht von Ausbilder*innen und Jugendlichen: Wie „ticken“ Jugendliche und Arbeitgeber*innen? Welche Anforderungen haben Ausbildungsbetriebe und Jugendliche an eine gemeinsame Zukunft und wie finden diese zusammen? Welche Hürden gilt es gemeinsam zu bewältigen? Was wünschen sich beide Seiten?\nErfahrungsberichte lassen uns die Welt der anderen Seite verstehen. \nIn einem gemeinsamen Talk-Format mit Ausbildungsexpert*innen der Berufsberatung sowie des Arbeitgeberservice der Agentur für Arbeit und des Jobcenters\, wollen wir über das Recruitment\, Bewerbungen\, Hürden vor aber auch während der Ausbildung sprechen. \nGerne können Sie mit eigenen Fragen und Beiträgen über die Chatfunktion am Gespräch teilnehmen. \nDie Online-Veranstaltung findet am 17.03.2022 um 16.00 Uhr statt. \nDer Zugang zur Veranstaltung erfolgt über folgenden Link:\nhttps://teams.microsoft.com/l/meetup-join/19%3ameeting_NjA1ZGVlMjItNTQwYy00NjczLThhOTQtNWZjM2RhZjMxYWYz%40thread.v2/0?context=%7b%22Tid%22%3a%223ea1ea08-1868-49b0-a5f3-5a1926a9c390%22%2c%22Oid%22%3a%22e924efed-17df-4fac-94a0-bc0ab2c7d77b%22%7d \nAnsprechpartnerin:\nFrau Klockner\nDuesseldorf.Berufsberatung@arbeitsagentur.de
URL:https://www.kommunale-koordinierung.com/event/ausbildung-heute-herausforderungen-erfolgreich-meistern-info-veranstaltung/
LOCATION:Online
CATEGORIES:Berufliche Orientierung,Eltern & Teens
END:VEVENT
BEGIN:VEVENT
DTSTART;TZID=Europe/Berlin:20220317T183000
DTEND;TZID=Europe/Berlin:20220317T203000
DTSTAMP:20260425T233155
CREATED:20211004T091408Z
LAST-MODIFIED:20220321T072135Z
UID:25436-1647541800-1647549000@www.kommunale-koordinierung.com
SUMMARY:Infoveranstaltung Triales Studium am 17.03.
DESCRIPTION:Das triale Studium verbindet eine Ausbildung im Handwerk mit einer Meisterfortbildung und einem betriebswirtschaftlichen Bachelorstudium. Studierende werden zu Spezialist*innen im Handwerk mit umfangreichem betriebswirtschaftlichen Know-How. Sie sind mit dem Abschluss nach 5 Jahren optimal auf Führungsaufgaben oder eine Selbstständigkeit vorbereitet. In der Informationsveranstaltung der Hochschule Niederrhein erfahren Sie alles zum Ablauf\, den Inhalten und Voraussetzungen des Trialen Studiums. \nAnmeldung per Mail unter:\nrene.steinwartz@hs-niederrhein.de
URL:https://www.kommunale-koordinierung.com/event/infoveranstaltung-triales-studium-am-17-03/
LOCATION:Online
CATEGORIES:Berufliche Orientierung,Eltern & Teens
END:VEVENT
BEGIN:VEVENT
DTSTART;TZID=Europe/Berlin:20220321T130000
DTEND;TZID=Europe/Berlin:20220321T150000
DTSTAMP:20260425T233155
CREATED:20220228T115308Z
LAST-MODIFIED:20220228T115308Z
UID:28436-1647867600-1647874800@www.kommunale-koordinierung.com
SUMMARY:Aktionstag BerufsAbitur Köln
DESCRIPTION:BerufsAbitur? Was ist das? In der Veranstaltung erfährst du alles Wissenswerte rund um das BerufsAbitur und lernst attraktive Ausbildungsbetriebe im Handwerk kennen. \nAlle Infos und Vorteile vom BerufsAbitur sind auch hier im Flyer zu finden:\nFlyer BerufsAbitur
URL:https://www.kommunale-koordinierung.com/event/aktionstag-berufsabitur-koeln/
LOCATION:Handwerkskammer zu Köln\, Heumarkt 12\, Köln\, 50667
CATEGORIES:Berufliche Orientierung,Eltern & Teens
END:VEVENT
BEGIN:VEVENT
DTSTART;TZID=Europe/Berlin:20220322T183000
DTEND;TZID=Europe/Berlin:20220322T191500
DTSTAMP:20260425T233155
CREATED:20220218T103914Z
LAST-MODIFIED:20220222T125053Z
UID:28294-1647973800-1647976500@www.kommunale-koordinierung.com
SUMMARY:Virtuelle Betriebserkundung für Eltern und Jugendliche - die Provinzial stellt sich vor!
DESCRIPTION:Mit dieser digitalen\, abendlichen Veranstaltungsreihe\, in der Düsseldorfer Unternehmen und ihre Nachwuchskräfte die eigenen Ausbildungsmöglichkeiten anschaulich und kurzweilig vorstellen\, möchten wir Sie als Eltern oder interessierte Jugendliche mit hilfreichen Informationen zum Thema Berufsorientierung unterstützen. \nSie möchten sich bequem von zu Hause aus über die Ausbildungsmöglichkeiten Düsseldorfer Unternehmen informieren? \nDann sind Sie herzlich zu folgender kostenfreien Veranstaltung eingeladen! \nModeriert und begleitet wird die Veranstaltung von dem Team Kompetenzzentrum Berufliche Orientierung & der Kommunalen Koordinierung Düsseldorf. \nDen entsprechenden Link zur Veranstaltung erhalten Sie nach Ihrer Anmeldung. \nDie Veranstaltungen finden virtuell über Microsoft Teams statt. Sie benötigen lediglich einen Computer oder ein mobiles Endgerät. \nVorname *Nachname *Schule/Institution *E-Mail Adresse *DGSVO *Ja\, ich stimme den Datenschutzbestimmungen zu. Nachricht senden
URL:https://www.kommunale-koordinierung.com/event/virtuelle-betriebserkundung-fuer-eltern-und-jugendliche/
LOCATION:Online
CATEGORIES:Berufliche Orientierung,Eltern & Teens,Mit Anmeldung
END:VEVENT
BEGIN:VEVENT
DTSTART;TZID=Europe/Berlin:20220323T133000
DTEND;TZID=Europe/Berlin:20220323T143000
DTSTAMP:20260425T233157
CREATED:20220228T120433Z
LAST-MODIFIED:20250321T115419Z
UID:28443-1648042200-1648045800@www.kommunale-koordinierung.com
SUMMARY:Girls'Day/Boys'Day - Vorbereitung für Lehrkräfte
DESCRIPTION:Im Rahmen des einstündigen Info-Termins stellt die Bundeskoordinierungsstelle des Girls’Days/Boys’Days die beiden Aktionstage vor und geht auf die organisatorischen Rahmenbedingungen ein. \nEin Großteil der Veranstaltung widmet sich zudem der Einführung in das neue Unterrichtsmaterial\, damit dieses ohne großen Zeitaufwand im Unterricht eingesetzt werden kann.
URL:https://www.kommunale-koordinierung.com/event/girlsday-boysday-vorbereitung-fuer-lehrkraefte-2/
LOCATION:Online
CATEGORIES:Berufliche Orientierung,Lehrkräfte
END:VEVENT
BEGIN:VEVENT
DTSTART;TZID=Europe/Berlin:20220324T083000
DTEND;TZID=Europe/Berlin:20220325T130000
DTSTAMP:20260425T233157
CREATED:20220318T073438Z
LAST-MODIFIED:20241121T115432Z
UID:29714-1648110600-1648213200@www.kommunale-koordinierung.com
SUMMARY:Virtuellen Kennenlerntage von Digital Insights für Schülerinnen und Schüler von mittleren und gymnasialen Bildungsgängen
DESCRIPTION:Digital Insights bieten Informationen von Auszubildenden und Studierenden\, virtuelle Rundgänge und vielseitigen Austausch an. Es geht um Einblicke in die digitale Arbeitswelt von morgen\, die heute schon startet. Dabei werden Jugendliche spannende Berufe (Ausbildung + Studium) kennen\, die mit neuen digitalen Möglichkeiten für mehr Nachhaltigkeit sorgen. Mit dabei sind: SIEMENS\, SAP und Microsoft Deutschland\, \nMitmachen können Schüler*innen ab der 9. Klasse in mittleren und gymnasialen Bildungsgängen. Es können sich gerne mehrere Schüler*innen aus einer Klasse oder Stufe und auch Lehrkräfte einer Schule anmelden. \nWas die Jugendlichen hier erwartet\, erfahren Sie in diesem neuen Film: Film ab! \nDatum:  24.03.2022\, 08:30 Uhr – 25.03.2022\, 13:00 Uhr\n Anmeldeschluss:  21.03.2022\, 08:00 Uhr
URL:https://www.kommunale-koordinierung.com/event/virtuellen-kennenlerntage-von-digital-insights-fuer-schuelerinnen-und-schueler-von-mittleren-und-gymnasialen-bildungsgaengen/
LOCATION:Online
CATEGORIES:Berufliche Orientierung,Eltern & Teens,Lehrkräfte,Schulen
END:VEVENT
BEGIN:VEVENT
DTSTART;TZID=Europe/Berlin:20220326T100000
DTEND;TZID=Europe/Berlin:20220326T130000
DTSTAMP:20260425T233157
CREATED:20211001T113242Z
LAST-MODIFIED:20220331T073356Z
UID:25231-1648288800-1648299600@www.kommunale-koordinierung.com
SUMMARY:SAZUBI - Sprechstunde am Samstag zur Ausbildung im Handwerk
DESCRIPTION:Du weißt nicht\, was du samstags nach dem Aufstehen machen kannst? Komm zur Beratung in die Handwerkskammer Düsseldorf! Wir beraten dich und deine Angehörigen zu allen Themen rund um die Ausbildung im Handwerk – von der Orientierung in den mehr als 130 Ausbildungsberufen bis zu Bewerbungstipps und Karrierechancen im Handwerk. Die Beratung kann in der Handwerkskammer Düsseldorf oder online per Zoom stattfinden. \n+++ Jeden letzten Samstag im Monat zwischen 10 und 13 Uhr +++
URL:https://www.kommunale-koordinierung.com/event/sazubi-sprechstunde-am-samstag-zur-ausbildung-im-handwerk-7/
LOCATION:Handwerkskammer Düsseldorf\, Georg-Schulhoff-Platz 1\, Düsseldorf\, 40221\, Deutschland
CATEGORIES:Berufliche Orientierung,Eltern & Teens,Messe,Schulen
END:VEVENT
BEGIN:VEVENT
DTSTART;TZID=Europe/Berlin:20220330T150000
DTEND;TZID=Europe/Berlin:20220330T160000
DTSTAMP:20260425T233157
CREATED:20220325T105807Z
LAST-MODIFIED:20220328T065516Z
UID:29895-1648652400-1648656000@www.kommunale-koordinierung.com
SUMMARY:30. März 2022\, 15 - 16 Uhr: SCHULEWIRTSCHAFT-Talk
DESCRIPTION:Schulen erhalten von externen Anbietern eine Fülle von Angeboten zur Berufsorientierung. \nMit der neuen Checkliste www.bo-einschätzung.de zur Einschätzung von Berufsorientierungsangeboten stellen SCHULEWIRTSCHAFT und Bundesagentur für Arbeit Schulen dafür eine Bewertungs- und Entscheidungshilfe bereit. Anhand der Liste können sie prüfen und beurteilen\, was gut zum Schulprofil passt. Für Unternehmen gibt es eine eigene Checkliste\, damit sie ihre Angebote so ausrichten und darstellen\, dass die Schulen das Angebot passgenau einschätzen können. \nKeine Anmeldung  erforderlich. Den Zugangslink finden Sie hier
URL:https://www.kommunale-koordinierung.com/event/30-maerz-2022-15-16-uhr-schulewirtschaft-talk/
LOCATION:Online
CATEGORIES:Berufliche Orientierung,Lehrkräfte,Schulen,StuBos
END:VEVENT
BEGIN:VEVENT
DTSTART;VALUE=DATE:20220331
DTEND;VALUE=DATE:20220401
DTSTAMP:20260425T233157
CREATED:20220304T090602Z
LAST-MODIFIED:20250818T105102Z
UID:28555-1648684800-1648771199@www.kommunale-koordinierung.com
SUMMARY:Ein Tag Azubi – Frühjahrsspecial
DESCRIPTION:Der Tag wird von ehrenamtlich tätigen Wirtschaftsjunior*innen durchgeführt und dient der Unterstützung junger Menschen bei der Berufsorientierung\, gerade wo durch die Pandemie viele Berufsorientierungsangebote – wie Schülerpraktika\, Berufsmessen uvm. – weggefallen sind. \nUnterstützt werden die Wirtschaftsjunior*innen von ihrem Kooperationspartner www.pilotschulen.de\, der den Aktionstag bereits mehrfach in Thüringen erfolgreich umgesetzt hat. Die Plattform bietet Schulen einen datenschutzkonformen Zugang für eine Onlineteilnahme. \nAm 31.03.2022 wird es insgesamt 3 Vorstellungsrunden von Ausbildungsberufen in digitalisierter Form geben:\nVormittags (im Klassenverbund): 10:00 – 10:45 Uhr und 11:00 – 11:45 Uhr\nNachmittags (zu Hause): 18:00 – 18:45 Uhr \nJeweils um 13:00 Uhr und 19:00 Uhr wird zusätzlich ein Mini-Berufscoaching angeboten. \nWeitere Informationen gibt es unter:\nwww.pilotschulen.de/ein-tag-azubi-fr%C3%BChling
URL:https://www.kommunale-koordinierung.com/event/ein-tag-azubi-fruehjahrsspecial/
LOCATION:Online
CATEGORIES:Berufliche Orientierung,Lehrkräfte,Schulen
END:VEVENT
END:VCALENDAR