BEGIN:VCALENDAR
VERSION:2.0
PRODID:-//Kommunale Koordinierung - ECPv6.15.20//NONSGML v1.0//EN
CALSCALE:GREGORIAN
METHOD:PUBLISH
X-ORIGINAL-URL:https://www.kommunale-koordinierung.com
X-WR-CALDESC:Veranstaltungen für Kommunale Koordinierung
REFRESH-INTERVAL;VALUE=DURATION:PT1H
X-Robots-Tag:noindex
X-PUBLISHED-TTL:PT1H
BEGIN:VTIMEZONE
TZID:Europe/Berlin
BEGIN:DAYLIGHT
TZOFFSETFROM:+0100
TZOFFSETTO:+0200
TZNAME:CEST
DTSTART:20210328T010000
END:DAYLIGHT
BEGIN:STANDARD
TZOFFSETFROM:+0200
TZOFFSETTO:+0100
TZNAME:CET
DTSTART:20211031T010000
END:STANDARD
BEGIN:DAYLIGHT
TZOFFSETFROM:+0100
TZOFFSETTO:+0200
TZNAME:CEST
DTSTART:20220327T010000
END:DAYLIGHT
BEGIN:STANDARD
TZOFFSETFROM:+0200
TZOFFSETTO:+0100
TZNAME:CET
DTSTART:20221030T010000
END:STANDARD
BEGIN:DAYLIGHT
TZOFFSETFROM:+0100
TZOFFSETTO:+0200
TZNAME:CEST
DTSTART:20230326T010000
END:DAYLIGHT
BEGIN:STANDARD
TZOFFSETFROM:+0200
TZOFFSETTO:+0100
TZNAME:CET
DTSTART:20231029T010000
END:STANDARD
END:VTIMEZONE
BEGIN:VEVENT
DTSTART;VALUE=DATE:20220117
DTEND;VALUE=DATE:20220205
DTSTAMP:20260426T011004
CREATED:20211215T111319Z
LAST-MODIFIED:20230208T075211Z
UID:26408-1642377600-1644019199@www.kommunale-koordinierung.com
SUMMARY:Wochen der Studienorientierung an der Hochschule Niederrhein
DESCRIPTION:Drei Wochen lang\, vom 17.01. bis zum 04.02.2022\, habt ihr die Gelegenheit\, die Hochschule Niederrhein und ihr Studienangebot genauer kennenzulernen. \nDie Hochschule Niederrhein bietet auch diesmal ein vielfältiges Programm an. Euch erwarten Einblicke in die Fachbereiche\, Workshops\, Vorträge und Schnuppervorlesungen! \nAlle Angebote werden voraussichtlich als Online-Format stattfinden (Änderungen sind vorbehalten). \n 
URL:https://www.kommunale-koordinierung.com/event/wochen-der-studienorientierung-an-der-hochschule-niederrhein/
LOCATION:Online
CATEGORIES:Berufliche Orientierung,Eltern & Teens,Studienorientierung
END:VEVENT
BEGIN:VEVENT
DTSTART;TZID=Europe/Berlin:20220117T080000
DTEND;TZID=Europe/Berlin:20220204T170000
DTSTAMP:20260426T011004
CREATED:20211012T101219Z
LAST-MODIFIED:20230710T072441Z
UID:25731-1642406400-1643994000@www.kommunale-koordinierung.com
SUMMARY:Wochen der Studienorientierung an der HSD
DESCRIPTION:Die Wochen der Studienorientierung finden einmal jährlich zum Jahresbeginn statt.​ Eine gute Gelegenheit um Campus-Luft zu schnuppern. \nDas Programm der HSD besteht in der Regel aus folgenden Veranstaltungen: \n– Veranstaltungsreihe „5 Tage an der HSD – Die Hochschule stellt sich vor“\n– Online-Studienwahlworkshop\n– „Virtuelle Campus-Woche“ bzw. Tag der offenen Tür \nDarüber hinaus können Interessierte regelmäßig Veranstaltungen aus dem Vorlesungsverzeichnis für Studieninteressierte besuchen.
URL:https://www.kommunale-koordinierung.com/event/wochen-der-studienorientierung-an-der-hsd/
END:VEVENT
BEGIN:VEVENT
DTSTART;VALUE=DATE:20220203
DTEND;VALUE=DATE:20220208
DTSTAMP:20260426T011004
CREATED:20210621T081525Z
LAST-MODIFIED:20220304T114640Z
UID:21267-1643846400-1644278399@www.kommunale-koordinierung.com
SUMMARY:ABI Zukunft NRW digital
DESCRIPTION:Egal ob Ausbildung\, Studium\, duales Studium oder ein freiwilliges soziales Jahr – in Ruhe und ohne Messetrubel kannst du dich an den virtuellen Messeständen informieren. Aussteller\, wie u.a. Unis/Hochschulen\, Wirtschaftsunternehmen und gemeinnützige Einrichtungen\, präsentieren dir ihr Angebot. Am Freitag und Samstag kannst du den Ausstellern via Live- und Videochat deine Fragen stellen. \nAngebote der digitalen Messe: \n\nInformiere dich in Vorträgen\nGib deine Interessen in die Suchfunktion ein und erhalte passgenaue Ergebnisse\nEinfache Kommunikation mit Deinen Wunschausstellern\nDirekt Bewerbungsunterlagen einreichen\n\nFolgende Standorte sind auf der ABI Zukunft NRW digital vertreten: \n\nBochum\nDüsseldorf\nEssen\nWuppertal
URL:https://www.kommunale-koordinierung.com/event/abi-zukunft-nrw-digital-2/
LOCATION:Online
CATEGORIES:Eltern & Teens,Messe,Schulen
END:VEVENT
BEGIN:VEVENT
DTSTART;TZID=Europe/Berlin:20220203T140000
DTEND;TZID=Europe/Berlin:20220203T160000
DTSTAMP:20260426T011004
CREATED:20220107T083546Z
LAST-MODIFIED:20220110T084334Z
UID:27496-1643896800-1643904000@www.kommunale-koordinierung.com
SUMMARY:StuBo-AK der Gesamtschulen am 03.02.2022 - digital
DESCRIPTION:Die nächste Sitzung des StuBo-Arbeitskreises der Gesamtschulen findet digital statt. \nNach erfolgreicher Anmeldung erhalten Sie den Teilnahmelink per E-Mail. \nBei Fragen oder Anmerkungen wenden Sie sich bitte an:\nUte Scheid\nTelefon: 0211.89.21947\nE-Mail: ute.scheid@duesseldorf.de \nDer Arbeitskreis ist eine gemeinsame Veranstaltung der Kommunalen Koordinierung Düsseldorf und des Kompetenzzentrums Berufliche Orientierung mit der Schulaufsicht der Landeshauptstadt Düsseldorf. \nDie offiziele Einladung für den Arbeitskreis der Gesamtschulen finden Sie hier: Einladung StuBo-AK Ges \nVorname *Nachname *Schule/Institution *E-Mail Adresse *GDPR *Ja\, ich bin mit den Datenschutzbestimmungen einverstanden.Nachricht senden
URL:https://www.kommunale-koordinierung.com/event/27496/
CATEGORIES:Berufliche Orientierung,Lehrkräfte,Mit Anmeldung,StuBo-Arbeitskreis,StuBos
END:VEVENT
BEGIN:VEVENT
DTSTART;TZID=Europe/Berlin:20220204T100000
DTEND;TZID=Europe/Berlin:20220204T150000
DTSTAMP:20260426T011006
CREATED:20220110T122810Z
LAST-MODIFIED:20220304T114927Z
UID:27583-1643968800-1643986800@www.kommunale-koordinierung.com
SUMMARY:Sprechstunde der HWK für Geflüchtete am 04.02.
DESCRIPTION:Sie möchten eine Ausbildung in Deutschland machen? Sie haben Fragen zu den Handwerksberufen? Sie benötigen Hilfe beim Schreiben der Bewerbung? \nDie Handwerkskammer Düsseldorf unterstützt Sie bei der Suche nach einem Ausbildungsplatz. Das Handwerk bietet gute Perspektiven für geflüchtete Menschen. \nAnmeldung zur Sprechstunde:\nRex Mähr\, Telefon 0211 8795-604\, E-Mail: rex.maehr@hwk-duesseldorf.de
URL:https://www.kommunale-koordinierung.com/event/sprechstunde-der-hwk-fuer-gefluechtete-am-04-02/
LOCATION:Handwerkskammer Düsseldorf\, Georg-Schulhoff-Platz 1\, Düsseldorf\, 40221\, Deutschland
END:VEVENT
BEGIN:VEVENT
DTSTART;TZID=Europe/Berlin:20220205T120000
DTEND;TZID=Europe/Berlin:20220205T160000
DTSTAMP:20260426T011006
CREATED:20211014T093837Z
LAST-MODIFIED:20211014T093837Z
UID:25775-1644062400-1644076800@www.kommunale-koordinierung.com
SUMMARY:Stuzubi Essen
DESCRIPTION:Stuzubi – die Ausbildungs- und Studienmesse: \nViele verschiedene Hochschulen und Unternehmen aus der Region stellen sich vor. Sei dabei und informiere dich vor Ort zu Studium und Ausbildung! \nWeitere Infos gibt es unter:\nhttps://stuzubi.de/messen/essen
URL:https://www.kommunale-koordinierung.com/event/stuzubi-essen/
LOCATION:Grugahalle Essen\, Messeplatz 2\, Essen\, Deutschland
CATEGORIES:Berufliche Orientierung,Eltern & Teens,Messe
END:VEVENT
BEGIN:VEVENT
DTSTART;TZID=Europe/Berlin:20220207T140000
DTEND;TZID=Europe/Berlin:20220207T160000
DTSTAMP:20260426T011006
CREATED:20220113T143218Z
LAST-MODIFIED:20220113T150553Z
UID:27650-1644242400-1644249600@www.kommunale-koordinierung.com
SUMMARY:StuBo-Arbeitskreis der Gymnasien am 07.02.22 - digital
DESCRIPTION:Die nächste Sitzung des StuBo-Arbeitskreises der Gymnasien findet online über Microsoft Teams statt. \nAlle Düsseldorfer Gymnasien sind herzlich zu dem StuBo-Arbeitskreis eingeladen. \nOffizielle Einladung und Zugangsdaten \nBitte melden Sie sich unten für die Veranstaltung an. \nBei Fragen oder Themenwünschen wenden Sie sich bitte an:\nRenate Kiszkiel\nTelefon: 0211 6690834\nE-Mail: kiszkiel@unternehmerschaft.de \nDer Arbeitskreis ist eine gemeinsame Veranstaltung der Kommunalen Koordinierung Düsseldorf und des Kompetenzzentrums Berufliche Orientierung mit der Schulaufsicht der Landeshauptstadt Düsseldorf. \nVorname *Nachname *Schule/Institution *E-Mail Adresse *GDPR *Ja\, ich bin mit den Datenschutzbestimmungen einverstanden.Nachricht senden
URL:https://www.kommunale-koordinierung.com/event/stubo-arbeitskreis-der-gymnasien-am-07-02-22/
END:VEVENT
BEGIN:VEVENT
DTSTART;TZID=Europe/Berlin:20220209T100000
DTEND;TZID=Europe/Berlin:20220209T104500
DTSTAMP:20260426T011007
CREATED:20220126T075636Z
LAST-MODIFIED:20251208T110213Z
UID:27866-1644400800-1644403500@www.kommunale-koordinierung.com
SUMMARY:In 40 Minuten: Fünf gute Ideen für Ihr Schüler- und Azubimarketing 2022
DESCRIPTION:DIE SITUATION \n10.000 Düsseldorfer Schülerinnen und Schüler schließen jährlich Ihre Schullaufbahn ab – die meisten davon mit dem Ziel der akademischen Weiterbildung. Die guten Karrierechancen einer dualen Berufsausbildung werden von vielen jungen Erwachsenen und deren Eltern unterschätzt – Fachkräftemangel ist die Folge. \nDIE LÖSUNG \nEine umfangreiche und in alle Richtungen gleichermaßen aufklärende Berufs- und Studienorientierung in den weiterführenden Schulen ist die Lösung. Nutzen Sie als Unternehmen die Möglichkeit\, sich aktiv bei der Nachwuchsförderung zu engagieren und sich zeitgleich als Ausbildungsbetrieb und sympathische Arbeitgebermarke direkt in den Schulen vorzustellen. \nSprechen Sie potenzielle Bewerber*innen innovativ an! \nMit unseren kostenfreien Angeboten sind Sie bei Ihrer Zielgruppe direkt präsent. Fünf Ideen für Ihr Schüler- und Azubimarketing stellen wir\, die Unternehmenschaft Düsseldorf\, Ihnen in unserem kurzweiligen ONLINE-MEETING vor! \nUnter anderem werden wir Ihnen unsere MINT-Angebote\, die „Düsseldorfer Tage der Beruflichen Orientierung 2022“\, das digitale „Duale Orientierungspraktikum“ und die Programme „Ausbildungsbotschafter“ und „Wirtschaft Pro Schule“ und den neuen „Live-Talk mit Eltern und ihren Kindern“ vorstellen. \nMelden Sie sich direkt hier an: Anmeldung zur Veranstaltung \nWir freuen uns auf Ihre Teilnahme!
URL:https://www.kommunale-koordinierung.com/event/in-40-minuten-fuenf-gute-ideen-fuer-ihr-schueler-und-azubimarketing-2022/
LOCATION:Online
CATEGORIES:Berufliche Orientierung,Eltern & Teens,Mit Anmeldung,Studienorientierung,Unternehmen
END:VEVENT
BEGIN:VEVENT
DTSTART;TZID=Europe/Berlin:20220210T140000
DTEND;TZID=Europe/Berlin:20220210T160000
DTSTAMP:20260426T011007
CREATED:20220107T085139Z
LAST-MODIFIED:20220110T083805Z
UID:27507-1644501600-1644508800@www.kommunale-koordinierung.com
SUMMARY:StuBo-AK der Hauptschulen am 10.02.2022 - digital
DESCRIPTION:Die nächste Sitzung des StuBo-Arbeitskreises der Hauptschulen findet digital statt. \nNach erfolgreicher Anmeldung erhalten Sie per E-Mail den Teilnahmelink. \nBei Fragen oder Anmerkungen wenden Sie sich bitte an:\nUte Scheid\nTelefon: 0211.89.21947\nE-Mail: ute.scheid@duesseldorf.de \nDer Arbeitskreis ist eine gemeinsame Veranstaltung der Kommunalen Koordinierung Düsseldorf und der Schulaufsicht der Landeshauptstadt Düsseldorf. \nDie offiziele Einladung für den Arbeitskreis finden Sie hier: Einladung AK HS
URL:https://www.kommunale-koordinierung.com/event/stubo-arbeitskreis-der-hauptschulen-am-10-02-2022/
CATEGORIES:Berufliche Orientierung,Lehrkräfte,StuBo-Arbeitskreis,StuBos
END:VEVENT
BEGIN:VEVENT
DTSTART;TZID=Europe/Berlin:20220214T140000
DTEND;TZID=Europe/Berlin:20220214T160000
DTSTAMP:20260426T011007
CREATED:20211004T090407Z
LAST-MODIFIED:20220304T113845Z
UID:25423-1644847200-1644854400@www.kommunale-koordinierung.com
SUMMARY:Sprechstunde der HWK für Abiturient*innen 14.02.
DESCRIPTION:Die Handwerkskammer Düsseldorf bietet eine Sprechstunde speziell für Abiturient*innen an. Sie können sich zu allen Fragen der handwerklichen Ausbildung\, Ausbildungsverkürzung\, Auslandsaufenthalten und zum trialen Studium (Ausbildung + Meisterfortbildung + BWL-Bachelorstudium) beraten lassen. Abhängig von den aktuellen Kontaktbeschränkungen findet die Sprechstunde telefonisch und/oder vor Ort in der Handwerkskammer Düsseldorf statt. \nAnmeldung unter: 0211 8795-605 oder ann-kathrin.heim@hwk-duesseldorf.de
URL:https://www.kommunale-koordinierung.com/event/sprechstunde-der-hwk-fuer-abiturientinnen-14-02/
CATEGORIES:Berufliche Orientierung,Eltern & Teens
END:VEVENT
BEGIN:VEVENT
DTSTART;TZID=Europe/Berlin:20220216T180000
DTEND;TZID=Europe/Berlin:20220216T190000
DTSTAMP:20260426T011007
CREATED:20220209T094536Z
LAST-MODIFIED:20220209T094705Z
UID:28099-1645034400-1645038000@www.kommunale-koordinierung.com
SUMMARY:Eltern-Lehrkräfte-Infoveranstaltung zu KAoA-STAR
DESCRIPTION:Jugendliche in den 7. Klassen mit körperlich-motorischen Einschränkungen sowie mit einer anerkannten Autismus-Spektrums-Störung haben die Möglichkeit\, an den Standardelementen von Regel-KAoA  oder KAoA-STAR teilzunehmen. In KAoA-STAR erhalten die Jugendlichen innerhalb ihrer beruflichen Orientierung eine zusätzliche Unterstützung. \nAuf der digitalen Info-Veranstaltung stellen sich der Integrationsfachdienst und der Träger faw für die Potenzialanalyse vor. Die Standardelemente beider Systeme und ihre Unterschiede werden erläutert. Es verbleibt genügend Zeit\, Fragen zu stellen. \nDie Teilnahme erfolgt digital über Microsoft Teams.\nhttps://teams.microsoft.com/l/meetup-join/19%3ameeting_MTA2M2UwYjktNTJhNC00NjUyLTk0MjEtNDA1MTE4NzgzZWYy%40thread.v2/0?context=%7b%22Tid%22%3a%225603c18d-248a-473c-9b0d-74b530bc56c2%22%2c%22Oid%22%3a%22e14644aa-4ff4-45be-be81-ba0656d30d79%22%7d  \nAusführliche Informationen zu KAoA-STAR finden Sie auch auf der Homepage der Kommunalen Koordinierung unter\nhttps://www.koko-dus.de/standardelemente/kaoa-star
URL:https://www.kommunale-koordinierung.com/event/eltern-lehrkraefte-infoveranstaltung-zu-kaoa-star/
LOCATION:Online
CATEGORIES:Berufliche Orientierung,Eltern & Teens,KAoA-STAR
END:VEVENT
BEGIN:VEVENT
DTSTART;TZID=Europe/Berlin:20220217T140000
DTEND;TZID=Europe/Berlin:20220217T160000
DTSTAMP:20260426T011007
CREATED:20220201T111756Z
LAST-MODIFIED:20220201T111850Z
UID:27910-1645106400-1645113600@www.kommunale-koordinierung.com
SUMMARY:StuBo-Arbeitskreis der Realschulen am Do.\, 17.02.22 (online)
DESCRIPTION:Die nächste Sitzung des StuBo-Arbeitskreises der Realschulen findet online über Microsoft Teams statt. \nAlle Düsseldorfer Realschulen sind herzlich zu dem StuBo-Arbeitskreis eingeladen. \nOffizielle Einladung und Zugangsdaten \nBitte melden Sie sich unten für die Veranstaltung an. \nBei Fragen oder Themenwünschen wenden Sie sich bitte an:\nEzgi Yildiz\nTelefon: 0211 669 08 22\nE-Mail: yildiz@unternehmerschaft.de \nDer Arbeitskreis ist eine gemeinsame Veranstaltung der Kommunalen Koordinierung Düsseldorf und des Kompetenzzentrums Berufliche Orientierung mit der Schulaufsicht der Landeshauptstadt Düsseldorf. \nVorname *Nachname *Schule/Institution *E-Mail Adresse *GDPR *Ja\, ich bin mit den Datenschutzbestimmungen einverstanden.Nachricht senden
URL:https://www.kommunale-koordinierung.com/event/stubo-arbeitskreis-der-realschulen-am-do-17-02-22-online/
CATEGORIES:Berufliche Orientierung,Lehrkräfte,StuBo-Arbeitskreis,StuBos
END:VEVENT
BEGIN:VEVENT
DTSTART;TZID=Europe/Berlin:20220223T140000
DTEND;TZID=Europe/Berlin:20220223T160000
DTSTAMP:20260426T011009
CREATED:20220107T090451Z
LAST-MODIFIED:20220818T063214Z
UID:27514-1645624800-1645632000@www.kommunale-koordinierung.com
SUMMARY:StuBo-AK der Förderschulen am 23.02.2022 - digital
DESCRIPTION:Die nächste Sitzung des StuBo-Arbeitskreises der Förderschulen findet digital statt. \nÜber die erfolgreiche Anmeldung erhalten Sie den Teilnahmelink per E-Mail. \nBei Fragen oder Anmerkungen wenden Sie sich bitte an:\nUte Scheid\nTelefon: 0211 8921947\nE-Mail: ute.scheid@duesseldorf.de \nDer Arbeitskreis ist eine gemeinsame Veranstaltung der Kommunalen Koordinierung Düsseldorf und der Schulaufsicht der Landeshauptstadt Düsseldorf. \nDie offizielle Einladung für den Arbeitskeis der Förderschulen finden Sie hier: Einladung AK FS
URL:https://www.kommunale-koordinierung.com/event/stubo-arbeitskreis-der-foerderschulen-am-23-02-2022/
LOCATION:Online
CATEGORIES:Berufliche Orientierung,Lehrkräfte,Mit Anmeldung,StuBo-Arbeitskreis,StuBos
END:VEVENT
BEGIN:VEVENT
DTSTART;TZID=Europe/Berlin:20220223T150000
DTEND;TZID=Europe/Berlin:20220223T160000
DTSTAMP:20260426T011009
CREATED:20220201T111053Z
LAST-MODIFIED:20220216T084018Z
UID:27905-1645628400-1645632000@www.kommunale-koordinierung.com
SUMMARY:Informations-Veranstaltung zur Berufswahl-SIEGEL-Bewerbung 2022
DESCRIPTION:In der Infoveranstaltung erhalten Sie einen Überblick über die Voraussetzungen der schriftlichen Bewerbung und den organisatorischen Ablauf der SIEGEL- Runde 2022. \nIn den letzten Jahren haben sich die Inhalte und Anforderungen an die Schulen in der Berufsorientierung stetig weiterentwickelt. Um diesen Entwicklungen gerecht zu werden\, wurde der SIEGEL-Kriterienkatalog komplett überarbeitet. \nErst- als auch Re-Zertifizierer sind herzlich eingeladen\, sich über die neuen Kriterien für die schriftliche Bewerbung zu informieren und sich auf eine erfolgreiche Zertifizierung zur SIEGEL berufswahl- und ausbildungsfreundliche Schule vorzubereiten. \nBitte melden Sie sich für die Veranstaltung an:
URL:https://www.kommunale-koordinierung.com/event/informationsveranstaltung-zur-berufswahl-siegel-bewerbung-2022/
LOCATION:Online
CATEGORIES:Berufliche Orientierung,Lehrkräfte,Mit Anmeldung,Schulen,StuBos
END:VEVENT
END:VCALENDAR