BEGIN:VCALENDAR
VERSION:2.0
PRODID:-//Kommunale Koordinierung - ECPv6.15.20//NONSGML v1.0//EN
CALSCALE:GREGORIAN
METHOD:PUBLISH
X-ORIGINAL-URL:https://www.kommunale-koordinierung.com
X-WR-CALDESC:Veranstaltungen für Kommunale Koordinierung
REFRESH-INTERVAL;VALUE=DURATION:PT1H
X-Robots-Tag:noindex
X-PUBLISHED-TTL:PT1H
BEGIN:VTIMEZONE
TZID:Europe/Berlin
BEGIN:DAYLIGHT
TZOFFSETFROM:+0100
TZOFFSETTO:+0200
TZNAME:CEST
DTSTART:20240331T010000
END:DAYLIGHT
BEGIN:STANDARD
TZOFFSETFROM:+0200
TZOFFSETTO:+0100
TZNAME:CET
DTSTART:20241027T010000
END:STANDARD
BEGIN:DAYLIGHT
TZOFFSETFROM:+0100
TZOFFSETTO:+0200
TZNAME:CEST
DTSTART:20250330T010000
END:DAYLIGHT
BEGIN:STANDARD
TZOFFSETFROM:+0200
TZOFFSETTO:+0100
TZNAME:CET
DTSTART:20251026T010000
END:STANDARD
BEGIN:DAYLIGHT
TZOFFSETFROM:+0100
TZOFFSETTO:+0200
TZNAME:CEST
DTSTART:20260329T010000
END:DAYLIGHT
BEGIN:STANDARD
TZOFFSETFROM:+0200
TZOFFSETTO:+0100
TZNAME:CET
DTSTART:20261025T010000
END:STANDARD
END:VTIMEZONE
BEGIN:VEVENT
DTSTART;TZID=Europe/Berlin:20250714T160000
DTEND;TZID=Europe/Berlin:20250714T170000
DTSTAMP:20260421T105030
CREATED:20250424T100850Z
LAST-MODIFIED:20250424T100850Z
UID:50669-1752508800-1752512400@www.kommunale-koordinierung.com
SUMMARY:Allgemeiner Vortrag\, Schwerpunkt Studienbewerbung
DESCRIPTION:Hier finden Sie ein vielfältiges Programm\, das Ihnen die Hochschule Düsseldorf\, einzelne Studiengänge\, Bewerbungsprozesse und andere relevante Themen in verschiedenen Vorträgen näherbringt. Auch Gruppenberatungen und Studibotschafterinterviews und Führungen finden hier ihren Platz.​ \nEinige Hinweise:​ \nBei Veranstaltungen\, die via Microsoft Teams stattfinden​\, klicken Sie zur Teilnahme bitte einfach auf den entsprechenden Link bzw. melden Sie sich zuvor über den Anmeldelink an. Sie benötigen lediglich ein internetfähiges Handy/Tablet mit MS Teams oder einen Computer/Laptop etc.\, Webkamera\, Mikrofon sowie MS Teams oder Internetbrowser MS Edge/Google Chrome. ​\nBei Veranstaltungen\, die vor Ort sind\, melden Sie sich bitte an und beachten weitere Informationen\, die wir Ihnen nach der Anmeldung senden. \nWir freuen uns auf Ihre Teilnahme! ​​​ \nWeitere Informationen finden Sie hier.
URL:https://www.kommunale-koordinierung.com/event/allgemeiner-vortrag-schwerpunkt-studienbewerbung/
LOCATION:Online
CATEGORIES:Ausbildung,Berufliche Orientierung,Eltern & Teens,Studienorientierung
ORGANIZER;CN="Hochschule D%C3%BCsseldorf":MAILTO:https://www.hs-duesseldorf.de/studium/beratung_und_kontakt/studienberatung/beratungsgmoeglichkeiten-studienberatung
END:VEVENT
END:VCALENDAR