BEGIN:VCALENDAR
VERSION:2.0
PRODID:-//Kommunale Koordinierung - ECPv6.15.20//NONSGML v1.0//EN
CALSCALE:GREGORIAN
METHOD:PUBLISH
X-WR-CALNAME:Kommunale Koordinierung
X-ORIGINAL-URL:https://www.kommunale-koordinierung.com
X-WR-CALDESC:Veranstaltungen für Kommunale Koordinierung
REFRESH-INTERVAL;VALUE=DURATION:PT1H
X-Robots-Tag:noindex
X-PUBLISHED-TTL:PT1H
BEGIN:VTIMEZONE
TZID:Europe/Berlin
BEGIN:DAYLIGHT
TZOFFSETFROM:+0100
TZOFFSETTO:+0200
TZNAME:CEST
DTSTART:20240331T010000
END:DAYLIGHT
BEGIN:STANDARD
TZOFFSETFROM:+0200
TZOFFSETTO:+0100
TZNAME:CET
DTSTART:20241027T010000
END:STANDARD
BEGIN:DAYLIGHT
TZOFFSETFROM:+0100
TZOFFSETTO:+0200
TZNAME:CEST
DTSTART:20250330T010000
END:DAYLIGHT
BEGIN:STANDARD
TZOFFSETFROM:+0200
TZOFFSETTO:+0100
TZNAME:CET
DTSTART:20251026T010000
END:STANDARD
BEGIN:DAYLIGHT
TZOFFSETFROM:+0100
TZOFFSETTO:+0200
TZNAME:CEST
DTSTART:20260329T010000
END:DAYLIGHT
BEGIN:STANDARD
TZOFFSETFROM:+0200
TZOFFSETTO:+0100
TZNAME:CET
DTSTART:20261025T010000
END:STANDARD
END:VTIMEZONE
BEGIN:VEVENT
DTSTART;TZID=Europe/Berlin:20250626T140000
DTEND;TZID=Europe/Berlin:20250626T160000
DTSTAMP:20260421T114902
CREATED:20250416T114057Z
LAST-MODIFIED:20250514T151926Z
UID:50642-1750946400-1750953600@www.kommunale-koordinierung.com
SUMMARY:StuBo-Arbeitskreis der Gymnasien am 26.06.2025
DESCRIPTION:Wir laden alle Düsseldorfer Gymnasien herzlich zur nächsten StuBo-Arbeitskreissitzung ein. \nOfizielle Einladung \nOrt:\nStiftung PRO AUSBILDUNG\nAchenbachstr. 28\n40237 Düsseldorf \nBei Fragen wenden Sie sich bitte an:\nLena Luisa Schorr-Fischer\nTel.: 0211 89-94483 (Mittwochs)\nschorr-fischer@koko-dus.de \nDer Arbeitskreis ist eine gemeinsame Veranstaltung der Kommunalen Koordinierung Düsseldorf und des Kompetenzzentrums Berufliche Orientierung mit der Schulaufsicht der Landeshauptstadt Düsseldorf. \n\n \n\n\n\nVorname *\n\n\nNachname *\n\n\n\n\nSchule/Institution *\n\n\n\n\nE-Mail Adresse *\n\n\n\n\nGDPR *Ja\, ich bin mit den Datenschutzbestimmungen einverstanden.\n\n\n\n\n\n \n\n \n\n\nNachricht senden
URL:https://www.kommunale-koordinierung.com/event/stubo-arbeitskreis-der-gymnasien-am-26-06-2025/
LOCATION:Achenbachstr. 28\, 40237 Düsseldorf\, Achenbachstr. 28\, Düsseldorf\, 40237\, Deutschland
CATEGORIES:StuBo-Arbeitskreis
END:VEVENT
END:VCALENDAR