BEGIN:VCALENDAR
VERSION:2.0
PRODID:-//Kommunale Koordinierung - ECPv6.15.20//NONSGML v1.0//EN
CALSCALE:GREGORIAN
METHOD:PUBLISH
X-ORIGINAL-URL:https://www.kommunale-koordinierung.com
X-WR-CALDESC:Veranstaltungen für Kommunale Koordinierung
REFRESH-INTERVAL;VALUE=DURATION:PT1H
X-Robots-Tag:noindex
X-PUBLISHED-TTL:PT1H
BEGIN:VTIMEZONE
TZID:Europe/Berlin
BEGIN:DAYLIGHT
TZOFFSETFROM:+0100
TZOFFSETTO:+0200
TZNAME:CEST
DTSTART:20240331T010000
END:DAYLIGHT
BEGIN:STANDARD
TZOFFSETFROM:+0200
TZOFFSETTO:+0100
TZNAME:CET
DTSTART:20241027T010000
END:STANDARD
BEGIN:DAYLIGHT
TZOFFSETFROM:+0100
TZOFFSETTO:+0200
TZNAME:CEST
DTSTART:20250330T010000
END:DAYLIGHT
BEGIN:STANDARD
TZOFFSETFROM:+0200
TZOFFSETTO:+0100
TZNAME:CET
DTSTART:20251026T010000
END:STANDARD
BEGIN:DAYLIGHT
TZOFFSETFROM:+0100
TZOFFSETTO:+0200
TZNAME:CEST
DTSTART:20260329T010000
END:DAYLIGHT
BEGIN:STANDARD
TZOFFSETFROM:+0200
TZOFFSETTO:+0100
TZNAME:CET
DTSTART:20261025T010000
END:STANDARD
END:VTIMEZONE
BEGIN:VEVENT
DTSTART;TZID=Europe/Berlin:20250618T090000
DTEND;TZID=Europe/Berlin:20250618T170000
DTSTAMP:20260421T105031
CREATED:20250414T085300Z
LAST-MODIFIED:20250414T085300Z
UID:50627-1750237200-1750266000@www.kommunale-koordinierung.com
SUMMARY:Tag der offenen Tür an der Hochschule Düsseldorf
DESCRIPTION:Die Hoschule Düsseldorf lädt herzlich zu ihrem Tag der offenen Tür ein. Gedanken über den „Traumberuf“\, verbunden mit einer qualifizierten und zeitgemäßen Ausbildung können sich junge Menschen heute nicht früh genug machen. \nWo: Campus Derendorf ab 9 Uhr \nWeitere Infos findet ihr hier: Tag der offenen Tür HSD
URL:https://www.kommunale-koordinierung.com/event/tag-der-offenen-tuer-an-der-hochschule-duesseldorf/
LOCATION:Hochschule Düsseldorf\, Münsterstraße 156\, 40476 Düsseldorf\, Deutschland
CATEGORIES:Berufliche Orientierung,Eltern & Teens,Studienorientierung
ORGANIZER;CN="Hochschule D%C3%BCsseldorf":MAILTO:https://www.hs-duesseldorf.de/studium/beratung_und_kontakt/studienberatung/beratungsgmoeglichkeiten-studienberatung
END:VEVENT
BEGIN:VEVENT
DTSTART;TZID=Europe/Berlin:20250618T190000
DTEND;TZID=Europe/Berlin:20250618T200000
DTSTAMP:20260421T105031
CREATED:20250512T114805Z
LAST-MODIFIED:20250512T114805Z
UID:50736-1750273200-1750276800@www.kommunale-koordinierung.com
SUMMARY:Ringvorlesungen am Fachbereich Design HSD
DESCRIPTION:Die Ringvorlesungen On/Off Design ermöglichen einen breiten Einblick in verschiedene Design-Themen. Sie sind nicht nur für Studierende geöffnet\, sondern für alle\, die sich für Design interessieren. Die Vorträge finden mittwochabends ab 19 Uhr im Atrium von Gebäude 6 statt und können ohne Voranmeldung besucht werden.​ Ein Besuch lohnt sich! \nWeitere Infos: Ringvorlesungen am Fachbereich Design
URL:https://www.kommunale-koordinierung.com/event/ringvorlesungen-am-fachbereich-design-hsd-2/
LOCATION:Hochschule Düsseldorf\, Münsterstraße 156\, 40476 Düsseldorf\, Deutschland
CATEGORIES:Eltern & Teens,Studienorientierung
ORGANIZER;CN="Hochschule D%C3%BCsseldorf":MAILTO:https://www.hs-duesseldorf.de/studium/beratung_und_kontakt/studienberatung/beratungsgmoeglichkeiten-studienberatung
END:VEVENT
END:VCALENDAR