BEGIN:VCALENDAR
VERSION:2.0
PRODID:-//Kommunale Koordinierung - ECPv6.15.20//NONSGML v1.0//EN
CALSCALE:GREGORIAN
METHOD:PUBLISH
X-WR-CALNAME:Kommunale Koordinierung
X-ORIGINAL-URL:https://www.kommunale-koordinierung.com
X-WR-CALDESC:Veranstaltungen für Kommunale Koordinierung
REFRESH-INTERVAL;VALUE=DURATION:PT1H
X-Robots-Tag:noindex
X-PUBLISHED-TTL:PT1H
BEGIN:VTIMEZONE
TZID:Europe/Berlin
BEGIN:DAYLIGHT
TZOFFSETFROM:+0100
TZOFFSETTO:+0200
TZNAME:CEST
DTSTART:20240331T010000
END:DAYLIGHT
BEGIN:STANDARD
TZOFFSETFROM:+0200
TZOFFSETTO:+0100
TZNAME:CET
DTSTART:20241027T010000
END:STANDARD
BEGIN:DAYLIGHT
TZOFFSETFROM:+0100
TZOFFSETTO:+0200
TZNAME:CEST
DTSTART:20250330T010000
END:DAYLIGHT
BEGIN:STANDARD
TZOFFSETFROM:+0200
TZOFFSETTO:+0100
TZNAME:CET
DTSTART:20251026T010000
END:STANDARD
BEGIN:DAYLIGHT
TZOFFSETFROM:+0100
TZOFFSETTO:+0200
TZNAME:CEST
DTSTART:20260329T010000
END:DAYLIGHT
BEGIN:STANDARD
TZOFFSETFROM:+0200
TZOFFSETTO:+0100
TZNAME:CET
DTSTART:20261025T010000
END:STANDARD
END:VTIMEZONE
BEGIN:VEVENT
DTSTART;TZID=Europe/Berlin:20250603T080000
DTEND;TZID=Europe/Berlin:20250606T160000
DTSTAMP:20260421T121047
CREATED:20250523T090212Z
LAST-MODIFIED:20250523T090212Z
UID:50780-1748937600-1749225600@www.kommunale-koordinierung.com
SUMMARY:Erlebnisparcours "komm auf Tour - deine Stärken\, deine Zukunft"
DESCRIPTION:Auch 2025 findet der Erlebnisparcours „komm auf Tour – deine Stärken\, deine Zukunft“ wieder in Düsseldorf statt. \nTeilnehmen werden über 700 Schülerinnen und Schüler der 7. Klassen von Düsseldorfer Förder-\, Haupt- und Gesamtschulen sowie Schüler*innen mit Förderbedarf aus Düsseldorfer Realschulen.. \nDer Erlebnisparcours bietet Schülerinnen und Schülern die Möglichkeit\, ihre individuellen Stärken\, Interessen und Talente auf spielerische Art und Weise zu entdecken und weiterzuentwickeln. Dabei beschäftigen sich die Jugendlichen auch mit ersten Vorstellungen für ihren Ausbildungsweg und ihre Lebensplanung. Zudem erfahren sie\, wie sie ihre Stärken im späteren Berufsleben einsetzen können. \nDie Durchführung des Parcours wird durch die finanzielle Unterstützung der Agentur für Arbeit Düsseldorf\, der Bürgerstiftung Düsseldorf\, der Landeshauptstadt Düsseldorf und dem Mercedes-Benz Sprinterwerk ermöglicht! \nWeitere Informationen zum Parcours:\nhttps://komm-auf-tour.de \nNur für angemeldete Schulen!
URL:https://www.kommunale-koordinierung.com/event/erlebnisparcours-komm-auf-tour-deine-staerken-deine-zukunft-2/
LOCATION:Mercedes-Benz-Werk\, Rather Str. 51\, Düsseldorf
CATEGORIES:Berufliche Orientierung,BO mit Förderbedarf,Eltern & Teens,Mit Anmeldung
END:VEVENT
BEGIN:VEVENT
DTSTART;TZID=Europe/Berlin:20250604T163000
DTEND;TZID=Europe/Berlin:20250604T170000
DTSTAMP:20260421T121047
CREATED:20250127T095235Z
LAST-MODIFIED:20250523T141826Z
UID:50298-1749054600-1749056400@www.kommunale-koordinierung.com
SUMMARY:Infoveranstaltung zum Freiwilligendienst
DESCRIPTION:Wir bieten jungen Menschen im gesamten Erzbistum Köln die Möglichkeit ein Freiwilliges Soziales Jahr (FSJ) oder Bundesfreiwilligendienst (BFD) zu leisten. Der Freiwilligendienst ist eine gute Möglichkeit\, die Zeit nach der Schule wertvoll und sinnstiftend zu gestalten. \nWir möchten Sie und Ihre Schüler*innen herzlich zu unseren regelmäßig online stattfindenden Infoveranstaltungen einladen. Hier informieren wir Sie umfassend und persönlich über die Rahmenbedingungen des Freiwilligendienstes und seine Vorteile. Alternativ können wir gerne auch einen individuellen Termin vereinbaren. Für die Anmeldung oder für Rückfragen nehmen Sie gerne Kontakt zu unserer Bildungsreferentin Frau Mels auf: mels@fsd-koeln.de oder 0221/ 47 44 13-28. \nhttps://eveeno.com/infoveranstaltung_zum_freiwilligendienst
URL:https://www.kommunale-koordinierung.com/event/infoveranstaltung-zum-freiwilligendienst-6/
LOCATION:Online
CATEGORIES:Berufliche Orientierung,Eltern & Teens
END:VEVENT
BEGIN:VEVENT
DTSTART;TZID=Europe/Berlin:20250604T183000
DTEND;TZID=Europe/Berlin:20250604T200000
DTSTAMP:20260421T121047
CREATED:20250523T090528Z
LAST-MODIFIED:20250523T090528Z
UID:50782-1749061800-1749067200@www.kommunale-koordinierung.com
SUMMARY:Eltern-Informationsabend zum Erlebnisparcours "komm auf Tour" 2025
DESCRIPTION:Der Erlebnisparcours „komm auf Tour – meine Stärken\, meine Zukunft“ bietet Schülerinnen und Schülern die Möglichkeit\, ihre individuellen Stärken\, Interessen und Talente auf spielerische Art und Weise zu entdecken und weiterzuentwickeln. \nDabei beschäftigen sich die Jugendlichen auch mit ersten Vorstellungen für ihren Ausbildungsweg und ihre Lebensplanung. Zudem erfahren sie\, wie sie ihre Stärken im späteren Berufsleben einsetzen können. \nBeim Eltern-Informationsabend zu „komm auf Tour“ erhalten die Erziehungsberechtigten der angemeldeten Schüler*innen einen Einblick in die Stationen und Ziele des Parcours. \nDarüber hinaus informieren Institutionen und Beratungsstellen aus Düsseldorf über Möglichkeiten\, wie Eltern ihre Kinder bei der Berufswahl und im Leben unterstützen können. \nEine Anmeldung ist nicht erforderlich! \nDie Durchführung des Parcours wird durch die finanzielle Unterstützung der Agentur für Arbeit Düsseldorf\, der Bürgerstiftung Düsseldorf\, der Landeshauptstadt Düsseldorf und dem Mercedes-Benz Sprinterwerk ermöglicht! \nWeitere Informationen zum Parcours:\nhttps://komm-auf-tour.de
URL:https://www.kommunale-koordinierung.com/event/eltern-informationsabend-zum-erlebnisparcours-komm-auf-tour-2025/
LOCATION:Mercedes-Benz-Werk\, Rather Str. 51\, Düsseldorf
CATEGORIES:Berufliche Orientierung,BO mit Förderbedarf,Eltern & Teens
END:VEVENT
BEGIN:VEVENT
DTSTART;TZID=Europe/Berlin:20250604T190000
DTEND;TZID=Europe/Berlin:20250604T200000
DTSTAMP:20260421T121047
CREATED:20250512T114707Z
LAST-MODIFIED:20250512T114707Z
UID:50733-1749063600-1749067200@www.kommunale-koordinierung.com
SUMMARY:Ringvorlesungen am Fachbereich Design HSD
DESCRIPTION:Die Ringvorlesungen On/Off Design ermöglichen einen breiten Einblick in verschiedene Design-Themen. Sie sind nicht nur für Studierende geöffnet\, sondern für alle\, die sich für Design interessieren. Die Vorträge finden mittwochabends ab 19 Uhr im Atrium von Gebäude 6 statt und können ohne Voranmeldung besucht werden.​ Ein Besuch lohnt sich! \nWeitere Infos: Ringvorlesungen am Fachbereich Design
URL:https://www.kommunale-koordinierung.com/event/ringvorlesungen-am-fachbereich-design-hsd/
LOCATION:Hochschule Düsseldorf\, Münsterstraße 156\, 40476 Düsseldorf\, Deutschland
CATEGORIES:Eltern & Teens,Studienorientierung
ORGANIZER;CN="Hochschule D%C3%BCsseldorf":MAILTO:https://www.hs-duesseldorf.de/studium/beratung_und_kontakt/studienberatung/beratungsgmoeglichkeiten-studienberatung
END:VEVENT
END:VCALENDAR