BEGIN:VCALENDAR
VERSION:2.0
PRODID:-//Kommunale Koordinierung - ECPv6.15.20//NONSGML v1.0//EN
CALSCALE:GREGORIAN
METHOD:PUBLISH
X-ORIGINAL-URL:https://www.kommunale-koordinierung.com
X-WR-CALDESC:Veranstaltungen für Kommunale Koordinierung
REFRESH-INTERVAL;VALUE=DURATION:PT1H
X-Robots-Tag:noindex
X-PUBLISHED-TTL:PT1H
BEGIN:VTIMEZONE
TZID:Europe/Berlin
BEGIN:DAYLIGHT
TZOFFSETFROM:+0100
TZOFFSETTO:+0200
TZNAME:CEST
DTSTART:20240331T010000
END:DAYLIGHT
BEGIN:STANDARD
TZOFFSETFROM:+0200
TZOFFSETTO:+0100
TZNAME:CET
DTSTART:20241027T010000
END:STANDARD
BEGIN:DAYLIGHT
TZOFFSETFROM:+0100
TZOFFSETTO:+0200
TZNAME:CEST
DTSTART:20250330T010000
END:DAYLIGHT
BEGIN:STANDARD
TZOFFSETFROM:+0200
TZOFFSETTO:+0100
TZNAME:CET
DTSTART:20251026T010000
END:STANDARD
BEGIN:DAYLIGHT
TZOFFSETFROM:+0100
TZOFFSETTO:+0200
TZNAME:CEST
DTSTART:20260329T010000
END:DAYLIGHT
BEGIN:STANDARD
TZOFFSETFROM:+0200
TZOFFSETTO:+0100
TZNAME:CET
DTSTART:20261025T010000
END:STANDARD
END:VTIMEZONE
BEGIN:VEVENT
DTSTART;TZID=Europe/Berlin:20250602T140000
DTEND;TZID=Europe/Berlin:20250602T160000
DTSTAMP:20260421T104857
CREATED:20250514T134508Z
LAST-MODIFIED:20250514T134612Z
UID:50743-1748872800-1748880000@www.kommunale-koordinierung.com
SUMMARY:Arbeitskreis "Anschlusswege für Schüler*innen mit Förderbedarf"
DESCRIPTION:Eingeladen sind Vertretungen aus Düsseldorfer Förderschulen und Berufskollegs \nIn dieser Arbeitsgruppe sollen die Teilnehmenden die Möglichkeit haben\, den Übergang bzw. das Übergangsverfahren für Schüler*innen mit Förderbedarf für alle Seiten gewinnbringender zu gestalten. \nOrt:\nWilli-Becker-Allee 10\, 5. Etage Raum 524 (rechter Gang\, hinten links) \nBitte melden Sie sich unten für die Veranstaltung an. \nBei Fragen oder Anmerkungen wenden Sie sich bitte an: \n\n\nSusanne Frost\nKommunale Koordinierung Düsseldorf\n0211 8923743\nsusanne.frost@duesseldorf.de \n\n 
URL:https://www.kommunale-koordinierung.com/event/arbeitskreis-anschlusswege-fuer-schuelerinnen-mit-foerderbedarf/
LOCATION:Kommunale Koordinierung Düsseldorf\, Willi-Becker-Allee 10\, Düsseldorf\, 40227
CATEGORIES:Berufliche Orientierung,Berufskolleg,BO mit Förderbedarf,Lehrkräfte
END:VEVENT
END:VCALENDAR