BEGIN:VCALENDAR
VERSION:2.0
PRODID:-//Kommunale Koordinierung - ECPv6.15.20//NONSGML v1.0//EN
CALSCALE:GREGORIAN
METHOD:PUBLISH
X-ORIGINAL-URL:https://www.kommunale-koordinierung.com
X-WR-CALDESC:Veranstaltungen für Kommunale Koordinierung
REFRESH-INTERVAL;VALUE=DURATION:PT1H
X-Robots-Tag:noindex
X-PUBLISHED-TTL:PT1H
BEGIN:VTIMEZONE
TZID:Europe/Berlin
BEGIN:DAYLIGHT
TZOFFSETFROM:+0100
TZOFFSETTO:+0200
TZNAME:CEST
DTSTART:20240331T010000
END:DAYLIGHT
BEGIN:STANDARD
TZOFFSETFROM:+0200
TZOFFSETTO:+0100
TZNAME:CET
DTSTART:20241027T010000
END:STANDARD
BEGIN:DAYLIGHT
TZOFFSETFROM:+0100
TZOFFSETTO:+0200
TZNAME:CEST
DTSTART:20250330T010000
END:DAYLIGHT
BEGIN:STANDARD
TZOFFSETFROM:+0200
TZOFFSETTO:+0100
TZNAME:CET
DTSTART:20251026T010000
END:STANDARD
BEGIN:DAYLIGHT
TZOFFSETFROM:+0100
TZOFFSETTO:+0200
TZNAME:CEST
DTSTART:20260329T010000
END:DAYLIGHT
BEGIN:STANDARD
TZOFFSETFROM:+0200
TZOFFSETTO:+0100
TZNAME:CET
DTSTART:20261025T010000
END:STANDARD
END:VTIMEZONE
BEGIN:VEVENT
DTSTART;VALUE=DATE:20250407
DTEND;VALUE=DATE:20250410
DTSTAMP:20260421T140130
CREATED:20240823T085334Z
LAST-MODIFIED:20240823T085334Z
UID:48967-1743984000-1744243199@www.kommunale-koordinierung.com
SUMMARY:Düsseldorfer Tage der Beruflichen Orientierung (DTBO) 2025
DESCRIPTION:Die beliebten eintägigen Berufsfelderkundungen der DTBO finden 2025 vom 07.04.-09.04. statt! \nWeitere Informationen finden Sie unter:\nwww.dtbo-dus.de
URL:https://www.kommunale-koordinierung.com/event/duesseldorfer-tage-der-beruflichen-orientierung-dtbo-2025/
LOCATION:verschiedene Orte im gesamten Stadtgebiet\, Düsseldorf
CATEGORIES:Ausbildung,Berufliche Orientierung,Eltern & Teens,Studienorientierung,Unternehmen
END:VEVENT
BEGIN:VEVENT
DTSTART;TZID=Europe/Berlin:20250407T170000
DTEND;TZID=Europe/Berlin:20250407T180000
DTSTAMP:20260421T140130
CREATED:20250127T094324Z
LAST-MODIFIED:20250127T095032Z
UID:50287-1744045200-1744048800@www.kommunale-koordinierung.com
SUMMARY:Infoveranstaltung zum Freiwilligendienst
DESCRIPTION:Wir bieten jungen Menschen im gesamten Erzbistum Köln die Möglichkeit ein Freiwilliges Soziales Jahr (FSJ) oder Bundesfreiwilligendienst (BFD) zu leisten. Der Freiwilligendienst ist eine gute Möglichkeit\, die Zeit nach der Schule wertvoll und sinnstiftend zu gestalten. \nWir möchten Sie und Ihre Schüler*innen herzlich zu unseren regelmäßig online stattfindenden Infoveranstaltungen einladen. Hier informieren wir Sie umfassend und persönlich über die Rahmenbedingungen des Freiwilligendienstes und seine Vorteile. Die Veranstaltungen finden jeden ersten Montag im Monat um 17 Uhr statt und dauern ca. eine Stunde. Alternativ können wir gerne auch einen individuellen Termin vereinbaren. Für die Anmeldung oder für Rückfragen nehmen Sie gerne Kontakt zu unserer Bildungsreferentin Frau Mels auf: mels@fsd-koeln.de oder 0221/ 47 44 13-28. \nhttps://eveeno.com/infoveranstaltung_zum_freiwilligendienst
URL:https://www.kommunale-koordinierung.com/event/infoveranstaltung-zum-freiwilligendienst-3/
LOCATION:Online
CATEGORIES:Berufliche Orientierung,Eltern & Teens
END:VEVENT
END:VCALENDAR