BEGIN:VCALENDAR
VERSION:2.0
PRODID:-//Kommunale Koordinierung - ECPv6.15.20//NONSGML v1.0//EN
CALSCALE:GREGORIAN
METHOD:PUBLISH
X-ORIGINAL-URL:https://www.kommunale-koordinierung.com
X-WR-CALDESC:Veranstaltungen für Kommunale Koordinierung
REFRESH-INTERVAL;VALUE=DURATION:PT1H
X-Robots-Tag:noindex
X-PUBLISHED-TTL:PT1H
BEGIN:VTIMEZONE
TZID:Europe/Berlin
BEGIN:DAYLIGHT
TZOFFSETFROM:+0100
TZOFFSETTO:+0200
TZNAME:CEST
DTSTART:20240331T010000
END:DAYLIGHT
BEGIN:STANDARD
TZOFFSETFROM:+0200
TZOFFSETTO:+0100
TZNAME:CET
DTSTART:20241027T010000
END:STANDARD
BEGIN:DAYLIGHT
TZOFFSETFROM:+0100
TZOFFSETTO:+0200
TZNAME:CEST
DTSTART:20250330T010000
END:DAYLIGHT
BEGIN:STANDARD
TZOFFSETFROM:+0200
TZOFFSETTO:+0100
TZNAME:CET
DTSTART:20251026T010000
END:STANDARD
BEGIN:DAYLIGHT
TZOFFSETFROM:+0100
TZOFFSETTO:+0200
TZNAME:CEST
DTSTART:20260329T010000
END:DAYLIGHT
BEGIN:STANDARD
TZOFFSETFROM:+0200
TZOFFSETTO:+0100
TZNAME:CET
DTSTART:20261025T010000
END:STANDARD
END:VTIMEZONE
BEGIN:VEVENT
DTSTART;VALUE=DATE:20250403
DTEND;VALUE=DATE:20250404
DTSTAMP:20260421T140900
CREATED:20240823T085105Z
LAST-MODIFIED:20240823T085105Z
UID:48963-1743638400-1743724799@www.kommunale-koordinierung.com
SUMMARY:Girls'Day 2025
DESCRIPTION:Am Donnerstag\, 03. April 2025\, ist wieder Girls’Day! Ein Tag extra für dich\, an dem du neue Berufe entdecken und dich und deine Fähigkeiten testen kannst. Alle Mädchen* ab der fünften Klasse können mitmachen. \nViele Mädchen interessieren sich für Berufe wie Verkäuferin\, Friseurin oder Kauffrau für Büromanagement. Klar sind das interessante Jobs\, aber hast du auch schon einmal über andere Bereiche nachgedacht? \nAm Girls’Day lernst du Berufe kennen\, in denen bisher meist Männer arbeiten – z. B. Informatikerin\, Industriemechanikerin oder Tischlerin. Hier sind junge Frauen sehr gefragt! \nWeitere Infos gibt’s unter:\nwww.girls-day.de
URL:https://www.kommunale-koordinierung.com/event/girlsday-2025/
LOCATION:verschiedene Orte im gesamten Stadtgebiet\, Düsseldorf
CATEGORIES:Ausbildung,Berufliche Orientierung,Eltern & Teens,Studienorientierung,Unternehmen
END:VEVENT
BEGIN:VEVENT
DTSTART;VALUE=DATE:20250403
DTEND;VALUE=DATE:20250404
DTSTAMP:20260421T140900
CREATED:20240823T085209Z
LAST-MODIFIED:20240823T085209Z
UID:48965-1743638400-1743724799@www.kommunale-koordinierung.com
SUMMARY:Boys'Day 2025
DESCRIPTION:Viele Jungen interessieren sich für Berufe wie KFZ-Mechatroniker oder Informatiker. Klar\, das sind interessante Jobs. Aber hast du auch schon über andere Bereiche nachgedacht? \nAm Boys’Day lernst du Berufe kennen\, in denen bisher meist Frauen arbeiten – z. B. Erzieher\, Krankenpfleger\, Grundschullehrer oder Psychologe. Hier sind junge Männer sehr gefragt! Außerdem kannst du am Boys’Day an Workshops zur Berufs- und Lebensplanung teilnehmen. Alle Jungen* ab der fünften Klasse können teilnehmen. \nWeitere Infos gibt’s unter:\nwww.boys-day.de
URL:https://www.kommunale-koordinierung.com/event/boysday-2025/
LOCATION:verschiedene Orte im gesamten Stadtgebiet\, Düsseldorf
CATEGORIES:Ausbildung,Berufliche Orientierung,Eltern & Teens,Studienorientierung,Unternehmen
END:VEVENT
END:VCALENDAR