BEGIN:VCALENDAR
VERSION:2.0
PRODID:-//Kommunale Koordinierung - ECPv6.15.20//NONSGML v1.0//EN
CALSCALE:GREGORIAN
METHOD:PUBLISH
X-ORIGINAL-URL:https://www.kommunale-koordinierung.com
X-WR-CALDESC:Veranstaltungen für Kommunale Koordinierung
REFRESH-INTERVAL;VALUE=DURATION:PT1H
X-Robots-Tag:noindex
X-PUBLISHED-TTL:PT1H
BEGIN:VTIMEZONE
TZID:Europe/Berlin
BEGIN:DAYLIGHT
TZOFFSETFROM:+0100
TZOFFSETTO:+0200
TZNAME:CEST
DTSTART:20240331T010000
END:DAYLIGHT
BEGIN:STANDARD
TZOFFSETFROM:+0200
TZOFFSETTO:+0100
TZNAME:CET
DTSTART:20241027T010000
END:STANDARD
BEGIN:DAYLIGHT
TZOFFSETFROM:+0100
TZOFFSETTO:+0200
TZNAME:CEST
DTSTART:20250330T010000
END:DAYLIGHT
BEGIN:STANDARD
TZOFFSETFROM:+0200
TZOFFSETTO:+0100
TZNAME:CET
DTSTART:20251026T010000
END:STANDARD
BEGIN:DAYLIGHT
TZOFFSETFROM:+0100
TZOFFSETTO:+0200
TZNAME:CEST
DTSTART:20260329T010000
END:DAYLIGHT
BEGIN:STANDARD
TZOFFSETFROM:+0200
TZOFFSETTO:+0100
TZNAME:CET
DTSTART:20261025T010000
END:STANDARD
END:VTIMEZONE
BEGIN:VEVENT
DTSTART;TZID=Europe/Berlin:20250226T140000
DTEND;TZID=Europe/Berlin:20250226T160000
DTSTAMP:20260421T152555
CREATED:20250127T102608Z
LAST-MODIFIED:20250127T104252Z
UID:50313-1740578400-1740585600@www.kommunale-koordinierung.com
SUMMARY:StuBo-Arbeitskreis der Gesamtschulen am 26.02.
DESCRIPTION:Wir laden alle Düsseldorfer Gesamtschulen herzlich zur nächsten StuBo-Arbeitskreissitzung ein. Bitte melden Sie sich unten zu der Veranstaltung an. \nThemen werden u. a. sein: Karriere im Handwerk\, Vorstellung der neuen Düsseldorfer Schulamtskoordinatorinnen und der neuen KoKo-Leitung\, Verabschiedung Herr Nachtwey\, Verantwortungskette\, Termine im 2. Schulhalbjahr \nOrt:\nStiftung PRO AUSBILDUNG\nAchenbachstr. 28\n40237 Düsseldorf \nOffizielle Einladung \nBei Fragen wenden Sie sich bitte an:\nChristiane Stedeler-Gabriel\nTelefon: 0211 896513\nE-Mail: christiane.stedelergabriel@duesseldorf.de \nDer Arbeitskreis ist eine gemeinsame Veranstaltung der Kommunalen Koordinierung Düsseldorf und des Kompetenzzentrums Berufliche Orientierung mit der Schulaufsicht der Landeshauptstadt Düsseldorf. \n\n \n\n\n\nVorname *\n\n\nNachname *\n\n\n\n\nSchule/Institution *\n\n\n\n\nE-Mail Adresse *\n\n\n\n\nGDPR *Ja\, ich bin mit den Datenschutzbestimmungen einverstanden.\n\n\n\n\n\n \n\n \n\n\nNachricht senden
URL:https://www.kommunale-koordinierung.com/event/stubo-arbeitskreis-der-gesamtschulen-am-26-02/
LOCATION:Stiftung PRO AUSBILDUNG\, Achenbachstr. 28\, Düsseldorf\, 40237
CATEGORIES:Berufliche Orientierung,StuBo-Arbeitskreis,StuBos
END:VEVENT
END:VCALENDAR