BEGIN:VCALENDAR
VERSION:2.0
PRODID:-//Kommunale Koordinierung - ECPv6.15.20//NONSGML v1.0//EN
CALSCALE:GREGORIAN
METHOD:PUBLISH
X-ORIGINAL-URL:https://www.kommunale-koordinierung.com
X-WR-CALDESC:Veranstaltungen für Kommunale Koordinierung
REFRESH-INTERVAL;VALUE=DURATION:PT1H
X-Robots-Tag:noindex
X-PUBLISHED-TTL:PT1H
BEGIN:VTIMEZONE
TZID:Europe/Berlin
BEGIN:DAYLIGHT
TZOFFSETFROM:+0100
TZOFFSETTO:+0200
TZNAME:CEST
DTSTART:20240331T010000
END:DAYLIGHT
BEGIN:STANDARD
TZOFFSETFROM:+0200
TZOFFSETTO:+0100
TZNAME:CET
DTSTART:20241027T010000
END:STANDARD
BEGIN:DAYLIGHT
TZOFFSETFROM:+0100
TZOFFSETTO:+0200
TZNAME:CEST
DTSTART:20250330T010000
END:DAYLIGHT
BEGIN:STANDARD
TZOFFSETFROM:+0200
TZOFFSETTO:+0100
TZNAME:CET
DTSTART:20251026T010000
END:STANDARD
BEGIN:DAYLIGHT
TZOFFSETFROM:+0100
TZOFFSETTO:+0200
TZNAME:CEST
DTSTART:20260329T010000
END:DAYLIGHT
BEGIN:STANDARD
TZOFFSETFROM:+0200
TZOFFSETTO:+0100
TZNAME:CET
DTSTART:20261025T010000
END:STANDARD
END:VTIMEZONE
BEGIN:VEVENT
DTSTART;TZID=Europe/Berlin:20250210T143000
DTEND;TZID=Europe/Berlin:20250213T163000
DTSTAMP:20260421T184414
CREATED:20250129T125337Z
LAST-MODIFIED:20250129T125337Z
UID:50329-1739197800-1739464200@www.kommunale-koordinierung.com
SUMMARY:Entdeckertage: Ausbildung zur Erzieherin oder zum Erzieher
DESCRIPTION:Entdecke die vielseitigen Möglichkeiten der Ausbildung zur Erzieherin oder zum Erzieher! \nBei den Entdeckertagen wirfst du einen Blick hinter die Kulissen und erfährst\, wie wir Kinder und Jugendliche in ihrer Entwicklung begleiten und fördern. Du siehst\, wie vielseitig\, kreativ und sinnstiftend die Arbeit in diesem Bereich ist.\nEs sind Schnuppernachmittage in der Offenen Ganztagsschule (OGS)\, im Familien- oder Kinderhilfezentrum und in den Häusern Kinder\, Jugendliche und Familien möglich. \nHier kannst du das Angebot einsehen und dich anmelden: www.duesseldorf.de/jugendamt/jobs \n 
URL:https://www.kommunale-koordinierung.com/event/entdeckertage-ausbildung-zur-erzieherin-oder-zum-erzieher/
LOCATION:Düsseldorf
CATEGORIES:Ausbildung,Berufliche Orientierung,Eltern & Teens,Mit Anmeldung
END:VEVENT
BEGIN:VEVENT
DTSTART;TZID=Europe/Berlin:20250210T170000
DTEND;TZID=Europe/Berlin:20250220T210000
DTSTAMP:20260421T184414
CREATED:20250129T130458Z
LAST-MODIFIED:20250129T131651Z
UID:50332-1739206800-1740085200@www.kommunale-koordinierung.com
SUMMARY:Wochen der digitalen Elternabende der Agentur für Arbeit
DESCRIPTION:Ihr Kind steht kurz vor dem Abschluss und die Suche nach dem passenden dualen Studium oder Ausbildungsplatz steht noch an? \nDie Bundesagentur für Arbeit veranstaltet vom 10. bis 20. Februar 2025 zum vierten Mal die digitalen Elternabende. Hier wird Ihnen als Eltern und Ihren Kindern die Möglichkeit geboten\, Branchen und Unternehmen mit deren Ausbildungs- und Studienmöglichkeiten in einer kompakten Stunde hautnah kennenzulernen. \nSie erhalten Einblicke in: \n\nverschiedene Wirtschaftszweige\ndie Rahmenbedingungen der Ausbildung / des dualen Studiums\ndie Unternehmenskultur\nMöglichkeiten für Nachwuchskräfte nach einer erfolgreichen Ausbildung / einem erfolgreichen dualen Studium im Unternehmen / in der Branche\nBerichte von Azubis und dual Studierenden\, wie sie es geschafft haben\, das Bewerbungsverfahren zu bestehen und wie es ihnen während der Ausbildung / des dualen Studiums ergeht\n\nKommen Sie mit spannenden Branchen und Unternehmen ins Gespräch! \nMehr Infos und die Links zu den Veranstaltungen finden Sie hier.
URL:https://www.kommunale-koordinierung.com/event/wochen-der-digitalen-elternabende-der-agentur-fuer-arbeit/
LOCATION:Online
CATEGORIES:Ausbildung,Berufliche Orientierung,Eltern & Teens,Studienorientierung
END:VEVENT
BEGIN:VEVENT
DTSTART;TZID=Europe/Berlin:20250212T093000
DTEND;TZID=Europe/Berlin:20250212T123000
DTSTAMP:20260421T184414
CREATED:20240815T075239Z
LAST-MODIFIED:20241028T084345Z
UID:48845-1739352600-1739363400@www.kommunale-koordinierung.com
SUMMARY:Offene Sprechstunde der Reha-Beratung am 12.02.
DESCRIPTION:Die Agentur für Arbeit Düsseldorf bietet für Jugendliche mit besonderem Förderbedarf\, zusätzlich zur bekannten allgemeinen Berufsberatung\, die Beratung durch speziell geschulte Reha-Berufsberater*innen an. \nDie offene Sprechstunde der Reha-Beratung findet jeden zweiten Mittwoch im Monat von 09:30-12:30 Uhr im Zentrum für Berufsorientierung und Übergänge\, 4. Etage\, rechter Flur\, statt. \nEltern\, Lehrkräfte und Schüler*innen können ohne Anmeldung vorbeikommen und sich vom Reha-Beratungsteam der Agentur für Arbeit beraten lassen. \nBeim Besuch mit einer Gruppe von bis zu 5 Schüler*innen mit Begleitung bitten wir um eine Voranmeldung. \nFür Rückfragen steht Ihnen Frau Frost gern zur Verfügung! \nKontakt Reha-Beratung:\nAgentur für Arbeit Düsseldorf – Team Reha/SB\nDuesseldorf.261-Reha@arbeitsagentur.de
URL:https://www.kommunale-koordinierung.com/event/offene-sprechstunde-der-reha-beratung-am-12-02/
LOCATION:ZBÜ\, Willi-Becker-Allee 10\, Düsseldorf\, 40227\, Deutschland
CATEGORIES:Berufliche Orientierung,BO mit Förderbedarf
END:VEVENT
BEGIN:VEVENT
DTSTART;TZID=Europe/Berlin:20250212T093000
DTEND;TZID=Europe/Berlin:20250212T163000
DTSTAMP:20260421T184414
CREATED:20240826T122256Z
LAST-MODIFIED:20250526T063527Z
UID:49058-1739352600-1739377800@www.kommunale-koordinierung.com
SUMMARY:Studienwahl-Workshop der HHU
DESCRIPTION:Wie geht es nach der Schule weiter? \nAlle um Dich herum haben schon einen Plan für die Zeit nach dem Abitur\, aber Du weißt noch nicht\, wo es hingehen soll? Überflutet Dich die scheinbar unermessliche Anzahl von Optionen oder bist Du vielseitig interessiert und kannst Dich nicht entscheiden? Vielleicht zweifelst Du auch an Deinen Fähigkeiten und glaubst\, man bräuchte besondere Talente\, um bestimmte Studiengänge schaffen zu können. \nIn unserem Studienwahlworkshop bieten wir Dir die Gelegenheit\, Dich intensiv mit dem Studienwahlprozess auseinander zu setzen und Deine individuellen Fragen zur Studienwahl zu klären. \nDie Plätze sind begrenzt und eine Anmeldung ist erforderlich. \nHier findet der Workshop statt:\nHeinrich-Heine-Universität Düsseldorf\nStudierenden Service Center (SSC); Gebäude 21.02 \nWeitere Infos findest du hier.
URL:https://www.kommunale-koordinierung.com/event/studienwahl-workshop-der-hhu-2/
LOCATION:Heinrich-Heine-Universität\, Studierenden Service Center (SSC)\, Gebäude 21.02\, Universitätsstraße 1\, Düsseldorf\, Nordrhein-Westfalen\, 40225\, Deutschland
CATEGORIES:Mit Anmeldung,Studienorientierung
END:VEVENT
BEGIN:VEVENT
DTSTART;TZID=Europe/Berlin:20250212T140000
DTEND;TZID=Europe/Berlin:20250212T160000
DTSTAMP:20260421T184414
CREATED:20250115T125239Z
LAST-MODIFIED:20250115T133133Z
UID:50179-1739368800-1739376000@www.kommunale-koordinierung.com
SUMMARY:StuBo-Arbeitskreis der Hauptschulen und Förderschulen (LE u. ESE) am 12.02.
DESCRIPTION:Alle Düsseldorfer Hauptschulen und Förderschulen mit dem Schwerpunkt LE und ESE sind herzlich zum nächsten StuBo-Arbeitskreis eingeladen! \nOrt:\nStiftung PRO Ausbildung\nAchenbachstr. 28\n40237 Düsseldorf \nOffizielle Einladung \nBitte melden Sie sich unten für die Veranstaltung an. \nBei Fragen oder Anmerkungen wenden Sie sich bitte an:\nTeresa Zabori\nTelefon: 0211 8998977\nE-Mail: teresa.zabori@duesseldorf.de \nDer Arbeitskreis ist eine gemeinsame Veranstaltung der Kommunalen Koordinierung Düsseldorf und der Schulaufsicht der Landeshauptstadt Düsseldorf. \n\n \n\n\n\nVorname *\n\n\nNachname *\n\n\n\n\nSchule/Institution *\n\n\n\n\nE-Mail Adresse *\n\n\n\n\nGDPR *Ja\, ich bin mit den Datenschutzbestimmungen einverstanden.\n\n\n \n\n\nNachricht senden
URL:https://www.kommunale-koordinierung.com/event/stubo-arbeitskreis-der-hauptschulen-und-foerderschulen-le-u-ese/
LOCATION:Stiftung PRO AUSBILDUNG\, Achenbachstr. 28\, Düsseldorf\, 40237
CATEGORIES:Berufliche Orientierung,StuBo-Arbeitskreis,StuBos
END:VEVENT
END:VCALENDAR