BEGIN:VCALENDAR
VERSION:2.0
PRODID:-//Kommunale Koordinierung - ECPv6.15.20//NONSGML v1.0//EN
CALSCALE:GREGORIAN
METHOD:PUBLISH
X-WR-CALNAME:Kommunale Koordinierung
X-ORIGINAL-URL:https://www.kommunale-koordinierung.com
X-WR-CALDESC:Veranstaltungen für Kommunale Koordinierung
REFRESH-INTERVAL;VALUE=DURATION:PT1H
X-Robots-Tag:noindex
X-PUBLISHED-TTL:PT1H
BEGIN:VTIMEZONE
TZID:Europe/Berlin
BEGIN:DAYLIGHT
TZOFFSETFROM:+0100
TZOFFSETTO:+0200
TZNAME:CEST
DTSTART:20240331T010000
END:DAYLIGHT
BEGIN:STANDARD
TZOFFSETFROM:+0200
TZOFFSETTO:+0100
TZNAME:CET
DTSTART:20241027T010000
END:STANDARD
BEGIN:DAYLIGHT
TZOFFSETFROM:+0100
TZOFFSETTO:+0200
TZNAME:CEST
DTSTART:20250330T010000
END:DAYLIGHT
BEGIN:STANDARD
TZOFFSETFROM:+0200
TZOFFSETTO:+0100
TZNAME:CET
DTSTART:20251026T010000
END:STANDARD
BEGIN:DAYLIGHT
TZOFFSETFROM:+0100
TZOFFSETTO:+0200
TZNAME:CEST
DTSTART:20260329T010000
END:DAYLIGHT
BEGIN:STANDARD
TZOFFSETFROM:+0200
TZOFFSETTO:+0100
TZNAME:CET
DTSTART:20261025T010000
END:STANDARD
END:VTIMEZONE
BEGIN:VEVENT
DTSTART;TZID=Europe/Berlin:20250210T143000
DTEND;TZID=Europe/Berlin:20250213T163000
DTSTAMP:20260421T174439
CREATED:20250129T125337Z
LAST-MODIFIED:20250129T125337Z
UID:50329-1739197800-1739464200@www.kommunale-koordinierung.com
SUMMARY:Entdeckertage: Ausbildung zur Erzieherin oder zum Erzieher
DESCRIPTION:Entdecke die vielseitigen Möglichkeiten der Ausbildung zur Erzieherin oder zum Erzieher! \nBei den Entdeckertagen wirfst du einen Blick hinter die Kulissen und erfährst\, wie wir Kinder und Jugendliche in ihrer Entwicklung begleiten und fördern. Du siehst\, wie vielseitig\, kreativ und sinnstiftend die Arbeit in diesem Bereich ist.\nEs sind Schnuppernachmittage in der Offenen Ganztagsschule (OGS)\, im Familien- oder Kinderhilfezentrum und in den Häusern Kinder\, Jugendliche und Familien möglich. \nHier kannst du das Angebot einsehen und dich anmelden: www.duesseldorf.de/jugendamt/jobs \n 
URL:https://www.kommunale-koordinierung.com/event/entdeckertage-ausbildung-zur-erzieherin-oder-zum-erzieher/
LOCATION:Düsseldorf
CATEGORIES:Ausbildung,Berufliche Orientierung,Eltern & Teens,Mit Anmeldung
END:VEVENT
BEGIN:VEVENT
DTSTART;TZID=Europe/Berlin:20250210T170000
DTEND;TZID=Europe/Berlin:20250220T210000
DTSTAMP:20260421T174439
CREATED:20250129T130458Z
LAST-MODIFIED:20250129T131651Z
UID:50332-1739206800-1740085200@www.kommunale-koordinierung.com
SUMMARY:Wochen der digitalen Elternabende der Agentur für Arbeit
DESCRIPTION:Ihr Kind steht kurz vor dem Abschluss und die Suche nach dem passenden dualen Studium oder Ausbildungsplatz steht noch an? \nDie Bundesagentur für Arbeit veranstaltet vom 10. bis 20. Februar 2025 zum vierten Mal die digitalen Elternabende. Hier wird Ihnen als Eltern und Ihren Kindern die Möglichkeit geboten\, Branchen und Unternehmen mit deren Ausbildungs- und Studienmöglichkeiten in einer kompakten Stunde hautnah kennenzulernen. \nSie erhalten Einblicke in: \n\nverschiedene Wirtschaftszweige\ndie Rahmenbedingungen der Ausbildung / des dualen Studiums\ndie Unternehmenskultur\nMöglichkeiten für Nachwuchskräfte nach einer erfolgreichen Ausbildung / einem erfolgreichen dualen Studium im Unternehmen / in der Branche\nBerichte von Azubis und dual Studierenden\, wie sie es geschafft haben\, das Bewerbungsverfahren zu bestehen und wie es ihnen während der Ausbildung / des dualen Studiums ergeht\n\nKommen Sie mit spannenden Branchen und Unternehmen ins Gespräch! \nMehr Infos und die Links zu den Veranstaltungen finden Sie hier.
URL:https://www.kommunale-koordinierung.com/event/wochen-der-digitalen-elternabende-der-agentur-fuer-arbeit/
LOCATION:Online
CATEGORIES:Ausbildung,Berufliche Orientierung,Eltern & Teens,Studienorientierung
END:VEVENT
END:VCALENDAR