BEGIN:VCALENDAR
VERSION:2.0
PRODID:-//Kommunale Koordinierung - ECPv6.15.20//NONSGML v1.0//EN
CALSCALE:GREGORIAN
METHOD:PUBLISH
X-WR-CALNAME:Kommunale Koordinierung
X-ORIGINAL-URL:https://www.kommunale-koordinierung.com
X-WR-CALDESC:Veranstaltungen für Kommunale Koordinierung
REFRESH-INTERVAL;VALUE=DURATION:PT1H
X-Robots-Tag:noindex
X-PUBLISHED-TTL:PT1H
BEGIN:VTIMEZONE
TZID:Europe/Berlin
BEGIN:DAYLIGHT
TZOFFSETFROM:+0100
TZOFFSETTO:+0200
TZNAME:CEST
DTSTART:20240331T010000
END:DAYLIGHT
BEGIN:STANDARD
TZOFFSETFROM:+0200
TZOFFSETTO:+0100
TZNAME:CET
DTSTART:20241027T010000
END:STANDARD
BEGIN:DAYLIGHT
TZOFFSETFROM:+0100
TZOFFSETTO:+0200
TZNAME:CEST
DTSTART:20250330T010000
END:DAYLIGHT
BEGIN:STANDARD
TZOFFSETFROM:+0200
TZOFFSETTO:+0100
TZNAME:CET
DTSTART:20251026T010000
END:STANDARD
BEGIN:DAYLIGHT
TZOFFSETFROM:+0100
TZOFFSETTO:+0200
TZNAME:CEST
DTSTART:20260329T010000
END:DAYLIGHT
BEGIN:STANDARD
TZOFFSETFROM:+0200
TZOFFSETTO:+0100
TZNAME:CET
DTSTART:20261025T010000
END:STANDARD
END:VTIMEZONE
BEGIN:VEVENT
DTSTART;VALUE=DATE:20250111
DTEND;VALUE=DATE:20250208
DTSTAMP:20260421T201655
CREATED:20250106T101802Z
LAST-MODIFIED:20250106T102847Z
UID:50052-1736553600-1738972799@www.kommunale-koordinierung.com
SUMMARY:Wochen der Studienorientierung HSD
DESCRIPTION:Eine gute Gelegenheit für Studieninteressierte\, sich früh­zeitig zu informieren und Klar­heit über die eigenen Ziele zu be­kommen. Informationen zu allen Veranstaltungen an der HSD finden Sie in hier: \nhttps://www.hs-duesseldorf.de/studium/beratung_und_kontakt/studienberatung/studieninteressierte/veranstaltungen-workshops/wochen-der-studienorientierung
URL:https://www.kommunale-koordinierung.com/event/wochen-der-studienorientierung-hsd/
LOCATION:Hochschule Düsseldorf\, Münsterstraße 156\, 40476 Düsseldorf\, Deutschland
CATEGORIES:Berufliche Orientierung,Eltern & Teens,Studienorientierung
END:VEVENT
BEGIN:VEVENT
DTSTART;TZID=Europe/Berlin:20250123T140000
DTEND;TZID=Europe/Berlin:20250123T150000
DTSTAMP:20260421T201655
CREATED:20250106T103307Z
LAST-MODIFIED:20250106T103307Z
UID:50058-1737640800-1737644400@www.kommunale-koordinierung.com
SUMMARY:Bewerbung für gestalterische Studiengänge der HSD (Architektur und Design)
DESCRIPTION:Du bist kreativ und möchtest selber gestalten und kreieren? Vielleicht ist das ja was für Dich: \nhttps://www.hs-duesseldorf.de/moege-die-zsb-mit-dir-sein
URL:https://www.kommunale-koordinierung.com/event/bewerbung-fuer-gestalterische-studiengaenge-der-hsd-architektur-und-design/
LOCATION:Online
CATEGORIES:Berufliche Orientierung,Eltern & Teens,Studienorientierung
END:VEVENT
BEGIN:VEVENT
DTSTART;TZID=Europe/Berlin:20250123T140000
DTEND;TZID=Europe/Berlin:20250123T160000
DTSTAMP:20260421T201655
CREATED:20241216T090200Z
LAST-MODIFIED:20241216T091900Z
UID:50009-1737640800-1737648000@www.kommunale-koordinierung.com
SUMMARY:StuBo-Arbeitskreis der Berufskollegs am 23.01.
DESCRIPTION:Wir laden alle Düsseldorfer Berufskollegs herzlich zur nächsten StuBo-Arbeitskreissitzung der Berufskollegs ein. \nBitte melden Sie sich unten zu der Veranstaltung an. \nOrt:\nStiftung PRO AUSBILDUNG\nAchenbachstr. 28\n40237 Düsseldorf \nThemen der Sitzung werden u. a. sein: \nAktuelles aus KAoA\, Termine 2025\, Karriere im Handwerk\, Schulbewerbung \nOffizielle Einladung \n\n \n\n\n\nVorname *\n\n\nNachname *\n\n\n\n\nSchule/Institution *\n\n\n\n\nE-Mail Adresse *\n\n\n\n\n\nConsent * \n \nYes\, I agree with the privacy policy and terms and conditions.\n\n\n\n\n \n\n\nNachricht senden\n\n\n\nBei Fragen wenden Sie sich bitte an:\nChristiane Stedeler-Gabriel\nTelefon: 0211 8996513\nE-Mail: christiane.stedelergabriel@duesseldorf.de \nDer Arbeitskreis ist eine gemeinsame Veranstaltung der Kommunalen Koordinierung Düsseldorf und des Kompetenzzentrums Berufliche Orientierung mit der Schulaufsicht der Landeshauptstadt Düsseldorf.
URL:https://www.kommunale-koordinierung.com/event/stubo-arbeitskreis-der-berufskollegs-am-23-01/
LOCATION:Stiftung PRO AUSBILDUNG\, Achenbachstr. 28\, Düsseldorf\, 40237
CATEGORIES:Mit Anmeldung,StuBo-Arbeitskreis
END:VEVENT
END:VCALENDAR