BEGIN:VCALENDAR
VERSION:2.0
PRODID:-//Kommunale Koordinierung - ECPv6.15.20//NONSGML v1.0//EN
CALSCALE:GREGORIAN
METHOD:PUBLISH
X-ORIGINAL-URL:https://www.kommunale-koordinierung.com
X-WR-CALDESC:Veranstaltungen für Kommunale Koordinierung
REFRESH-INTERVAL;VALUE=DURATION:PT1H
X-Robots-Tag:noindex
X-PUBLISHED-TTL:PT1H
BEGIN:VTIMEZONE
TZID:Europe/Berlin
BEGIN:DAYLIGHT
TZOFFSETFROM:+0100
TZOFFSETTO:+0200
TZNAME:CEST
DTSTART:20240331T010000
END:DAYLIGHT
BEGIN:STANDARD
TZOFFSETFROM:+0200
TZOFFSETTO:+0100
TZNAME:CET
DTSTART:20241027T010000
END:STANDARD
BEGIN:DAYLIGHT
TZOFFSETFROM:+0100
TZOFFSETTO:+0200
TZNAME:CEST
DTSTART:20250330T010000
END:DAYLIGHT
BEGIN:STANDARD
TZOFFSETFROM:+0200
TZOFFSETTO:+0100
TZNAME:CET
DTSTART:20251026T010000
END:STANDARD
BEGIN:DAYLIGHT
TZOFFSETFROM:+0100
TZOFFSETTO:+0200
TZNAME:CEST
DTSTART:20260329T010000
END:DAYLIGHT
BEGIN:STANDARD
TZOFFSETFROM:+0200
TZOFFSETTO:+0100
TZNAME:CET
DTSTART:20261025T010000
END:STANDARD
END:VTIMEZONE
BEGIN:VEVENT
DTSTART;VALUE=DATE:20250111
DTEND;VALUE=DATE:20250208
DTSTAMP:20260421T192106
CREATED:20250106T101802Z
LAST-MODIFIED:20250106T102847Z
UID:50052-1736553600-1738972799@www.kommunale-koordinierung.com
SUMMARY:Wochen der Studienorientierung HSD
DESCRIPTION:Eine gute Gelegenheit für Studieninteressierte\, sich früh­zeitig zu informieren und Klar­heit über die eigenen Ziele zu be­kommen. Informationen zu allen Veranstaltungen an der HSD finden Sie in hier: \nhttps://www.hs-duesseldorf.de/studium/beratung_und_kontakt/studienberatung/studieninteressierte/veranstaltungen-workshops/wochen-der-studienorientierung
URL:https://www.kommunale-koordinierung.com/event/wochen-der-studienorientierung-hsd/
LOCATION:Hochschule Düsseldorf\, Münsterstraße 156\, 40476 Düsseldorf\, Deutschland
CATEGORIES:Berufliche Orientierung,Eltern & Teens,Studienorientierung
END:VEVENT
BEGIN:VEVENT
DTSTART;VALUE=DATE:20250113
DTEND;VALUE=DATE:20250118
DTSTAMP:20260421T192106
CREATED:20211012T100857Z
LAST-MODIFIED:20251113T125620Z
UID:25728-1736726400-1737158399@www.kommunale-koordinierung.com
SUMMARY:Woche der Studienorientierung an der HHU
DESCRIPTION:Auch 2025 heißt es wieder: Campusluft schnuppern\, Vorlesungen besuchen\, mit Lehrenden und Studierenden ins Gespräch kommen\, Einrichtungen unserer Universität kennen lernen und Angebote der Studienberatung nutzen – so kannst Du schon vor dem Abitur Informationen über Studienfächer\, Berufsperspektiven\, Bewerbungsverfahren und Zugangsvoraussetzungen erhalten. \nDie nächste Woche der Studienorientierung findet an der Heinrich-Heine-Universität Düsseldorf vom 13.01.-17.01.2025 statt. Die Woche steht unter dem Motto „5 Tage – 5 Fakultäten“. An jedem dieser Tage wird sich eine Fakultät mit Live-Vorträgen\, geöffneten Sprechstunden etc. vorstellen. \nWeitere Infos gibt es hier.
URL:https://www.kommunale-koordinierung.com/event/woche-der-studienorientierung/
LOCATION:Heinrich-Heine-Universität\, Universitätsstraße 1\, Düsseldorf\, 40225\, Deutschland
CATEGORIES:Studienorientierung
END:VEVENT
BEGIN:VEVENT
DTSTART;VALUE=DATE:20250113
DTEND;VALUE=DATE:20250118
DTSTAMP:20260421T192106
CREATED:20240909T094752Z
LAST-MODIFIED:20250113T113437Z
UID:49224-1736726400-1737158399@www.kommunale-koordinierung.com
SUMMARY:Duales Orientierungspraktikum (DOP)
DESCRIPTION:Eine Woche lang Studierende*r sein? Und danach ein bis zwei Wochen deine Studienwahlentscheidung in der Praxis durch ein Praktikum festigen? Das geht – beim Dualen Orientierungspraktikum! Das Programm setzt sich aus zwei Bausteinen zusammen: \n\nVor-Ort Besuche von Seminaren und Vorlesungen an der Heinrich-Heine-Universität Düsseldorf\nEinem Praktikum in einem Unternehmen deiner Wahl (wird durch deine Schule vorbereitet und organisiert).\n\nWeitere Informationen findest du hier:\nwww.dop-dus.de
URL:https://www.kommunale-koordinierung.com/event/duales-orientierungspraktikum-dop/
LOCATION:Heinrich-Heine-Universität\, Universitätsstraße 1\, Düsseldorf\, 40225\, Deutschland
CATEGORIES:Studienorientierung
END:VEVENT
BEGIN:VEVENT
DTSTART;TZID=Europe/Berlin:20250115T140000
DTEND;TZID=Europe/Berlin:20250115T150000
DTSTAMP:20260421T192106
CREATED:20241017T080355Z
LAST-MODIFIED:20241017T081020Z
UID:49333-1736949600-1736953200@www.kommunale-koordinierung.com
SUMMARY:DTBO 2025: 1. Informationsveranstaltung für Lehrkräfte
DESCRIPTION:Für die kommende Durchführung der DTBO bieten wir eine kurzweilige Informationsveranstaltung für alle StuBos und Klassenleitungen an. \nThemen sind:\n– Evaluation der vergangenen Durchführung\n– Das Buchungsportal: (neue) Funktionen\, Registrierungs- und Buchungsprozess der Schüler*innen\n– Terminübersicht: 1. Reservierungsphase\, 2. Buchungsphase\n– Wichtige Dokumente für Schüler*innen und Eltern\n– Ihre Fragen \nBitte melden Sie sich bis Donnerstag\, 09.01.25 an. Sie erhalten im Anschluss einen MS-Teamslink\, über den Sie direkt zur Veranstaltung gelangen. \n\n \n\n\n\nVorname *\n\n\nNachname *\n\n\n\n\nSchule *\n\n\n\n\nE-Mail Adresse *\n\n\n\n\nGDPR *Ja\, ich bin mit den Datenschutzbestimmungen einverstanden.\n\n\n \n\n\nNachricht senden
URL:https://www.kommunale-koordinierung.com/event/dtbo-2025-informationsveranstaltung-fuer-lehrkraefte/
LOCATION:MS Teams
CATEGORIES:Berufliche Orientierung,Lehrkräfte
END:VEVENT
END:VCALENDAR