BEGIN:VCALENDAR
VERSION:2.0
PRODID:-//Kommunale Koordinierung - ECPv6.15.20//NONSGML v1.0//EN
CALSCALE:GREGORIAN
METHOD:PUBLISH
X-ORIGINAL-URL:https://www.kommunale-koordinierung.com
X-WR-CALDESC:Veranstaltungen für Kommunale Koordinierung
REFRESH-INTERVAL;VALUE=DURATION:PT1H
X-Robots-Tag:noindex
X-PUBLISHED-TTL:PT1H
BEGIN:VTIMEZONE
TZID:Europe/Berlin
BEGIN:DAYLIGHT
TZOFFSETFROM:+0100
TZOFFSETTO:+0200
TZNAME:CEST
DTSTART:20230326T010000
END:DAYLIGHT
BEGIN:STANDARD
TZOFFSETFROM:+0200
TZOFFSETTO:+0100
TZNAME:CET
DTSTART:20231029T010000
END:STANDARD
BEGIN:DAYLIGHT
TZOFFSETFROM:+0100
TZOFFSETTO:+0200
TZNAME:CEST
DTSTART:20240331T010000
END:DAYLIGHT
BEGIN:STANDARD
TZOFFSETFROM:+0200
TZOFFSETTO:+0100
TZNAME:CET
DTSTART:20241027T010000
END:STANDARD
BEGIN:DAYLIGHT
TZOFFSETFROM:+0100
TZOFFSETTO:+0200
TZNAME:CEST
DTSTART:20250330T010000
END:DAYLIGHT
BEGIN:STANDARD
TZOFFSETFROM:+0200
TZOFFSETTO:+0100
TZNAME:CET
DTSTART:20251026T010000
END:STANDARD
END:VTIMEZONE
BEGIN:VEVENT
DTSTART;TZID=Europe/Berlin:20241206T160000
DTEND;TZID=Europe/Berlin:20241206T190000
DTSTAMP:20260421T215913
CREATED:20241024T092727Z
LAST-MODIFIED:20250813T093543Z
UID:49428-1733500800-1733511600@www.kommunale-koordinierung.com
SUMMARY:kombabb-Kompetenzzentrum Studieren mit psychischen Erkrankungen
DESCRIPTION:Online-Info-Veranstaltung zum Thema „Studieren mit psychischer Beeinträchtigung – Infos & Erfahrungen aus der Praxis“: \nWer: kombabb-Kompetenzzentrum Behinderung\, Studium\, Beruf NRW. \nWann: Freitag\, der 06. Dezember 2024\, von 16 bis 19 Uhr. \nWie: Online (über Zoom). \nAnmeldung: Per E-Mail an kontakt@kombabb.de. \nHinweis zur Barrierefreiheit: Die Veranstaltung wird begleitet von Schriftdolmetschung. Sofern zusätzliche Formen an Unterstützung benötigt werden\, bitten wir zwecks Planung um möglichst zeitnahe Rückmeldung (bis spät. 29. November 2024). \nWeitere Informationen zur Veranstaltung: kombabb-Kompetenzzentrum \nFlyer
URL:https://www.kommunale-koordinierung.com/event/kombabb-kompetenzzentrum/
LOCATION:Online
CATEGORIES:Berufliche Orientierung,Berufskolleg,BO mit Förderbedarf,Eltern & Teens
END:VEVENT
END:VCALENDAR