BEGIN:VCALENDAR
VERSION:2.0
PRODID:-//Kommunale Koordinierung - ECPv6.15.20//NONSGML v1.0//EN
CALSCALE:GREGORIAN
METHOD:PUBLISH
X-ORIGINAL-URL:https://www.kommunale-koordinierung.com
X-WR-CALDESC:Veranstaltungen für Kommunale Koordinierung
REFRESH-INTERVAL;VALUE=DURATION:PT1H
X-Robots-Tag:noindex
X-PUBLISHED-TTL:PT1H
BEGIN:VTIMEZONE
TZID:Europe/Berlin
BEGIN:DAYLIGHT
TZOFFSETFROM:+0100
TZOFFSETTO:+0200
TZNAME:CEST
DTSTART:20230326T010000
END:DAYLIGHT
BEGIN:STANDARD
TZOFFSETFROM:+0200
TZOFFSETTO:+0100
TZNAME:CET
DTSTART:20231029T010000
END:STANDARD
BEGIN:DAYLIGHT
TZOFFSETFROM:+0100
TZOFFSETTO:+0200
TZNAME:CEST
DTSTART:20240331T010000
END:DAYLIGHT
BEGIN:STANDARD
TZOFFSETFROM:+0200
TZOFFSETTO:+0100
TZNAME:CET
DTSTART:20241027T010000
END:STANDARD
BEGIN:DAYLIGHT
TZOFFSETFROM:+0100
TZOFFSETTO:+0200
TZNAME:CEST
DTSTART:20250330T010000
END:DAYLIGHT
BEGIN:STANDARD
TZOFFSETFROM:+0200
TZOFFSETTO:+0100
TZNAME:CET
DTSTART:20251026T010000
END:STANDARD
END:VTIMEZONE
BEGIN:VEVENT
DTSTART;TZID=Europe/Berlin:20241205T100000
DTEND;TZID=Europe/Berlin:20241205T113000
DTSTAMP:20260421T205454
CREATED:20241112T113452Z
LAST-MODIFIED:20241112T113452Z
UID:49652-1733392800-1733398200@www.kommunale-koordinierung.com
SUMMARY:BIWENAV-Austauschtreffen 05.12. (intern für beteiligte KoKos)
DESCRIPTION:Bitte melden Sie sich hier zu dem nächsten internen BIWENAV-NRW-Austauschtreffen an. \nNach der Anmeldung erhalten Sie eine automatisch generierte E-Mail mit dem Einwahllink zu der Veranstaltung. \n\n \n\n\n\nVorname *\n\n\nNachname *\n\n\n\n\nKommunale Koordinierungsstelle *\n\n\n\n\nE-Mail Adresse *\n\n\n\n\nGDPR *Ja\, ich bin mit den Datenschutzbestimmungen einverstanden.\n\n\n\n\n\n \n\n \n\n\nNachricht senden
URL:https://www.kommunale-koordinierung.com/event/biwenav-austauschtreffen-05-12-intern-fuer-beteiligte-kokos/
LOCATION:Online
CATEGORIES:Kommunale Koordinierungsstellen,Mit Anmeldung
END:VEVENT
BEGIN:VEVENT
DTSTART;TZID=Europe/Berlin:20241205T160000
DTEND;TZID=Europe/Berlin:20241205T183000
DTSTAMP:20260421T205455
CREATED:20240625T140326Z
LAST-MODIFIED:20240625T140503Z
UID:48466-1733414400-1733423400@www.kommunale-koordinierung.com
SUMMARY:Info-Veranstaltung: Polizei NRW - Genau mein Fall!
DESCRIPTION:Ob Schutzpolizei\, Kriminalpolizei oder Bereitschaftspolizei\, Polizistinnen und Polizisten sind stets im Einsatz für die Wahrung von Ordnung und Sicherheit. Wenn es um den Schutz des Lebens\, der Freiheit und des Eigentums von Mitbürgerinnen und Mitbürgern geht\, sind sie rund um die Uhr ansprechbar. \nAm Do.\, den 05.12. 2024 findet von 16:00 bis 18:30 Uhr ein Informationsabend im Beratungscenter/BiZ Düsseldorf\, Grafenberger Allee 300 statt. Themen sind u. a. die Ausbildung bei der Polizei\, die Einstellungsvoraussetzungen und die verschiedenen beruflichen Einsatzgebiete. Für die Ausbildung sind u. a. die allgemeine Hochschulreife (Abitur) oder die Fachhochschulreife erforderlich. \nWer gerne im Team arbeitet und mit Menschen umgeht\, ist bei der Polizei genau richtig. Jedes Jahr werden zahlreiche Bewerberinnen und Bewerber für die vielfältigen Aufgaben gesucht. Insbesondere junge Frauen haben gute Einstellungschancen. \nEine Anmeldung ist nicht erforderlich. \nWeitere Infos gibt es hier.
URL:https://www.kommunale-koordinierung.com/event/info-veranstaltung-polizei-nrw-genau-mein-fall-2/
LOCATION:Agentur für Arbeit Düsseldorf\, Grafenberger Allee 300\, Düsseldorf\, 40237
CATEGORIES:Ausbildung,Berufliche Orientierung,Eltern & Teens
END:VEVENT
END:VCALENDAR