BEGIN:VCALENDAR
VERSION:2.0
PRODID:-//Kommunale Koordinierung - ECPv6.15.20//NONSGML v1.0//EN
CALSCALE:GREGORIAN
METHOD:PUBLISH
X-ORIGINAL-URL:https://www.kommunale-koordinierung.com
X-WR-CALDESC:Veranstaltungen für Kommunale Koordinierung
REFRESH-INTERVAL;VALUE=DURATION:PT1H
X-Robots-Tag:noindex
X-PUBLISHED-TTL:PT1H
BEGIN:VTIMEZONE
TZID:Europe/Berlin
BEGIN:DAYLIGHT
TZOFFSETFROM:+0100
TZOFFSETTO:+0200
TZNAME:CEST
DTSTART:20230326T010000
END:DAYLIGHT
BEGIN:STANDARD
TZOFFSETFROM:+0200
TZOFFSETTO:+0100
TZNAME:CET
DTSTART:20231029T010000
END:STANDARD
BEGIN:DAYLIGHT
TZOFFSETFROM:+0100
TZOFFSETTO:+0200
TZNAME:CEST
DTSTART:20240331T010000
END:DAYLIGHT
BEGIN:STANDARD
TZOFFSETFROM:+0200
TZOFFSETTO:+0100
TZNAME:CET
DTSTART:20241027T010000
END:STANDARD
BEGIN:DAYLIGHT
TZOFFSETFROM:+0100
TZOFFSETTO:+0200
TZNAME:CEST
DTSTART:20250330T010000
END:DAYLIGHT
BEGIN:STANDARD
TZOFFSETFROM:+0200
TZOFFSETTO:+0100
TZNAME:CET
DTSTART:20251026T010000
END:STANDARD
END:VTIMEZONE
BEGIN:VEVENT
DTSTART;TZID=Europe/Berlin:20241128T120000
DTEND;TZID=Europe/Berlin:20241128T160000
DTSTAMP:20260421T205452
CREATED:20240823T080323Z
LAST-MODIFIED:20240823T081007Z
UID:48952-1732795200-1732809600@www.kommunale-koordinierung.com
SUMMARY:Azubi-Speed-Dating der IHK 28.11.
DESCRIPTION:Bei den Azubi-Speed-Datings stellen sich Jugendliche in zehn Minuten bei einem Unternehmen ihrer Wahl vor und präsentieren ihre Stärken. Der persönliche Eindruck zählt mehr als Noten und Abschlüsse. So überzeugen sie den Ausbilder oder Personaler beim Azubi-Speed-Dating von ihrer Eignung. \nWenn es gut läuft\, kommt es zum „Recall“ und der Jugendliche wird zu einem Bewerbungsgespräch oder Test ins Unternehmen eingeladen und unterschreibt im besten Fall nur wenige Tage oder Wochen nach dem Azubi-Speed-Dating einen Ausbildungsvertrag. \nWeitere Informationen:\nwww.ihk.de/duesseldorf/ausbildung/ausbildungsplatzsuche/azubi-speed-dating-2596294
URL:https://www.kommunale-koordinierung.com/event/azubi-speed-dating-der-ihk-28-11/
LOCATION:Merkur Spiel-Arena (Stadion Fortuna Düsseldorf)\, Arena-Straße 1\, Düsseldorf\, 40474\, Deutschland
CATEGORIES:Ausbildung,Berufliche Orientierung,Eltern & Teens,Lehrkräfte,Messe,StuBos,Studienorientierung
END:VEVENT
END:VCALENDAR