BEGIN:VCALENDAR
VERSION:2.0
PRODID:-//Kommunale Koordinierung - ECPv6.15.20//NONSGML v1.0//EN
CALSCALE:GREGORIAN
METHOD:PUBLISH
X-WR-CALNAME:Kommunale Koordinierung
X-ORIGINAL-URL:https://www.kommunale-koordinierung.com
X-WR-CALDESC:Veranstaltungen für Kommunale Koordinierung
REFRESH-INTERVAL;VALUE=DURATION:PT1H
X-Robots-Tag:noindex
X-PUBLISHED-TTL:PT1H
BEGIN:VTIMEZONE
TZID:Europe/Berlin
BEGIN:DAYLIGHT
TZOFFSETFROM:+0100
TZOFFSETTO:+0200
TZNAME:CEST
DTSTART:20230326T010000
END:DAYLIGHT
BEGIN:STANDARD
TZOFFSETFROM:+0200
TZOFFSETTO:+0100
TZNAME:CET
DTSTART:20231029T010000
END:STANDARD
BEGIN:DAYLIGHT
TZOFFSETFROM:+0100
TZOFFSETTO:+0200
TZNAME:CEST
DTSTART:20240331T010000
END:DAYLIGHT
BEGIN:STANDARD
TZOFFSETFROM:+0200
TZOFFSETTO:+0100
TZNAME:CET
DTSTART:20241027T010000
END:STANDARD
BEGIN:DAYLIGHT
TZOFFSETFROM:+0100
TZOFFSETTO:+0200
TZNAME:CEST
DTSTART:20250330T010000
END:DAYLIGHT
BEGIN:STANDARD
TZOFFSETFROM:+0200
TZOFFSETTO:+0100
TZNAME:CET
DTSTART:20251026T010000
END:STANDARD
END:VTIMEZONE
BEGIN:VEVENT
DTSTART;TZID=Europe/Berlin:20241123T080000
DTEND;TZID=Europe/Berlin:20241123T170000
DTSTAMP:20260421T222831
CREATED:20241024T083613Z
LAST-MODIFIED:20241024T083613Z
UID:49410-1732348800-1732381200@www.kommunale-koordinierung.com
SUMMARY:BK Lore-Lorentz Schule Tag der offenen Tür
DESCRIPTION:  \nAm Samstag\, den 23.11.2024 laden wir Sie herzlich zu unserem diesjährigen Tag der offenen Tür in der Schloßallee 14 und 25 ein. \nVon 10 bis 13 Uhr bieten wir Informationen rund um das vielfältige Angebot von Bildungsgängen an unserem Berufskolleg mit beruflichem Gymnasium. \n  \nWeitere Informationen: \nLore-Lorentz-Schule
URL:https://www.kommunale-koordinierung.com/event/bk-lore-lorentz-schule-tag-der-offenen-tuer/
LOCATION:Lore-Lorentz-Schule\, Schlossallee 14\, Düsseldorf
CATEGORIES:Berufskolleg,Eltern & Teens
END:VEVENT
BEGIN:VEVENT
DTSTART;TZID=Europe/Berlin:20241123T100000
DTEND;TZID=Europe/Berlin:20241123T130000
DTSTAMP:20260421T222831
CREATED:20241024T090323Z
LAST-MODIFIED:20241024T090323Z
UID:49420-1732356000-1732366800@www.kommunale-koordinierung.com
SUMMARY:Walter-Eucken-Berufskolleg Tag der offenen Tür
DESCRIPTION:Am Samstag\, den 23.11.2024 findet am Walter-Eucken-Berufskolleg der Tag der offenen Tür statt. \nZwischen 10:00 und 13:00 Uhr sind Schüler*innen und Eltern eingeladen sich über das Bildungsangebot zu informieren. \n  \nWeitere Informationen: \nWalter-Eucken-Berufskolleg
URL:https://www.kommunale-koordinierung.com/event/walter-eucken-berufskolleg-tag-der-offenen-tuer-2/
LOCATION:Walter-Eucken-Berufskolleg\, Suitbertusstr. 163/165
CATEGORIES:Berufskolleg,Eltern & Teens
END:VEVENT
BEGIN:VEVENT
DTSTART;TZID=Europe/Berlin:20241123T100000
DTEND;TZID=Europe/Berlin:20241123T140000
DTSTAMP:20260421T222831
CREATED:20241024T082150Z
LAST-MODIFIED:20241120T105959Z
UID:49402-1732356000-1732370400@www.kommunale-koordinierung.com
SUMMARY:BK Technisches-Berufskolleg Färberstraße
DESCRIPTION:Am Samstag\, den 23.11.2024 findet am Technischen Berufskolleg Färberstraße der Tag der offenen Tür statt. \nWeitere Informationen:\nTechnisches Berufskolleg Färberstraße
URL:https://www.kommunale-koordinierung.com/event/bk-technisches-berufskolleg-faerberstrasse/
LOCATION:Technisches-Berufskolleg Färberstraße\, Färberstr. 34\, Düsseldorf
CATEGORIES:Berufskolleg,Eltern & Teens
END:VEVENT
BEGIN:VEVENT
DTSTART;TZID=Europe/Berlin:20241123T110000
DTEND;TZID=Europe/Berlin:20241123T140000
DTSTAMP:20260421T222831
CREATED:20241024T075158Z
LAST-MODIFIED:20250714T060709Z
UID:49394-1732359600-1732370400@www.kommunale-koordinierung.com
SUMMARY:BK Kaiserswerther Diakonie - Tag der offenen Tür
DESCRIPTION:Abitur\, Fachabitur oder eine Ausbildung im Sozial- und Gesundheitswesen – Jetzt schon die Zukunft sichern! \nWerden Sie Erzieher*in\, Kinderpfleger*in oder besuchen Sie die Fachoberschule oder das berufliche Gymnasium. Sichern Sie sich schon jetzt einen Ausbildungsplatz für das nächste Schuljahr. Bewerbungen können direkt abgegeben werden!
URL:https://www.kommunale-koordinierung.com/event/bk-kaiserswerther-diakonie-tag-der-offenen-tuer/
LOCATION:Berufskolleg Kaiserswerther Diakonie\, Alte Landstraße 179e\, Düsseldorf\, 40489
CATEGORIES:Berufskolleg,Eltern & Teens
END:VEVENT
END:VCALENDAR