BEGIN:VCALENDAR
VERSION:2.0
PRODID:-//Kommunale Koordinierung - ECPv6.15.20//NONSGML v1.0//EN
CALSCALE:GREGORIAN
METHOD:PUBLISH
X-WR-CALNAME:Kommunale Koordinierung
X-ORIGINAL-URL:https://www.kommunale-koordinierung.com
X-WR-CALDESC:Veranstaltungen für Kommunale Koordinierung
REFRESH-INTERVAL;VALUE=DURATION:PT1H
X-Robots-Tag:noindex
X-PUBLISHED-TTL:PT1H
BEGIN:VTIMEZONE
TZID:Europe/Berlin
BEGIN:DAYLIGHT
TZOFFSETFROM:+0100
TZOFFSETTO:+0200
TZNAME:CEST
DTSTART:20230326T010000
END:DAYLIGHT
BEGIN:STANDARD
TZOFFSETFROM:+0200
TZOFFSETTO:+0100
TZNAME:CET
DTSTART:20231029T010000
END:STANDARD
BEGIN:DAYLIGHT
TZOFFSETFROM:+0100
TZOFFSETTO:+0200
TZNAME:CEST
DTSTART:20240331T010000
END:DAYLIGHT
BEGIN:STANDARD
TZOFFSETFROM:+0200
TZOFFSETTO:+0100
TZNAME:CET
DTSTART:20241027T010000
END:STANDARD
BEGIN:DAYLIGHT
TZOFFSETFROM:+0100
TZOFFSETTO:+0200
TZNAME:CEST
DTSTART:20250330T010000
END:DAYLIGHT
BEGIN:STANDARD
TZOFFSETFROM:+0200
TZOFFSETTO:+0100
TZNAME:CET
DTSTART:20251026T010000
END:STANDARD
END:VTIMEZONE
BEGIN:VEVENT
DTSTART;TZID=Europe/Berlin:20241120T080000
DTEND;TZID=Europe/Berlin:20241120T170000
DTSTAMP:20260421T222824
CREATED:20240129T102309Z
LAST-MODIFIED:20241204T095333Z
UID:47770-1732089600-1732122000@www.kommunale-koordinierung.com
SUMMARY:Sprechstunde der HWK für (Fach-)Abiturient*innen
DESCRIPTION:Die Sprechstunde der Handwerkskammer Düsseldorf bietet Gelegenheit\, in Ruhe individuelle Fragen zu klären und persönliche Empfehlungen durch das Beratungspersonal zu erhalten. Bitte melden Sie sich telefonisch oder per Mail an bei: \nNadine Rosenau\nTel.-Nr.: 0211-8795-607\nE-Mail: nadine.rosenau@hwk-duesseldorf.de \nDie Sprechstunde findet abhängig von Ihren Wünschen telefonisch\, per Zoom-Meeting oder vor Ort in der HWK statt. Zusätzlich zu den Sprechstunden können Sie selbstverständlich auch individuelle Termine vereinbaren.
URL:https://www.kommunale-koordinierung.com/event/sprechstunde-fuer-abiturientinnen-in-der-hwk/
LOCATION:Handwerkskammer Düsseldorf\, Georg-Schulhoff-Platz 1\, Düsseldorf\, 40221\, Deutschland
CATEGORIES:Berufliche Orientierung,Eltern & Teens,Mit Anmeldung
END:VEVENT
END:VCALENDAR