BEGIN:VCALENDAR
VERSION:2.0
PRODID:-//Kommunale Koordinierung - ECPv6.15.20//NONSGML v1.0//EN
CALSCALE:GREGORIAN
METHOD:PUBLISH
X-ORIGINAL-URL:https://www.kommunale-koordinierung.com
X-WR-CALDESC:Veranstaltungen für Kommunale Koordinierung
REFRESH-INTERVAL;VALUE=DURATION:PT1H
X-Robots-Tag:noindex
X-PUBLISHED-TTL:PT1H
BEGIN:VTIMEZONE
TZID:Europe/Berlin
BEGIN:DAYLIGHT
TZOFFSETFROM:+0100
TZOFFSETTO:+0200
TZNAME:CEST
DTSTART:20230326T010000
END:DAYLIGHT
BEGIN:STANDARD
TZOFFSETFROM:+0200
TZOFFSETTO:+0100
TZNAME:CET
DTSTART:20231029T010000
END:STANDARD
BEGIN:DAYLIGHT
TZOFFSETFROM:+0100
TZOFFSETTO:+0200
TZNAME:CEST
DTSTART:20240331T010000
END:DAYLIGHT
BEGIN:STANDARD
TZOFFSETFROM:+0200
TZOFFSETTO:+0100
TZNAME:CET
DTSTART:20241027T010000
END:STANDARD
BEGIN:DAYLIGHT
TZOFFSETFROM:+0100
TZOFFSETTO:+0200
TZNAME:CEST
DTSTART:20250330T010000
END:DAYLIGHT
BEGIN:STANDARD
TZOFFSETFROM:+0200
TZOFFSETTO:+0100
TZNAME:CET
DTSTART:20251026T010000
END:STANDARD
END:VTIMEZONE
BEGIN:VEVENT
DTSTART;TZID=Europe/Berlin:20241115T140000
DTEND;TZID=Europe/Berlin:20241115T170000
DTSTAMP:20260421T223154
CREATED:20241024T074523Z
LAST-MODIFIED:20250225T121120Z
UID:49392-1731679200-1731690000@www.kommunale-koordinierung.com
SUMMARY:Tag der offenen Tür am Berufskolleg Bachstraße
DESCRIPTION:Am Freitag\, den 15. November 2024 findet von 14 bis 17 Uhr der Informationstag des Wirtschaftsgymnasiums\, der Höheren Handelsschule und der Handelsschule am Berufskolleg Bachstraße statt. Wir laden alle Schülerinnen und Schüler sowie Eltern dazu ein\, sich über unsere vollzeitschulischen Weiterbildungsmöglichkeiten nach der Klasse 10 zu informieren. Nutzen Sie die Chance einer individuellen Beratung!
URL:https://www.kommunale-koordinierung.com/event/tag-der-offenen-tuer-am-berufskolleg-bachstrasse-3/
LOCATION:Berufskolleg Bachstraße\, Bachstraße 8\, Düsseldorf\, Deutschland
CATEGORIES:Berufskolleg,Eltern & Teens
END:VEVENT
END:VCALENDAR