BEGIN:VCALENDAR
VERSION:2.0
PRODID:-//Kommunale Koordinierung - ECPv6.15.20//NONSGML v1.0//EN
CALSCALE:GREGORIAN
METHOD:PUBLISH
X-ORIGINAL-URL:https://www.kommunale-koordinierung.com
X-WR-CALDESC:Veranstaltungen für Kommunale Koordinierung
REFRESH-INTERVAL;VALUE=DURATION:PT1H
X-Robots-Tag:noindex
X-PUBLISHED-TTL:PT1H
BEGIN:VTIMEZONE
TZID:Europe/Berlin
BEGIN:DAYLIGHT
TZOFFSETFROM:+0100
TZOFFSETTO:+0200
TZNAME:CEST
DTSTART:20230326T010000
END:DAYLIGHT
BEGIN:STANDARD
TZOFFSETFROM:+0200
TZOFFSETTO:+0100
TZNAME:CET
DTSTART:20231029T010000
END:STANDARD
BEGIN:DAYLIGHT
TZOFFSETFROM:+0100
TZOFFSETTO:+0200
TZNAME:CEST
DTSTART:20240331T010000
END:DAYLIGHT
BEGIN:STANDARD
TZOFFSETFROM:+0200
TZOFFSETTO:+0100
TZNAME:CET
DTSTART:20241027T010000
END:STANDARD
BEGIN:DAYLIGHT
TZOFFSETFROM:+0100
TZOFFSETTO:+0200
TZNAME:CEST
DTSTART:20250330T010000
END:DAYLIGHT
BEGIN:STANDARD
TZOFFSETFROM:+0200
TZOFFSETTO:+0100
TZNAME:CET
DTSTART:20251026T010000
END:STANDARD
END:VTIMEZONE
BEGIN:VEVENT
DTSTART;TZID=Europe/Berlin:20241104T133000
DTEND;TZID=Europe/Berlin:20241104T160000
DTSTAMP:20260421T222934
CREATED:20240815T071842Z
LAST-MODIFIED:20240815T082225Z
UID:48826-1730727000-1730736000@www.kommunale-koordinierung.com
SUMMARY:Infomesse: Schule vorbei\, was nun?
DESCRIPTION:Du bist noch planlos\, wo es mit dir nach deinem Abschluss hingehen soll?\n„Schule vorbei\, was nun?“ zeigt dir\, welche Möglichkeiten es für dich in Düsseldorf gibt. \nÜber 25 Aussteller wie Berufskollegs\, IHK\, HWK\, Agentur für Arbeit und viele weitere stellen sich vor. Zudem kannst du mittels VR-Brillen eine virtuelle Reise in verschiedene Berufe machen.\nKomm vorbei und plane deine Zukunft! \nEltern und Lehrkräfte sind ebenso herzlich willkommen. \nWeitere Informationen und Materialien zur Vorbereitung auf die Veranstaltung für Schüler*innen\, Eltern & Lehrkräfte gibt es hier:\nhttps://biwenav.de/schule-vorbei-was-nun \n„Schule vorbei\, was nun?“ ist eine Veranstaltung der Bildungsberatung und der Kommunalen Koordinierung der Landeshauptstadt Düsseldorf.
URL:https://www.kommunale-koordinierung.com/event/infomesse-schule-vorbei-was-nun-2/
LOCATION:B.i.Z.\, Agentur für Arbeit Düsseldorf\, Grafenberger Allee 300\, Düsseldorf\, 40237\, Deutschland
CATEGORIES:Ausbildung,Berufliche Orientierung,Messe
END:VEVENT
END:VCALENDAR