BEGIN:VCALENDAR
VERSION:2.0
PRODID:-//Kommunale Koordinierung - ECPv6.15.20//NONSGML v1.0//EN
CALSCALE:GREGORIAN
METHOD:PUBLISH
X-WR-CALNAME:Kommunale Koordinierung
X-ORIGINAL-URL:https://www.kommunale-koordinierung.com
X-WR-CALDESC:Veranstaltungen für Kommunale Koordinierung
REFRESH-INTERVAL;VALUE=DURATION:PT1H
X-Robots-Tag:noindex
X-PUBLISHED-TTL:PT1H
BEGIN:VTIMEZONE
TZID:Europe/Berlin
BEGIN:DAYLIGHT
TZOFFSETFROM:+0100
TZOFFSETTO:+0200
TZNAME:CEST
DTSTART:20230326T010000
END:DAYLIGHT
BEGIN:STANDARD
TZOFFSETFROM:+0200
TZOFFSETTO:+0100
TZNAME:CET
DTSTART:20231029T010000
END:STANDARD
BEGIN:DAYLIGHT
TZOFFSETFROM:+0100
TZOFFSETTO:+0200
TZNAME:CEST
DTSTART:20240331T010000
END:DAYLIGHT
BEGIN:STANDARD
TZOFFSETFROM:+0200
TZOFFSETTO:+0100
TZNAME:CET
DTSTART:20241027T010000
END:STANDARD
BEGIN:DAYLIGHT
TZOFFSETFROM:+0100
TZOFFSETTO:+0200
TZNAME:CEST
DTSTART:20250330T010000
END:DAYLIGHT
BEGIN:STANDARD
TZOFFSETFROM:+0200
TZOFFSETTO:+0100
TZNAME:CET
DTSTART:20251026T010000
END:STANDARD
END:VTIMEZONE
BEGIN:VEVENT
DTSTART;VALUE=DATE:20241029
DTEND;VALUE=DATE:20241030
DTSTAMP:20260421T222739
CREATED:20240311T101919Z
LAST-MODIFIED:20240311T101919Z
UID:47920-1730160000-1730246399@www.kommunale-koordinierung.com
SUMMARY:Lange Nacht der Industrie
DESCRIPTION:Erklären.Erleben.Begeistern: Jugend im Fokus – die Zukunft beginnt jetzt \nIndustrie braucht Akzeptanz. Die Grundlage dafür ist ein Verständnis\, wie industrielle Wertschöpfung funktioniert. Hier setzt die LANGE NACHT DER INDUSTRIE NRW an. Um deutlich zu machen\, dass Industrie sich lohnt: für den einzelnen durch attraktive Arbeitsplätze. Und für die Gemeinschaft durch Produkte\, die in unserem Leben einen Unterschied machen. \nMit einem besonderen Augenmerk auf die junge Generation wollen wir deshalb zeigen\, dass die Industrie spannende Karrierechancen und innovative Lösungen für die globalen Herausforderungen unserer Zeit bietet. \nWeitere Informationen:\nwww.langenachtderindustrie.nrw
URL:https://www.kommunale-koordinierung.com/event/lange-nacht-der-industrie/
CATEGORIES:Ausbildung,Berufliche Orientierung,Eltern & Teens,Lehrkräfte,Schulen,StuBos,Studienorientierung,Unternehmen
END:VEVENT
BEGIN:VEVENT
DTSTART;VALUE=DATE:20241029
DTEND;VALUE=DATE:20241030
DTSTAMP:20260421T222739
CREATED:20240823T095834Z
LAST-MODIFIED:20240823T095834Z
UID:48986-1730160000-1730246399@www.kommunale-koordinierung.com
SUMMARY:Campusführung an der HSD
DESCRIPTION:  \nWeitere Informationen gibt es unter:\nwww.hs-duesseldorf.de/studium/beratung_und_kontakt/studienberatung/studieninteressierte/veranstaltungen-workshops
URL:https://www.kommunale-koordinierung.com/event/campusfuehrung-an-der-hsd/
LOCATION:Hochschule Düsseldorf\, Münsterstraße 156\, 40476 Düsseldorf\, Deutschland
CATEGORIES:Berufliche Orientierung,Eltern & Teens,Studienorientierung
END:VEVENT
BEGIN:VEVENT
DTSTART;TZID=Europe/Berlin:20241029T150000
DTEND;TZID=Europe/Berlin:20241029T180000
DTSTAMP:20260421T222739
CREATED:20241024T085131Z
LAST-MODIFIED:20241024T085131Z
UID:49414-1730214000-1730224800@www.kommunale-koordinierung.com
SUMMARY:LVR-Berufskolleg Tag der offenen Tür
DESCRIPTION:Das LVR-Berufskolleg Düsseldorf öffnet seine Türen zur Berufsinformation und Ausbildungsanmeldung am: \n29.10.2024 15-18 Uhr \nAn alle Interessent*innen an unserer Ausbildung: \nWir informieren gern zu unseren Ausbildungsgängen. Bitte wenden Sie sich direkt an die Fachrichtungsleitungen – die Kontaktdaten finden Sie unter der jeweiligen Fachrichtung. \n  \n  \nWeitere Informationen:\nLVR-Berufskolleg Düsseldorf
URL:https://www.kommunale-koordinierung.com/event/lvr-berufskolleg-tag-der-offenen-tuer/
LOCATION:LVR-Berufskolleg Düsseldorf\, Am Großen Dern 10\, Düsseldorf\, 40625\, Deutschland
CATEGORIES:Berufskolleg,Eltern & Teens
END:VEVENT
END:VCALENDAR