BEGIN:VCALENDAR
VERSION:2.0
PRODID:-//Kommunale Koordinierung - ECPv6.15.20//NONSGML v1.0//EN
CALSCALE:GREGORIAN
METHOD:PUBLISH
X-ORIGINAL-URL:https://www.kommunale-koordinierung.com
X-WR-CALDESC:Veranstaltungen für Kommunale Koordinierung
REFRESH-INTERVAL;VALUE=DURATION:PT1H
X-Robots-Tag:noindex
X-PUBLISHED-TTL:PT1H
BEGIN:VTIMEZONE
TZID:Europe/Berlin
BEGIN:DAYLIGHT
TZOFFSETFROM:+0100
TZOFFSETTO:+0200
TZNAME:CEST
DTSTART:20230326T010000
END:DAYLIGHT
BEGIN:STANDARD
TZOFFSETFROM:+0200
TZOFFSETTO:+0100
TZNAME:CET
DTSTART:20231029T010000
END:STANDARD
BEGIN:DAYLIGHT
TZOFFSETFROM:+0100
TZOFFSETTO:+0200
TZNAME:CEST
DTSTART:20240331T010000
END:DAYLIGHT
BEGIN:STANDARD
TZOFFSETFROM:+0200
TZOFFSETTO:+0100
TZNAME:CET
DTSTART:20241027T010000
END:STANDARD
BEGIN:DAYLIGHT
TZOFFSETFROM:+0100
TZOFFSETTO:+0200
TZNAME:CEST
DTSTART:20250330T010000
END:DAYLIGHT
BEGIN:STANDARD
TZOFFSETFROM:+0200
TZOFFSETTO:+0100
TZNAME:CET
DTSTART:20251026T010000
END:STANDARD
END:VTIMEZONE
BEGIN:VEVENT
DTSTART;VALUE=DATE:20241014
DTEND;VALUE=DATE:20241019
DTSTAMP:20260422T001525
CREATED:20240823T100234Z
LAST-MODIFIED:20240823T100931Z
UID:48993-1728864000-1729295999@www.kommunale-koordinierung.com
SUMMARY:Schnupperstudium an der HSD
DESCRIPTION:Weitere Informationen gibt es unter:\nwww.hs-duesseldorf.de/studium/beratung_und_kontakt/studienberatung/studieninteressierte/veranstaltungen-workshops/schnupperstudium
URL:https://www.kommunale-koordinierung.com/event/schnupperstudium-an-der-hsd-2/
LOCATION:Hochschule Düsseldorf\, Münsterstraße 156\, 40476 Düsseldorf\, Deutschland
CATEGORIES:Eltern & Teens,Studienorientierung
END:VEVENT
END:VCALENDAR