BEGIN:VCALENDAR
VERSION:2.0
PRODID:-//Kommunale Koordinierung - ECPv6.15.20//NONSGML v1.0//EN
CALSCALE:GREGORIAN
METHOD:PUBLISH
X-WR-CALNAME:Kommunale Koordinierung
X-ORIGINAL-URL:https://www.kommunale-koordinierung.com
X-WR-CALDESC:Veranstaltungen für Kommunale Koordinierung
REFRESH-INTERVAL;VALUE=DURATION:PT1H
X-Robots-Tag:noindex
X-PUBLISHED-TTL:PT1H
BEGIN:VTIMEZONE
TZID:Europe/Berlin
BEGIN:DAYLIGHT
TZOFFSETFROM:+0100
TZOFFSETTO:+0200
TZNAME:CEST
DTSTART:20230326T010000
END:DAYLIGHT
BEGIN:STANDARD
TZOFFSETFROM:+0200
TZOFFSETTO:+0100
TZNAME:CET
DTSTART:20231029T010000
END:STANDARD
BEGIN:DAYLIGHT
TZOFFSETFROM:+0100
TZOFFSETTO:+0200
TZNAME:CEST
DTSTART:20240331T010000
END:DAYLIGHT
BEGIN:STANDARD
TZOFFSETFROM:+0200
TZOFFSETTO:+0100
TZNAME:CET
DTSTART:20241027T010000
END:STANDARD
BEGIN:DAYLIGHT
TZOFFSETFROM:+0100
TZOFFSETTO:+0200
TZNAME:CEST
DTSTART:20250330T010000
END:DAYLIGHT
BEGIN:STANDARD
TZOFFSETFROM:+0200
TZOFFSETTO:+0100
TZNAME:CET
DTSTART:20251026T010000
END:STANDARD
END:VTIMEZONE
BEGIN:VEVENT
DTSTART;TZID=Europe/Berlin:20241009T093000
DTEND;TZID=Europe/Berlin:20241009T123000
DTSTAMP:20260422T014725
CREATED:20240723T105131Z
LAST-MODIFIED:20240723T105131Z
UID:48797-1728466200-1728477000@www.kommunale-koordinierung.com
SUMMARY:Offene Sprechstunde der Reha-Beratung am 09.10.
DESCRIPTION:Die Agentur für Arbeit Düsseldorf bietet für Jugendliche mit besonderem Förderbedarf\, zusätzlich zur bekannten allgemeinen Berufsberatung\, die Beratung durch speziell geschulte Reha-Berufsberater*innen an. \nDie offene Sprechstunde der Reha-Beratung findet jeden zweiten Mittwoch im Monat von 09:30-12:30 Uhr im Zentrum für Berufsorientierung und Übergänge\, 4. Etage\, rechter Flur\, statt. \nEltern\, Lehrkräfte und Schülerinnen und Schüler können ohne Anmeldung vorbeikommen und sich vom Reha-Beratungsteam der Agentur für Arbeit beraten lassen. Beim Besuch mit einer Schülergruppe ist eine Voranmeldung sinnvoll\, um im Vorfeld Themen abzusprechen. \nFür Rückfragen steht Ihnen Frau Scheid gern zur Verfügung! \nKontakt Reha-Beratung:\nAgentur für Arbeit Düsseldorf – Team Reha/SB\nDuesseldorf.261-Reha@arbeitsagentur.de
URL:https://www.kommunale-koordinierung.com/event/offene-sprechstunde-der-reha-beratung-am-09-10/
LOCATION:ZBÜ\, Willi-Becker-Allee 10\, Düsseldorf\, 40227\, Deutschland
CATEGORIES:Berufliche Orientierung,BO mit Förderbedarf
END:VEVENT
BEGIN:VEVENT
DTSTART;TZID=Europe/Berlin:20241009T150000
DTEND;TZID=Europe/Berlin:20241009T173000
DTSTAMP:20260422T014725
CREATED:20240903T122430Z
LAST-MODIFIED:20241007T094447Z
UID:49141-1728486000-1728495000@www.kommunale-koordinierung.com
SUMMARY:#PopUpBeratung: Beratungsnachmittag am Max-Weber-Berufskolleg - mit FOS Polizei!
DESCRIPTION:Du stehst kurz vor dem Abschluss der Klasse 10 und überlegst\, wie es weitergehen soll? Am Max-Weber-Berufskolleg bieten wir dir verschiedene Wege zur Fachhochschulreife an. Finde heraus\, welcher Bildungsweg am besten zu dir passt! \nWir laden dich herzlich zu unserem Beratungsnachmittag ein\, um dich über die drei Möglichkeiten zu informieren\, die du bei uns hast: \n1.Fachoberschule (FOS) Polizei \n\nKlasse 11: 2 Tage Schule\, 3 Tage Praktikum bei der Polizei Düsseldorf\nKlasse 12: 5 Tage Schule\nDirekt im Anschluss: Studium an der Hochschule für Polizei und öffentliche Verwaltung (HSPV)\nBewerbungsfrist: 11.2024\nWeitere Information zur Bewerbung bei der Polizei NRW: Next Level Fachoberschule Polizei\n\n2. Höhere Handelsschule \n\nVollzeitunterricht über zwei Jahre\nErwerb der Fachhochschulreife (schulischer Teil)\n\n\n3. FOS 11/12 \n\nKlasse 11: 2 Tage Schule\, 3 Tage Praktikum bei der Polizei Düsseldorf\nKlasse 12: 5 Tage Schule\nErwerb der Fachhochschulreife (schulischer und berufsbezogener Teil)\nKombination aus Praxis und Theorie für eine praxisorientierte Ausbildung\n\nErfahre mehr über die Unterschiede dieser Bildungsgänge und welcher Weg zu deinen beruflichen Zielen passt. Unsere Lehrer*innen stehen dir für persönliche Gespräche und individuelle Beratungen zur Verfügung! \nMelde dich jetzt an:\nAnmeldelink für den Beratungsnachmittag \nWeitere Informationen zu den einzelnen Bildungsgängen findest hier:\nFOS Polizei am Max-Weber-Berufskolleg \nHöhere Handelsschule am Max-Weber-Berufskolleg \nFOS 11/12 am Max-Weber-Berufskolleg
URL:https://www.kommunale-koordinierung.com/event/beratungsnachmittag-max-weber-bk-2024/
LOCATION:Max-Weber-Berufskolleg\, Suitbertusstraße 163-165\, Düsseldorf
CATEGORIES:Berufliche Orientierung,Eltern & Teens,Schulen
END:VEVENT
END:VCALENDAR