BEGIN:VCALENDAR
VERSION:2.0
PRODID:-//Kommunale Koordinierung - ECPv6.15.20//NONSGML v1.0//EN
CALSCALE:GREGORIAN
METHOD:PUBLISH
X-ORIGINAL-URL:https://www.kommunale-koordinierung.com
X-WR-CALDESC:Veranstaltungen für Kommunale Koordinierung
REFRESH-INTERVAL;VALUE=DURATION:PT1H
X-Robots-Tag:noindex
X-PUBLISHED-TTL:PT1H
BEGIN:VTIMEZONE
TZID:Europe/Berlin
BEGIN:DAYLIGHT
TZOFFSETFROM:+0100
TZOFFSETTO:+0200
TZNAME:CEST
DTSTART:20230326T010000
END:DAYLIGHT
BEGIN:STANDARD
TZOFFSETFROM:+0200
TZOFFSETTO:+0100
TZNAME:CET
DTSTART:20231029T010000
END:STANDARD
BEGIN:DAYLIGHT
TZOFFSETFROM:+0100
TZOFFSETTO:+0200
TZNAME:CEST
DTSTART:20240331T010000
END:DAYLIGHT
BEGIN:STANDARD
TZOFFSETFROM:+0200
TZOFFSETTO:+0100
TZNAME:CET
DTSTART:20241027T010000
END:STANDARD
BEGIN:DAYLIGHT
TZOFFSETFROM:+0100
TZOFFSETTO:+0200
TZNAME:CEST
DTSTART:20250330T010000
END:DAYLIGHT
BEGIN:STANDARD
TZOFFSETFROM:+0200
TZOFFSETTO:+0100
TZNAME:CET
DTSTART:20251026T010000
END:STANDARD
END:VTIMEZONE
BEGIN:VEVENT
DTSTART;TZID=Europe/Berlin:20240928T100000
DTEND;TZID=Europe/Berlin:20240928T160000
DTSTAMP:20260422T015040
CREATED:20240122T090531Z
LAST-MODIFIED:20241004T091035Z
UID:47724-1727517600-1727539200@www.kommunale-koordinierung.com
SUMMARY:Stuzubi Düsseldorf - Messe für Ausbildung & Studium - mit Erlebniswelt Handwerk!
DESCRIPTION:Was soll ich nach dem Abschluss machen? Eine Ausbildung?\nOder besser ein Studium?\nInformier‘ dich vor Ort und finde deinen Ausbildungs- oder Studienplatz im Raum Düsseldorf. \nBei der Stuzubi erwarten dich zahlreiche Hochschulen und Ausbildungsbetriebe aus der Region. \nZudem kannst du einen Orientierungstest mit Matching machen. \nAuch die Erlebniswelt Handwerk ist wieder mit dabei. Hier kannst du dich über zahlreiche zukunftssichere Ausbildungs- und Studienberufe im Handwerk informieren. Probiere dich aus und entdecke Neues! \nFlyer zur Erlebniswelt Handwerk  \nWeitere Informationen gibt es unter:\nhttps://stuzubi.de/messen/duesseldorf
URL:https://www.kommunale-koordinierung.com/event/stuzubi-duesseldorf-messe-fuer-ausbildung-studium/
LOCATION:Mitsubishi Electric Halle\, Siegburger Str. 15\, Düsseldorf\, 40591\, Deutschland
CATEGORIES:Ausbildung,Berufliche Orientierung,Eltern & Teens,Geflüchtete,Studienorientierung
END:VEVENT
BEGIN:VEVENT
DTSTART;TZID=Europe/Berlin:20240928T100000
DTEND;TZID=Europe/Berlin:20240928T160000
DTSTAMP:20260422T015040
CREATED:20240627T090725Z
LAST-MODIFIED:20240627T090725Z
UID:48484-1727517600-1727539200@www.kommunale-koordinierung.com
SUMMARY:JuBi – Die Jugend­­­­­Bildungsmess­e
DESCRIPTION:Die JugendBildungsmesse JuBi ist die bundesweit größte Spezial-Messe zum Thema Schule\, Reisen\, Lernen und Leben im Ausland. Über 100 Austauschorganisationen und internationale Bildungseinrichtungen informieren auf der JuBi-Tour über alle Facetten von Auslandsaufenthalten und stellen ihre Programme und Stipendienangebote vor. \nDie Beratung zu Themen wie Auslandsjahr\, Schüleraustausch\, High School-Aufenthalte\, Gastfamilie werden\, Sprachreisen\, Au-Pair\, Work & Travel\, Freiwilligenarbeit\, Praktika und Studium im Ausland erfolgt persönlich an den Ständen der Aussteller:innen durch Bildungsexpert:innen und ehemalige Programmteilnehmer:innen. \nDu bist Schüler:in\, Azubi oder Student:in? Du möchtest ins Ausland? Dann komm zur JuBi\, wo Träume zu Plänen werden! \nDie Teilnahme ist kostenfrei! \nWeitere Infos gibt es unter:\nhttps://weltweiser.de/jugendbildungsmessen/
URL:https://www.kommunale-koordinierung.com/event/jubi-die-jugendbildungsmesse/
LOCATION:Heinrich-Heine-Gesamtschule\, Graf-Recke-Str. 170\, Düsseldorf\, 40237\, Deutschland
CATEGORIES:Berufliche Orientierung,Eltern & Teens
END:VEVENT
END:VCALENDAR