BEGIN:VCALENDAR
VERSION:2.0
PRODID:-//Kommunale Koordinierung - ECPv6.15.20//NONSGML v1.0//EN
CALSCALE:GREGORIAN
METHOD:PUBLISH
X-WR-CALNAME:Kommunale Koordinierung
X-ORIGINAL-URL:https://www.kommunale-koordinierung.com
X-WR-CALDESC:Veranstaltungen für Kommunale Koordinierung
REFRESH-INTERVAL;VALUE=DURATION:PT1H
X-Robots-Tag:noindex
X-PUBLISHED-TTL:PT1H
BEGIN:VTIMEZONE
TZID:Europe/Berlin
BEGIN:DAYLIGHT
TZOFFSETFROM:+0100
TZOFFSETTO:+0200
TZNAME:CEST
DTSTART:20230326T010000
END:DAYLIGHT
BEGIN:STANDARD
TZOFFSETFROM:+0200
TZOFFSETTO:+0100
TZNAME:CET
DTSTART:20231029T010000
END:STANDARD
BEGIN:DAYLIGHT
TZOFFSETFROM:+0100
TZOFFSETTO:+0200
TZNAME:CEST
DTSTART:20240331T010000
END:DAYLIGHT
BEGIN:STANDARD
TZOFFSETFROM:+0200
TZOFFSETTO:+0100
TZNAME:CET
DTSTART:20241027T010000
END:STANDARD
BEGIN:DAYLIGHT
TZOFFSETFROM:+0100
TZOFFSETTO:+0200
TZNAME:CEST
DTSTART:20250330T010000
END:DAYLIGHT
BEGIN:STANDARD
TZOFFSETFROM:+0200
TZOFFSETTO:+0100
TZNAME:CET
DTSTART:20251026T010000
END:STANDARD
END:VTIMEZONE
BEGIN:VEVENT
DTSTART;TZID=Europe/Berlin:20240920T090000
DTEND;TZID=Europe/Berlin:20240920T130000
DTSTAMP:20260422T014658
CREATED:20240826T111735Z
LAST-MODIFIED:20240826T112600Z
UID:49036-1726822800-1726837200@www.kommunale-koordinierung.com
SUMMARY:JOBMEDI - Berufsinformationsmesse zu Gesundheit\, Pflege & Soziales
DESCRIPTION:Die JOBMEDI NRW – die Berufsmesse\, die ausschließlich Berufe im Gesundheits- und Sozialwesen und aus der Pflege ins Rampenlicht stellt. \nEs erwarten Euch/Sie in der GRUGAHALLE/Messe Essen rund 80 Aussteller\, die den Gesundheitssektor der Region NRW und auch überregional repräsentieren! Dazu zählen zahlreiche Kliniken\, Senioreneinrichtungen\, Wohlfahrtsverbände\, Hochschulen und Pflegefachschulen. \nJobs\, Weiterbildung\, Praktikum\, Ausbildung\, Studium … \nDen Traumjob kennenlernen oder einfach über die zahlreichen Berufsperspektiven im Gesundheits-\, Pflege- und Sozialwesen informieren! \nIhr seid/Sie sind herzlich willkommen! Der Eintritt ist frei! \nWeitere Infos unter: www.jobmedi.de
URL:https://www.kommunale-koordinierung.com/event/jobmedi-nrw/
LOCATION:Grugahalle Essen\, Messeplatz 2\, Essen\, Deutschland
CATEGORIES:Berufliche Orientierung,Eltern & Teens,Messe
END:VEVENT
END:VCALENDAR