BEGIN:VCALENDAR
VERSION:2.0
PRODID:-//Kommunale Koordinierung - ECPv6.15.20//NONSGML v1.0//EN
CALSCALE:GREGORIAN
METHOD:PUBLISH
X-WR-CALNAME:Kommunale Koordinierung
X-ORIGINAL-URL:https://www.kommunale-koordinierung.com
X-WR-CALDESC:Veranstaltungen für Kommunale Koordinierung
REFRESH-INTERVAL;VALUE=DURATION:PT1H
X-Robots-Tag:noindex
X-PUBLISHED-TTL:PT1H
BEGIN:VTIMEZONE
TZID:Europe/Berlin
BEGIN:DAYLIGHT
TZOFFSETFROM:+0100
TZOFFSETTO:+0200
TZNAME:CEST
DTSTART:20230326T010000
END:DAYLIGHT
BEGIN:STANDARD
TZOFFSETFROM:+0200
TZOFFSETTO:+0100
TZNAME:CET
DTSTART:20231029T010000
END:STANDARD
BEGIN:DAYLIGHT
TZOFFSETFROM:+0100
TZOFFSETTO:+0200
TZNAME:CEST
DTSTART:20240331T010000
END:DAYLIGHT
BEGIN:STANDARD
TZOFFSETFROM:+0200
TZOFFSETTO:+0100
TZNAME:CET
DTSTART:20241027T010000
END:STANDARD
BEGIN:DAYLIGHT
TZOFFSETFROM:+0100
TZOFFSETTO:+0200
TZNAME:CEST
DTSTART:20250330T010000
END:DAYLIGHT
BEGIN:STANDARD
TZOFFSETFROM:+0200
TZOFFSETTO:+0100
TZNAME:CET
DTSTART:20251026T010000
END:STANDARD
END:VTIMEZONE
BEGIN:VEVENT
DTSTART;TZID=Europe/Berlin:20240913T090000
DTEND;TZID=Europe/Berlin:20240913T170000
DTSTAMP:20260422T030345
CREATED:20240523T105453Z
LAST-MODIFIED:20240830T083129Z
UID:48318-1726218000-1726246800@www.kommunale-koordinierung.com
SUMMARY:Mitmachmesse "Lust auf Pflege & Soziales"
DESCRIPTION:Mit 35 spannenden Aktionen präsentieren zahlreiche Träger und Institutionen aus dem Bereich „Pflege & Soziales“ am 13.09. ihr Berufsfeld – hier kann direkt ausprobiert und mitgemacht werden! \nDarüber hinaus gibt es ein umfangreiches Informationsangebot rund um Ausbildung und Karrieremöglichkeiten in sozialen und pflegenden Berufen. \nDie Mitmachmesse findet im UFA-Palast am Düsseldorfer Hauptbahnhof statt. \nSie ist eine gemeinsame Veranstaltung der Kommunalen Koordinierung und des Jugendamts der Landeshauptstadt Düsseldorf sowie der Liga Wohlfahrt. \nDie Messe wird vorrangig von Schulen nach vorheriger Anmeldung besucht. Für Einzelpersonen oder Kleingruppen ist die Messe ohne Anmeldung geöffnet. \nWeitere Informationen gibt es unter:\nwww.lust-auf-pflege-und-soziales.de
URL:https://www.kommunale-koordinierung.com/event/mitmachmesse-lust-auf-pflege-soziales/
LOCATION:UFA-Palast Düsseldorf\, Worringer Straße 142\, Düsseldorf\, 40210
CATEGORIES:Ausbildung,Berufliche Orientierung,Eltern & Teens,Geflüchtete,Lehrkräfte,Messe,Schulen,StuBos
END:VEVENT
END:VCALENDAR