BEGIN:VCALENDAR
VERSION:2.0
PRODID:-//Kommunale Koordinierung - ECPv6.15.20//NONSGML v1.0//EN
CALSCALE:GREGORIAN
METHOD:PUBLISH
X-WR-CALNAME:Kommunale Koordinierung
X-ORIGINAL-URL:https://www.kommunale-koordinierung.com
X-WR-CALDESC:Veranstaltungen für Kommunale Koordinierung
REFRESH-INTERVAL;VALUE=DURATION:PT1H
X-Robots-Tag:noindex
X-PUBLISHED-TTL:PT1H
BEGIN:VTIMEZONE
TZID:Europe/Berlin
BEGIN:DAYLIGHT
TZOFFSETFROM:+0100
TZOFFSETTO:+0200
TZNAME:CEST
DTSTART:20230326T010000
END:DAYLIGHT
BEGIN:STANDARD
TZOFFSETFROM:+0200
TZOFFSETTO:+0100
TZNAME:CET
DTSTART:20231029T010000
END:STANDARD
BEGIN:DAYLIGHT
TZOFFSETFROM:+0100
TZOFFSETTO:+0200
TZNAME:CEST
DTSTART:20240331T010000
END:DAYLIGHT
BEGIN:STANDARD
TZOFFSETFROM:+0200
TZOFFSETTO:+0100
TZNAME:CET
DTSTART:20241027T010000
END:STANDARD
BEGIN:DAYLIGHT
TZOFFSETFROM:+0100
TZOFFSETTO:+0200
TZNAME:CEST
DTSTART:20250330T010000
END:DAYLIGHT
BEGIN:STANDARD
TZOFFSETFROM:+0200
TZOFFSETTO:+0100
TZNAME:CET
DTSTART:20251026T010000
END:STANDARD
END:VTIMEZONE
BEGIN:VEVENT
DTSTART;TZID=Europe/Berlin:20240912T143000
DTEND;TZID=Europe/Berlin:20240912T153000
DTSTAMP:20260422T014753
CREATED:20240820T065810Z
LAST-MODIFIED:20240820T120645Z
UID:48888-1726151400-1726155000@www.kommunale-koordinierung.com
SUMMARY:Online-Informationsveranstaltung zur Berufswahl-SIEGEL-Bewerbung 2024
DESCRIPTION:Alle Erst- und Re-Zertifizierer-Schulen sind herzlich eingeladen\, sich über den gesamten SIEGEL-Prozess sowie die schriftliche Bewerbung zu informieren\, um sich optimal auf eine erfolgreiche Zertifizierung als SIEGEL-berufswahl- und ausbildungsfreundliche Schule vorzubereiten. \nBitte melden Sie sich bis zum 05.09.24 zur Veranstaltung an : \n\n\n\n 
URL:https://www.kommunale-koordinierung.com/event/hybride-informationsveranstaltung-zur-berufswahl-siegel-bewerbung-2024/
LOCATION:Online
CATEGORIES:Berufliche Orientierung,Lehrkräfte,StuBos
END:VEVENT
END:VCALENDAR