BEGIN:VCALENDAR
VERSION:2.0
PRODID:-//Kommunale Koordinierung - ECPv6.15.20//NONSGML v1.0//EN
CALSCALE:GREGORIAN
METHOD:PUBLISH
X-ORIGINAL-URL:https://www.kommunale-koordinierung.com
X-WR-CALDESC:Veranstaltungen für Kommunale Koordinierung
REFRESH-INTERVAL;VALUE=DURATION:PT1H
X-Robots-Tag:noindex
X-PUBLISHED-TTL:PT1H
BEGIN:VTIMEZONE
TZID:Europe/Berlin
BEGIN:DAYLIGHT
TZOFFSETFROM:+0100
TZOFFSETTO:+0200
TZNAME:CEST
DTSTART:20230326T010000
END:DAYLIGHT
BEGIN:STANDARD
TZOFFSETFROM:+0200
TZOFFSETTO:+0100
TZNAME:CET
DTSTART:20231029T010000
END:STANDARD
BEGIN:DAYLIGHT
TZOFFSETFROM:+0100
TZOFFSETTO:+0200
TZNAME:CEST
DTSTART:20240331T010000
END:DAYLIGHT
BEGIN:STANDARD
TZOFFSETFROM:+0200
TZOFFSETTO:+0100
TZNAME:CET
DTSTART:20241027T010000
END:STANDARD
BEGIN:DAYLIGHT
TZOFFSETFROM:+0100
TZOFFSETTO:+0200
TZNAME:CEST
DTSTART:20250330T010000
END:DAYLIGHT
BEGIN:STANDARD
TZOFFSETFROM:+0200
TZOFFSETTO:+0100
TZNAME:CET
DTSTART:20251026T010000
END:STANDARD
END:VTIMEZONE
BEGIN:VEVENT
DTSTART;TZID=Europe/Berlin:20240911T093000
DTEND;TZID=Europe/Berlin:20240911T123000
DTSTAMP:20260422T015054
CREATED:20240723T105000Z
LAST-MODIFIED:20240723T105039Z
UID:48794-1726047000-1726057800@www.kommunale-koordinierung.com
SUMMARY:Offene Sprechstunde der Reha-Beratung am 11.09.
DESCRIPTION:Die Agentur für Arbeit Düsseldorf bietet für Jugendliche mit besonderem Förderbedarf\, zusätzlich zur bekannten allgemeinen Berufsberatung\, die Beratung durch speziell geschulte Reha-Berufsberater*innen an. \nDie offene Sprechstunde der Reha-Beratung findet jeden zweiten Mittwoch im Monat von 09:30-12:30 Uhr im Zentrum für Berufsorientierung und Übergänge\, 4. Etage\, rechter Flur\, statt. \nEltern\, Lehrkräfte und Schülerinnen und Schüler können ohne Anmeldung vorbeikommen und sich vom Reha-Beratungsteam der Agentur für Arbeit beraten lassen. Beim Besuch mit einer Schülergruppe ist eine Voranmeldung sinnvoll\, um im Vorfeld Themen abzusprechen. \nFür Rückfragen steht Ihnen Frau Scheid gern zur Verfügung! \nKontakt Reha-Beratung:\nAgentur für Arbeit Düsseldorf – Team Reha/SB\nDuesseldorf.261-Reha@arbeitsagentur.de
URL:https://www.kommunale-koordinierung.com/event/offene-sprechstunde-der-reha-beratung-am-11-09/
LOCATION:ZBÜ\, Willi-Becker-Allee 10\, Düsseldorf\, 40227\, Deutschland
CATEGORIES:Berufliche Orientierung,BO mit Förderbedarf
END:VEVENT
BEGIN:VEVENT
DTSTART;TZID=Europe/Berlin:20240911T123000
DTEND;TZID=Europe/Berlin:20240911T173000
DTSTAMP:20260422T015054
CREATED:20240311T094117Z
LAST-MODIFIED:20240614T105012Z
UID:47918-1726057800-1726075800@www.kommunale-koordinierung.com
SUMMARY:Jobmesse Düsseldorf
DESCRIPTION:Bist du auf der Suche nach einem erfüllendem Job\, einer geeigneten Weiterbildung oder möchtest beruflich ganz neu durchstarten? Oder suchst du eine Ausbildung oder einen Studienplatz? \nDann komm zum Düsseldorfer Karrieretag in der Merkur Spiel-Arena am 11. September 2024. \nNamhafte Unternehmen und auch Bildungseinrichtungen präsentieren umfangreiche Karrieremöglichkeiten in deiner Region. \nAuf der Messe hast du somit die Möglichkeit direkt mit den verschiedensten Ausstellern ins Gespräch zukommen und deinen zukünftigen Arbeitgeber persönlich kennenzulernen. \nWeitere Informationen unter:\nJobmesse Düsseldorf
URL:https://www.kommunale-koordinierung.com/event/jobmesse-duesseldorf-2/
LOCATION:Merkur Spiel-Arena (Stadion Fortuna Düsseldorf)\, Arena-Straße 1\, Düsseldorf\, 40474\, Deutschland
CATEGORIES:Berufliche Orientierung,Eltern & Teens,Geflüchtete,Messe,Schulen,Studienorientierung,Unternehmen
END:VEVENT
BEGIN:VEVENT
DTSTART;TZID=Europe/Berlin:20240911T150000
DTEND;TZID=Europe/Berlin:20240911T170000
DTSTAMP:20260422T015054
CREATED:20240826T120534Z
LAST-MODIFIED:20240826T120618Z
UID:49051-1726066800-1726074000@www.kommunale-koordinierung.com
SUMMARY:HHU-Sprechstunde im KAP
DESCRIPTION:Der Studierenden-Service der Heinrich-Heine-Universität ist einmal im Monat zur Studienberatung im KAP1 für euch da! \nKommt vorbei\, wenn ihr wissen wollt\, ob ein Studium zu euch passt\, welches Studium das Richtige sein könnte\, wie ihr euch für ein Studium bewerbt\, welche Schnuppertage und Praktika es an der Uni Düsseldorf gibt. Wir haben auch ein offenes Ohr\, wenn ihr einfach mal über euch und eure Zukunftsideen sprechen wollt. Wir reden offen\, vertraulich und konstruktiv miteinander. Ihr müsst im Gespräch nichts leisten\, sondern nur über euch erzählen. Fast immer seid ihr danach ein bisschen schlauer und wisst besser\, wer ihr seid und was zu euch passt. \nDie Beratung ist kostenfrei. Eine Anmeldung ist nicht erforderlich.
URL:https://www.kommunale-koordinierung.com/event/hhu-sprechstunde-im-kap/
LOCATION:Zentralbibliothek\, Konrad-Adenauer-Platz 1\, Düsseldorf\, 40210
CATEGORIES:Eltern & Teens,Studienorientierung
END:VEVENT
END:VCALENDAR