BEGIN:VCALENDAR
VERSION:2.0
PRODID:-//Kommunale Koordinierung - ECPv6.15.20//NONSGML v1.0//EN
CALSCALE:GREGORIAN
METHOD:PUBLISH
X-WR-CALNAME:Kommunale Koordinierung
X-ORIGINAL-URL:https://www.kommunale-koordinierung.com
X-WR-CALDESC:Veranstaltungen für Kommunale Koordinierung
REFRESH-INTERVAL;VALUE=DURATION:PT1H
X-Robots-Tag:noindex
X-PUBLISHED-TTL:PT1H
BEGIN:VTIMEZONE
TZID:Europe/Berlin
BEGIN:DAYLIGHT
TZOFFSETFROM:+0100
TZOFFSETTO:+0200
TZNAME:CEST
DTSTART:20230326T010000
END:DAYLIGHT
BEGIN:STANDARD
TZOFFSETFROM:+0200
TZOFFSETTO:+0100
TZNAME:CET
DTSTART:20231029T010000
END:STANDARD
BEGIN:DAYLIGHT
TZOFFSETFROM:+0100
TZOFFSETTO:+0200
TZNAME:CEST
DTSTART:20240331T010000
END:DAYLIGHT
BEGIN:STANDARD
TZOFFSETFROM:+0200
TZOFFSETTO:+0100
TZNAME:CET
DTSTART:20241027T010000
END:STANDARD
BEGIN:DAYLIGHT
TZOFFSETFROM:+0100
TZOFFSETTO:+0200
TZNAME:CEST
DTSTART:20250330T010000
END:DAYLIGHT
BEGIN:STANDARD
TZOFFSETFROM:+0200
TZOFFSETTO:+0100
TZNAME:CET
DTSTART:20251026T010000
END:STANDARD
END:VTIMEZONE
BEGIN:VEVENT
DTSTART;VALUE=DATE:20240831
DTEND;VALUE=DATE:20240901
DTSTAMP:20260422T014641
CREATED:20240823T074542Z
LAST-MODIFIED:20240823T074542Z
UID:48946-1725062400-1725148799@www.kommunale-koordinierung.com
SUMMARY:Energiespartag 2024 auf dem Schadowplatz
DESCRIPTION:Ideal für Eltern und Teens: Beim Energiespartag 2024 auf dem Schadowplatz erfahrt ihr nicht nur alles rund um Energiesparen in Haus/Wohnung und Themen wie Balkonkraftwerke\, Wärmepumpe\, Photovoltaikanlage und Energiespeichermöglichkeiten. \nSchülerinnen und und Schüler können sich dort auch gezielt über Berufe\, Praktikums- und Ausbildungsmöglichkeiten und Karrieremöglichkeiten in den Gewerken Elektrotechnik\, Maler-Handwerk und Sanitär\, Heizung Klimatechnik informieren. \nKomm vorbei und informiere dich über spannende Berufe mit Zukunft! \nWeitere Infos unter:\nhttps://energiespartag2024.de
URL:https://www.kommunale-koordinierung.com/event/energiespartag-2024-auf-dem-schadowplatz/
CATEGORIES:Ausbildung,Berufliche Orientierung,Eltern & Teens
END:VEVENT
END:VCALENDAR