BEGIN:VCALENDAR
VERSION:2.0
PRODID:-//Kommunale Koordinierung - ECPv6.15.20//NONSGML v1.0//EN
CALSCALE:GREGORIAN
METHOD:PUBLISH
X-WR-CALNAME:Kommunale Koordinierung
X-ORIGINAL-URL:https://www.kommunale-koordinierung.com
X-WR-CALDESC:Veranstaltungen für Kommunale Koordinierung
REFRESH-INTERVAL;VALUE=DURATION:PT1H
X-Robots-Tag:noindex
X-PUBLISHED-TTL:PT1H
BEGIN:VTIMEZONE
TZID:Europe/Berlin
BEGIN:DAYLIGHT
TZOFFSETFROM:+0100
TZOFFSETTO:+0200
TZNAME:CEST
DTSTART:20230326T010000
END:DAYLIGHT
BEGIN:STANDARD
TZOFFSETFROM:+0200
TZOFFSETTO:+0100
TZNAME:CET
DTSTART:20231029T010000
END:STANDARD
BEGIN:DAYLIGHT
TZOFFSETFROM:+0100
TZOFFSETTO:+0200
TZNAME:CEST
DTSTART:20240331T010000
END:DAYLIGHT
BEGIN:STANDARD
TZOFFSETFROM:+0200
TZOFFSETTO:+0100
TZNAME:CET
DTSTART:20241027T010000
END:STANDARD
BEGIN:DAYLIGHT
TZOFFSETFROM:+0100
TZOFFSETTO:+0200
TZNAME:CEST
DTSTART:20250330T010000
END:DAYLIGHT
BEGIN:STANDARD
TZOFFSETFROM:+0200
TZOFFSETTO:+0100
TZNAME:CET
DTSTART:20251026T010000
END:STANDARD
END:VTIMEZONE
BEGIN:VEVENT
DTSTART;TZID=Europe/Berlin:20240731T120000
DTEND;TZID=Europe/Berlin:20240731T150000
DTSTAMP:20260422T032523
CREATED:20240627T112554Z
LAST-MODIFIED:20240627T112554Z
UID:48486-1722427200-1722438000@www.kommunale-koordinierung.com
SUMMARY:Berufsberatung für junge Erwachsene in der Arbeitsagentur Düsseldorf
DESCRIPTION:Du weißt noch nicht\, wie es nach deinem Schulabschluss weitergeht? Dann komm einfach vorbei und lass dich beraten! \nWann? 31.07.\, 12-15 Uhr\nWo? Agentur für Arbeit Düsseldorf\, Grafenberger Allee 300 \nEine Anmeldung ist nicht erforderlich. Das Team der Arbeitsagentur Düsseldorf freut sich auf dich!
URL:https://www.kommunale-koordinierung.com/event/berufsberatung-fuer-junge-erwachsene-in-der-arbeitsagentur-duesseldorf/
LOCATION:Agentur für Arbeit Düsseldorf\, Grafenberger Allee 300\, Düsseldorf\, 40237
CATEGORIES:Ausbildung,Berufliche Orientierung,Eltern & Teens
END:VEVENT
END:VCALENDAR