BEGIN:VCALENDAR
VERSION:2.0
PRODID:-//Kommunale Koordinierung - ECPv6.15.20//NONSGML v1.0//EN
CALSCALE:GREGORIAN
METHOD:PUBLISH
X-WR-CALNAME:Kommunale Koordinierung
X-ORIGINAL-URL:https://www.kommunale-koordinierung.com
X-WR-CALDESC:Veranstaltungen für Kommunale Koordinierung
REFRESH-INTERVAL;VALUE=DURATION:PT1H
X-Robots-Tag:noindex
X-PUBLISHED-TTL:PT1H
BEGIN:VTIMEZONE
TZID:Europe/Berlin
BEGIN:DAYLIGHT
TZOFFSETFROM:+0100
TZOFFSETTO:+0200
TZNAME:CEST
DTSTART:20230326T010000
END:DAYLIGHT
BEGIN:STANDARD
TZOFFSETFROM:+0200
TZOFFSETTO:+0100
TZNAME:CET
DTSTART:20231029T010000
END:STANDARD
BEGIN:DAYLIGHT
TZOFFSETFROM:+0100
TZOFFSETTO:+0200
TZNAME:CEST
DTSTART:20240331T010000
END:DAYLIGHT
BEGIN:STANDARD
TZOFFSETFROM:+0200
TZOFFSETTO:+0100
TZNAME:CET
DTSTART:20241027T010000
END:STANDARD
BEGIN:DAYLIGHT
TZOFFSETFROM:+0100
TZOFFSETTO:+0200
TZNAME:CEST
DTSTART:20250330T010000
END:DAYLIGHT
BEGIN:STANDARD
TZOFFSETFROM:+0200
TZOFFSETTO:+0100
TZNAME:CET
DTSTART:20251026T010000
END:STANDARD
END:VTIMEZONE
BEGIN:VEVENT
DTSTART;TZID=Europe/Berlin:20240729T150000
DTEND;TZID=Europe/Berlin:20240729T180000
DTSTAMP:20260422T032432
CREATED:20240705T064211Z
LAST-MODIFIED:20240705T064211Z
UID:48555-1722265200-1722276000@www.kommunale-koordinierung.com
SUMMARY:Wie geht es nach der Schule weiter? Beratung in der Bücherei Garath
DESCRIPTION:Die Arbeitsagentur berät in der Stadtbücherei Garath Jugendliche und Eltern zu folgenden Themen: \n– Wie kann es nach der Schule weitergehen?\n– Ausbildung\, weiterführende Schule\, Studium …\n– Welcher Beruf passt zu Dir/Ihrem Nachwuchs?\n– Wie können Eltern ihre Kinder im vielfältigen Dschungel der Berufsorientierung bestmöglich unterstützen? \nTipp: Vor Ort kannst du Berufe mit VR-Brillen testen! \nDer Eintritt ist frei. Eine Anmeldung ist nicht erforderlich.
URL:https://www.kommunale-koordinierung.com/event/wie-geht-es-nach-der-schule-weiter-beratung-in-der-buecherei-garath/
LOCATION:Stadtbücherei Garath\, Fritz-Erler-Straße 21\, Düsseldorf\, 40595
CATEGORIES:Ausbildung,Berufliche Orientierung,Eltern & Teens
END:VEVENT
END:VCALENDAR